{"text_format":"1","workbook":"xlsx","n_sheets":6,"sheets":["הזנת אירועים","מסלול החיים","גרפים","מה אפשר לעשות","היסטוריית גירסאות","סגמנטים"],"not_rendered":{"charts":2,"images":5,"macros":1,"external_links":0,"defined_names":0,"comments":2,"pivot_tables":0},"unopened":[],"bounds":{"document_bytes":16777216,"sheet_cells":100000,"rows_first":2000,"rows_last":500,"rows_between":2000,"halvings":0,"cell_chars":16384,"cell_head_chars":4096},"cells_cut":0,"cells_raw":0,"read":"whole","date_system":"1900"}

{"sheet":"הזנת אירועים","index":0,"n_rows":101,"n_cols":12,"rows_kept":101,"cut":false,"hidden":false,"merged":[[6,2,6,4]]}
[]
[]
[]
[null,null,null,null,null,null,null,null,null,"גירסה: 310121"]
[null,"טבלת אירועים למסלול החיים",null,null,null,null,null,null,null,"             הורידו גרסה אחרונה"]
[null,"מלאו את הטבלה לפי ההנחיות שבראש העמודות (נראות בהעברת הסמן)."]
[null,"להרחבה בנושא מסלול החיים ראו את ","מדריך פעמונים לשמירה על יציבות כלכלית"]
[null,"האירוע","הכבדה / הקלה על התקציב","חודש ושנת התחלה","למשך כמה חודשים?","השפעה כספית בחודש [₪]","סה\"כ לאירוע","סדר עדיפויות","מקור מימון",null,"אימות להשפעה כספית","אימות לסה\"כ לאירוע"]
[{"$f":"B9<>\"\"","v":false},null,null,null,null,{"$f":"IF(E9=סגמנטים!$F$2,'הזנת אירועים'!G9,0)","v":0},{"$f":"IF(AND(E9>1,E9<997),F9*E9,\"\")","v":""},null,null,{"$f":"IF(I9<>\"\",סגמנטים!$H$10,)","v":0},{"$f":"AND(F9>=0,OR(C9=סגמנטים!$D$2,C9=סגמנטים!$D$3))","v":false},{"$f":"AND(G9>=0,OR(C9=סגמנטים!$D$2,C9=סגמנטים!$D$3))","v":false}]
[{"$f":"B10<>\"\"","v":false},null,null,null,null,{"$f":"IF(E10=סגמנטים!$F$2,'הזנת אירועים'!G10,0)","v":0},{"$f":"IF(AND(E10>1,E10<997),F10*E10,\"\")","v":""},null,null,{"$f":"IF(I10<>\"\",סגמנטים!$H$10,)","v":0},{"$f":"AND(F10>=0,OR(C10=סגמנטים!$D$2,C10=סגמנטים!$D$3))","v":false},{"$f":"AND(G10>=0,OR(C10=סגמנטים!$D$2,C10=סגמנטים!$D$3))","v":false}]
[false,null,null,null,null,{"$f":"IF(E11=סגמנטים!$F$2,'הזנת אירועים'!G11,0)","v":0},"",null,null,{"$f":"IF(I11<>\"\",סגמנטים!$H$10,)","v":0},{"$f":"AND(F11>=0,OR(C11=סגמנטים!$D$2,C11=סגמנטים!$D$3))","v":false},{"$f":"AND(G11>=0,OR(C11=סגמנטים!$D$2,C11=סגמנטים!$D$3))","v":false}]
[false,null,null,null,null,{"$f":"IF(E12=סגמנטים!$F$2,'הזנת אירועים'!G12,0)","v":0},"",null,null,{"$f":"IF(I12<>\"\",סגמנטים!$H$10,)","v":0},{"$f":"AND(F12>=0,OR(C12=סגמנטים!$D$2,C12=סגמנטים!$D$3))","v":false},{"$f":"AND(G12>=0,OR(C12=סגמנטים!$D$2,C12=סגמנטים!$D$3))","v":false}]
[false,null,null,null,null,{"$f":"IF(E13=סגמנטים!$F$2,'הזנת אירועים'!G13,0)","v":0},"",null,null,{"$f":"IF(I13<>\"\",סגמנטים!$H$10,)","v":0},{"$f":"AND(F13>=0,OR(C13=סגמנטים!$D$2,C13=סגמנטים!$D$3))","v":false},{"$f":"AND(G13>=0,OR(C13=סגמנטים!$D$2,C13=סגמנטים!$D$3))","v":false}]
[false,null,null,null,null,{"$f":"IF(E14=סגמנטים!$F$2,'הזנת אירועים'!G14,0)","v":0},"",null,null,{"$f":"IF(I14<>\"\",סגמנטים!$H$10,)","v":0},{"$f":"AND(F14>=0,OR(C14=סגמנטים!$D$2,C14=סגמנטים!$D$3))","v":false},{"$f":"AND(G14>=0,OR(C14=סגמנטים!$D$2,C14=סגמנטים!$D$3))","v":false}]
[false,null,null,null,null,{"$f":"IF(E15=סגמנטים!$F$2,'הזנת אירועים'!G15,0)","v":0},"",null,null,{"$f":"IF(I15<>\"\",סגמנטים!$H$10,)","v":0},{"$f":"AND(F15>=0,OR(C15=סגמנטים!$D$2,C15=סגמנטים!$D$3))","v":false},{"$f":"AND(G15>=0,OR(C15=סגמנטים!$D$2,C15=סגמנטים!$D$3))","v":false}]
[false,null,null,null,null,{"$f":"IF(E16=סגמנטים!$F$2,'הזנת אירועים'!G16,0)","v":0},"",null,null,{"$f":"IF(I16<>\"\",סגמנטים!$H$10,)","v":0},{"$f":"AND(F16>=0,OR(C16=סגמנטים!$D$2,C16=סגמנטים!$D$3))","v":false},{"$f":"AND(G16>=0,OR(C16=סגמנטים!$D$2,C16=סגמנטים!$D$3))","v":false}]
[false,null,null,null,null,{"$f":"IF(E17=סגמנטים!$F$2,'הזנת אירועים'!G17,0)","v":0},"",null,null,{"$f":"IF(I17<>\"\",סגמנטים!$H$10,)","v":0},{"$f":"AND(F17>=0,OR(C17=סגמנטים!$D$2,C17=סגמנטים!$D$3))","v":false},{"$f":"AND(G17>=0,OR(C17=סגמנטים!$D$2,C17=סגמנטים!$D$3))","v":false}]
[false,null,null,null,null,{"$f":"IF(E18=סגמנטים!$F$2,'הזנת אירועים'!G18,0)","v":0},"",null,null,{"$f":"IF(I18<>\"\",סגמנטים!$H$10,)","v":0},{"$f":"AND(F18>=0,OR(C18=סגמנטים!$D$2,C18=סגמנטים!$D$3))","v":false},{"$f":"AND(G18>=0,OR(C18=סגמנטים!$D$2,C18=סגמנטים!$D$3))","v":false}]
[false,null,null,null,null,{"$f":"IF(E19=סגמנטים!$F$2,'הזנת אירועים'!G19,0)","v":0},"",null,null,{"$f":"IF(I19<>\"\",סגמנטים!$H$10,)","v":0},{"$f":"AND(F19>=0,OR(C19=סגמנטים!$D$2,C19=סגמנטים!$D$3))","v":false},{"$f":"AND(G19>=0,OR(C19=סגמנטים!$D$2,C19=סגמנטים!$D$3))","v":false}]
[false,null,null,null,null,{"$f":"IF(E20=סגמנטים!$F$2,'הזנת אירועים'!G20,0)","v":0},"",null,null,{"$f":"IF(I20<>\"\",סגמנטים!$H$10,)","v":0},{"$f":"AND(F20>=0,OR(C20=סגמנטים!$D$2,C20=סגמנטים!$D$3))","v":false},{"$f":"AND(G20>=0,OR(C20=סגמנטים!$D$2,C20=סגמנטים!$D$3))","v":false}]
[false,null,null,null,null,{"$f":"IF(E21=סגמנטים!$F$2,'הזנת אירועים'!G21,0)","v":0},"",null,null,{"$f":"IF(I21<>\"\",סגמנטים!$H$10,)","v":0},{"$f":"AND(F21>=0,OR(C21=סגמנטים!$D$2,C21=סגמנטים!$D$3))","v":false},{"$f":"AND(G21>=0,OR(C21=סגמנטים!$D$2,C21=סגמנטים!$D$3))","v":false}]
[false,null,null,null,null,{"$f":"IF(E22=סגמנטים!$F$2,'הזנת אירועים'!G22,0)","v":0},"",null,null,{"$f":"IF(I22<>\"\",סגמנטים!$H$10,)","v":0},{"$f":"AND(F22>=0,OR(C22=סגמנטים!$D$2,C22=סגמנטים!$D$3))","v":false},{"$f":"AND(G22>=0,OR(C22=סגמנטים!$D$2,C22=סגמנטים!$D$3))","v":false}]
[false,null,null,null,null,{"$f":"IF(E23=סגמנטים!$F$2,'הזנת אירועים'!G23,0)","v":0},"",null,null,{"$f":"IF(I23<>\"\",סגמנטים!$H$10,)","v":0},{"$f":"AND(F23>=0,OR(C23=סגמנטים!$D$2,C23=סגמנטים!$D$3))","v":false},{"$f":"AND(G23>=0,OR(C23=סגמנטים!$D$2,C23=סגמנטים!$D$3))","v":false}]
[false,null,null,null,null,{"$f":"IF(E24=סגמנטים!$F$2,'הזנת אירועים'!G24,0)","v":0},"",null,null,{"$f":"IF(I24<>\"\",סגמנטים!$H$10,)","v":0},{"$f":"AND(F24>=0,OR(C24=סגמנטים!$D$2,C24=סגמנטים!$D$3))","v":false},{"$f":"AND(G24>=0,OR(C24=סגמנטים!$D$2,C24=סגמנטים!$D$3))","v":false}]
[false,null,null,null,null,{"$f":"IF(E25=סגמנטים!$F$2,'הזנת אירועים'!G25,0)","v":0},"",null,null,{"$f":"IF(I25<>\"\",סגמנטים!$H$10,)","v":0},{"$f":"AND(F25>=0,OR(C25=סגמנטים!$D$2,C25=סגמנטים!$D$3))","v":false},{"$f":"AND(G25>=0,OR(C25=סגמנטים!$D$2,C25=סגמנטים!$D$3))","v":false}]
[false,null,null,null,null,{"$f":"IF(E26=סגמנטים!$F$2,'הזנת אירועים'!G26,0)","v":0},"",null,null,{"$f":"IF(I26<>\"\",סגמנטים!$H$10,)","v":0},{"$f":"AND(F26>=0,OR(C26=סגמנטים!$D$2,C26=סגמנטים!$D$3))","v":false},{"$f":"AND(G26>=0,OR(C26=סגמנטים!$D$2,C26=סגמנטים!$D$3))","v":false}]
[false,null,null,null,null,{"$f":"IF(E27=סגמנטים!$F$2,'הזנת אירועים'!G27,0)","v":0},"",null,null,{"$f":"IF(I27<>\"\",סגמנטים!$H$10,)","v":0},{"$f":"AND(F27>=0,OR(C27=סגמנטים!$D$2,C27=סגמנטים!$D$3))","v":false},{"$f":"AND(G27>=0,OR(C27=סגמנטים!$D$2,C27=סגמנטים!$D$3))","v":false}]
[false,null,null,null,null,{"$f":"IF(E28=סגמנטים!$F$2,'הזנת אירועים'!G28,0)","v":0},"",null,null,{"$f":"IF(I28<>\"\",סגמנטים!$H$10,)","v":0},{"$f":"AND(F28>=0,OR(C28=סגמנטים!$D$2,C28=סגמנטים!$D$3))","v":false},{"$f":"AND(G28>=0,OR(C28=סגמנטים!$D$2,C28=סגמנטים!$D$3))","v":false}]
[false,null,null,null,null,{"$f":"IF(E29=סגמנטים!$F$2,'הזנת אירועים'!G29,0)","v":0},"",null,null,{"$f":"IF(I29<>\"\",סגמנטים!$H$10,)","v":0},{"$f":"AND(F29>=0,OR(C29=סגמנטים!$D$2,C29=סגמנטים!$D$3))","v":false},{"$f":"AND(G29>=0,OR(C29=סגמנטים!$D$2,C29=סגמנטים!$D$3))","v":false}]
[false,null,null,null,null,{"$f":"IF(E30=סגמנטים!$F$2,'הזנת אירועים'!G30,0)","v":0},"",null,null,{"$f":"IF(I30<>\"\",סגמנטים!$H$10,)","v":0},{"$f":"AND(F30>=0,OR(C30=סגמנטים!$D$2,C30=סגמנטים!$D$3))","v":false},{"$f":"AND(G30>=0,OR(C30=סגמנטים!$D$2,C30=סגמנטים!$D$3))","v":false}]
[false,null,null,null,null,{"$f":"IF(E31=סגמנטים!$F$2,'הזנת אירועים'!G31,0)","v":0},"",null,null,{"$f":"IF(I31<>\"\",סגמנטים!$H$10,)","v":0},{"$f":"AND(F31>=0,OR(C31=סגמנטים!$D$2,C31=סגמנטים!$D$3))","v":false},{"$f":"AND(G31>=0,OR(C31=סגמנטים!$D$2,C31=סגמנטים!$D$3))","v":false}]
[false,null,null,null,null,{"$f":"IF(E32=סגמנטים!$F$2,'הזנת אירועים'!G32,0)","v":0},"",null,null,{"$f":"IF(I32<>\"\",סגמנטים!$H$10,)","v":0},{"$f":"AND(F32>=0,OR(C32=סגמנטים!$D$2,C32=סגמנטים!$D$3))","v":false},{"$f":"AND(G32>=0,OR(C32=סגמנטים!$D$2,C32=סגמנטים!$D$3))","v":false}]
[false,null,null,null,null,{"$f":"IF(E33=סגמנטים!$F$2,'הזנת אירועים'!G33,0)","v":0},"",null,null,{"$f":"IF(I33<>\"\",סגמנטים!$H$10,)","v":0},{"$f":"AND(F33>=0,OR(C33=סגמנטים!$D$2,C33=סגמנטים!$D$3))","v":false},{"$f":"AND(G33>=0,OR(C33=סגמנטים!$D$2,C33=סגמנטים!$D$3))","v":false}]
[false,null,null,null,null,{"$f":"IF(E34=סגמנטים!$F$2,'הזנת אירועים'!G34,0)","v":0},"",null,null,{"$f":"IF(I34<>\"\",סגמנטים!$H$10,)","v":0},{"$f":"AND(F34>=0,OR(C34=סגמנטים!$D$2,C34=סגמנטים!$D$3))","v":false},{"$f":"AND(G34>=0,OR(C34=סגמנטים!$D$2,C34=סגמנטים!$D$3))","v":false}]
[false,null,null,null,null,{"$f":"IF(E35=סגמנטים!$F$2,'הזנת אירועים'!G35,0)","v":0},"",null,null,{"$f":"IF(I35<>\"\",סגמנטים!$H$10,)","v":0},{"$f":"AND(F35>=0,OR(C35=סגמנטים!$D$2,C35=סגמנטים!$D$3))","v":false},{"$f":"AND(G35>=0,OR(C35=סגמנטים!$D$2,C35=סגמנטים!$D$3))","v":false}]
[false,null,null,null,null,{"$f":"IF(E36=סגמנטים!$F$2,'הזנת אירועים'!G36,0)","v":0},"",null,null,{"$f":"IF(I36<>\"\",סגמנטים!$H$10,)","v":0},{"$f":"AND(F36>=0,OR(C36=סגמנטים!$D$2,C36=סגמנטים!$D$3))","v":false},{"$f":"AND(G36>=0,OR(C36=סגמנטים!$D$2,C36=סגמנטים!$D$3))","v":false}]
[false,null,null,null,null,{"$f":"IF(E37=סגמנטים!$F$2,'הזנת אירועים'!G37,0)","v":0},"",null,null,{"$f":"IF(I37<>\"\",סגמנטים!$H$10,)","v":0},{"$f":"AND(F37>=0,OR(C37=סגמנטים!$D$2,C37=סגמנטים!$D$3))","v":false},{"$f":"AND(G37>=0,OR(C37=סגמנטים!$D$2,C37=סגמנטים!$D$3))","v":false}]
[false,null,null,null,null,{"$f":"IF(E38=סגמנטים!$F$2,'הזנת אירועים'!G38,0)","v":0},"",null,null,{"$f":"IF(I38<>\"\",סגמנטים!$H$10,)","v":0},{"$f":"AND(F38>=0,OR(C38=סגמנטים!$D$2,C38=סגמנטים!$D$3))","v":false},{"$f":"AND(G38>=0,OR(C38=סגמנטים!$D$2,C38=סגמנטים!$D$3))","v":false}]
[false,null,null,null,null,{"$f":"IF(E39=סגמנטים!$F$2,'הזנת אירועים'!G39,0)","v":0},"",null,null,{"$f":"IF(I39<>\"\",סגמנטים!$H$10,)","v":0},{"$f":"AND(F39>=0,OR(C39=סגמנטים!$D$2,C39=סגמנטים!$D$3))","v":false},{"$f":"AND(G39>=0,OR(C39=סגמנטים!$D$2,C39=סגמנטים!$D$3))","v":false}]
[false,null,null,null,null,{"$f":"IF(E40=סגמנטים!$F$2,'הזנת אירועים'!G40,0)","v":0},"",null,null,{"$f":"IF(I40<>\"\",סגמנטים!$H$10,)","v":0},{"$f":"AND(F40>=0,OR(C40=סגמנטים!$D$2,C40=סגמנטים!$D$3))","v":false},{"$f":"AND(G40>=0,OR(C40=סגמנטים!$D$2,C40=סגמנטים!$D$3))","v":false}]
[false,null,null,null,null,{"$f":"IF(E41=סגמנטים!$F$2,'הזנת אירועים'!G41,0)","v":0},"",null,null,{"$f":"IF(I41<>\"\",סגמנטים!$H$10,)","v":0},{"$f":"AND(F41>=0,OR(C41=סגמנטים!$D$2,C41=סגמנטים!$D$3))","v":false},{"$f":"AND(G41>=0,OR(C41=סגמנטים!$D$2,C41=סגמנטים!$D$3))","v":false}]
[false,null,null,null,null,{"$f":"IF(E42=סגמנטים!$F$2,'הזנת אירועים'!G42,0)","v":0},"",null,null,{"$f":"IF(I42<>\"\",סגמנטים!$H$10,)","v":0},{"$f":"AND(F42>=0,OR(C42=סגמנטים!$D$2,C42=סגמנטים!$D$3))","v":false},{"$f":"AND(G42>=0,OR(C42=סגמנטים!$D$2,C42=סגמנטים!$D$3))","v":false}]
[false,null,null,null,null,{"$f":"IF(E43=סגמנטים!$F$2,'הזנת אירועים'!G43,0)","v":0},"",null,null,{"$f":"IF(I43<>\"\",סגמנטים!$H$10,)","v":0},{"$f":"AND(F43>=0,OR(C43=סגמנטים!$D$2,C43=סגמנטים!$D$3))","v":false},{"$f":"AND(G43>=0,OR(C43=סגמנטים!$D$2,C43=סגמנטים!$D$3))","v":false}]
[false,null,null,null,null,{"$f":"IF(E44=סגמנטים!$F$2,'הזנת אירועים'!G44,0)","v":0},"",null,null,{"$f":"IF(I44<>\"\",סגמנטים!$H$10,)","v":0},{"$f":"AND(F44>=0,OR(C44=סגמנטים!$D$2,C44=סגמנטים!$D$3))","v":false},{"$f":"AND(G44>=0,OR(C44=סגמנטים!$D$2,C44=סגמנטים!$D$3))","v":false}]
[false,null,null,null,null,{"$f":"IF(E45=סגמנטים!$F$2,'הזנת אירועים'!G45,0)","v":0},"",null,null,{"$f":"IF(I45<>\"\",סגמנטים!$H$10,)","v":0},{"$f":"AND(F45>=0,OR(C45=סגמנטים!$D$2,C45=סגמנטים!$D$3))","v":false},{"$f":"AND(G45>=0,OR(C45=סגמנטים!$D$2,C45=סגמנטים!$D$3))","v":false}]
[false,null,null,null,null,{"$f":"IF(E46=סגמנטים!$F$2,'הזנת אירועים'!G46,0)","v":0},"",null,null,{"$f":"IF(I46<>\"\",סגמנטים!$H$10,)","v":0},{"$f":"AND(F46>=0,OR(C46=סגמנטים!$D$2,C46=סגמנטים!$D$3))","v":false},{"$f":"AND(G46>=0,OR(C46=סגמנטים!$D$2,C46=סגמנטים!$D$3))","v":false}]
[false,null,null,null,null,{"$f":"IF(E47=סגמנטים!$F$2,'הזנת אירועים'!G47,0)","v":0},"",null,null,{"$f":"IF(I47<>\"\",סגמנטים!$H$10,)","v":0},{"$f":"AND(F47>=0,OR(C47=סגמנטים!$D$2,C47=סגמנטים!$D$3))","v":false},{"$f":"AND(G47>=0,OR(C47=סגמנטים!$D$2,C47=סגמנטים!$D$3))","v":false}]
[false,null,null,null,null,{"$f":"IF(E48=סגמנטים!$F$2,'הזנת אירועים'!G48,0)","v":0},"",null,null,{"$f":"IF(I48<>\"\",סגמנטים!$H$10,)","v":0},{"$f":"AND(F48>=0,OR(C48=סגמנטים!$D$2,C48=סגמנטים!$D$3))","v":false},{"$f":"AND(G48>=0,OR(C48=סגמנטים!$D$2,C48=סגמנטים!$D$3))","v":false}]
[false,null,null,null,null,{"$f":"IF(E49=סגמנטים!$F$2,'הזנת אירועים'!G49,0)","v":0},"",null,null,{"$f":"IF(I49<>\"\",סגמנטים!$H$10,)","v":0},{"$f":"AND(F49>=0,OR(C49=סגמנטים!$D$2,C49=סגמנטים!$D$3))","v":false},{"$f":"AND(G49>=0,OR(C49=סגמנטים!$D$2,C49=סגמנטים!$D$3))","v":false}]
[false,null,null,null,null,{"$f":"IF(E50=סגמנטים!$F$2,'הזנת אירועים'!G50,0)","v":0},"",null,null,{"$f":"IF(I50<>\"\",סגמנטים!$H$10,)","v":0},{"$f":"AND(F50>=0,OR(C50=סגמנטים!$D$2,C50=סגמנטים!$D$3))","v":false},{"$f":"AND(G50>=0,OR(C50=סגמנטים!$D$2,C50=סגמנטים!$D$3))","v":false}]
[false,null,null,null,null,{"$f":"IF(E51=סגמנטים!$F$2,'הזנת אירועים'!G51,0)","v":0},"",null,null,{"$f":"IF(I51<>\"\",סגמנטים!$H$10,)","v":0},{"$f":"AND(F51>=0,OR(C51=סגמנטים!$D$2,C51=סגמנטים!$D$3))","v":false},{"$f":"AND(G51>=0,OR(C51=סגמנטים!$D$2,C51=סגמנטים!$D$3))","v":false}]
[false,null,null,null,null,{"$f":"IF(E52=סגמנטים!$F$2,'הזנת אירועים'!G52,0)","v":0},"",null,null,{"$f":"IF(I52<>\"\",סגמנטים!$H$10,)","v":0},{"$f":"AND(F52>=0,OR(C52=סגמנטים!$D$2,C52=סגמנטים!$D$3))","v":false},{"$f":"AND(G52>=0,OR(C52=סגמנטים!$D$2,C52=סגמנטים!$D$3))","v":false}]
[false,null,null,null,null,{"$f":"IF(E53=סגמנטים!$F$2,'הזנת אירועים'!G53,0)","v":0},"",null,null,{"$f":"IF(I53<>\"\",סגמנטים!$H$10,)","v":0},{"$f":"AND(F53>=0,OR(C53=סגמנטים!$D$2,C53=סגמנטים!$D$3))","v":false},{"$f":"AND(G53>=0,OR(C53=סגמנטים!$D$2,C53=סגמנטים!$D$3))","v":false}]
[false,null,null,null,null,{"$f":"IF(E54=סגמנטים!$F$2,'הזנת אירועים'!G54,0)","v":0},"",null,null,{"$f":"IF(I54<>\"\",סגמנטים!$H$10,)","v":0},{"$f":"AND(F54>=0,OR(C54=סגמנטים!$D$2,C54=סגמנטים!$D$3))","v":false},{"$f":"AND(G54>=0,OR(C54=סגמנטים!$D$2,C54=סגמנטים!$D$3))","v":false}]
[false,null,null,null,null,{"$f":"IF(E55=סגמנטים!$F$2,'הזנת אירועים'!G55,0)","v":0},"",null,null,{"$f":"IF(I55<>\"\",סגמנטים!$H$10,)","v":0},{"$f":"AND(F55>=0,OR(C55=סגמנטים!$D$2,C55=סגמנטים!$D$3))","v":false},{"$f":"AND(G55>=0,OR(C55=סגמנטים!$D$2,C55=סגמנטים!$D$3))","v":false}]
[false,null,null,null,null,{"$f":"IF(E56=סגמנטים!$F$2,'הזנת אירועים'!G56,0)","v":0},"",null,null,{"$f":"IF(I56<>\"\",סגמנטים!$H$10,)","v":0},{"$f":"AND(F56>=0,OR(C56=סגמנטים!$D$2,C56=סגמנטים!$D$3))","v":false},{"$f":"AND(G56>=0,OR(C56=סגמנטים!$D$2,C56=סגמנטים!$D$3))","v":false}]
[false,null,null,null,null,{"$f":"IF(E57=סגמנטים!$F$2,'הזנת אירועים'!G57,0)","v":0},"",null,null,{"$f":"IF(I57<>\"\",סגמנטים!$H$10,)","v":0},{"$f":"AND(F57>=0,OR(C57=סגמנטים!$D$2,C57=סגמנטים!$D$3))","v":false},{"$f":"AND(G57>=0,OR(C57=סגמנטים!$D$2,C57=סגמנטים!$D$3))","v":false}]
[false,null,null,null,null,{"$f":"IF(E58=סגמנטים!$F$2,'הזנת אירועים'!G58,0)","v":0},"",null,null,{"$f":"IF(I58<>\"\",סגמנטים!$H$10,)","v":0},{"$f":"AND(F58>=0,OR(C58=סגמנטים!$D$2,C58=סגמנטים!$D$3))","v":false},{"$f":"AND(G58>=0,OR(C58=סגמנטים!$D$2,C58=סגמנטים!$D$3))","v":false}]
[false,null,null,null,null,{"$f":"IF(E59=סגמנטים!$F$2,'הזנת אירועים'!G59,0)","v":0},"",null,null,{"$f":"IF(I59<>\"\",סגמנטים!$H$10,)","v":0},{"$f":"AND(F59>=0,OR(C59=סגמנטים!$D$2,C59=סגמנטים!$D$3))","v":false},{"$f":"AND(G59>=0,OR(C59=סגמנטים!$D$2,C59=סגמנטים!$D$3))","v":false}]
[false,null,null,null,null,{"$f":"IF(E60=סגמנטים!$F$2,'הזנת אירועים'!G60,0)","v":0},"",null,null,{"$f":"IF(I60<>\"\",סגמנטים!$H$10,)","v":0},{"$f":"AND(F60>=0,OR(C60=סגמנטים!$D$2,C60=סגמנטים!$D$3))","v":false},{"$f":"AND(G60>=0,OR(C60=סגמנטים!$D$2,C60=סגמנטים!$D$3))","v":false}]
[false,null,null,null,null,{"$f":"IF(E61=סגמנטים!$F$2,'הזנת אירועים'!G61,0)","v":0},"",null,null,{"$f":"IF(I61<>\"\",סגמנטים!$H$10,)","v":0},{"$f":"AND(F61>=0,OR(C61=סגמנטים!$D$2,C61=סגמנטים!$D$3))","v":false},{"$f":"AND(G61>=0,OR(C61=סגמנטים!$D$2,C61=סגמנטים!$D$3))","v":false}]
[false,null,null,null,null,{"$f":"IF(E62=סגמנטים!$F$2,'הזנת אירועים'!G62,0)","v":0},"",null,null,{"$f":"IF(I62<>\"\",סגמנטים!$H$10,)","v":0},{"$f":"AND(F62>=0,OR(C62=סגמנטים!$D$2,C62=סגמנטים!$D$3))","v":false},{"$f":"AND(G62>=0,OR(C62=סגמנטים!$D$2,C62=סגמנטים!$D$3))","v":false}]
[false,null,null,null,null,{"$f":"IF(E63=סגמנטים!$F$2,'הזנת אירועים'!G63,0)","v":0},"",null,null,{"$f":"IF(I63<>\"\",סגמנטים!$H$10,)","v":0},{"$f":"AND(F63>=0,OR(C63=סגמנטים!$D$2,C63=סגמנטים!$D$3))","v":false},{"$f":"AND(G63>=0,OR(C63=סגמנטים!$D$2,C63=סגמנטים!$D$3))","v":false}]
[false,null,null,null,null,{"$f":"IF(E64=סגמנטים!$F$2,'הזנת אירועים'!G64,0)","v":0},"",null,null,{"$f":"IF(I64<>\"\",סגמנטים!$H$10,)","v":0},{"$f":"AND(F64>=0,OR(C64=סגמנטים!$D$2,C64=סגמנטים!$D$3))","v":false},{"$f":"AND(G64>=0,OR(C64=סגמנטים!$D$2,C64=סגמנטים!$D$3))","v":false}]
[false,null,null,null,null,{"$f":"IF(E65=סגמנטים!$F$2,'הזנת אירועים'!G65,0)","v":0},"",null,null,{"$f":"IF(I65<>\"\",סגמנטים!$H$10,)","v":0},{"$f":"AND(F65>=0,OR(C65=סגמנטים!$D$2,C65=סגמנטים!$D$3))","v":false},{"$f":"AND(G65>=0,OR(C65=סגמנטים!$D$2,C65=סגמנטים!$D$3))","v":false}]
[false,null,null,null,null,{"$f":"IF(E66=סגמנטים!$F$2,'הזנת אירועים'!G66,0)","v":0},"",null,null,{"$f":"IF(I66<>\"\",סגמנטים!$H$10,)","v":0},{"$f":"AND(F66>=0,OR(C66=סגמנטים!$D$2,C66=סגמנטים!$D$3))","v":false},{"$f":"AND(G66>=0,OR(C66=סגמנטים!$D$2,C66=סגמנטים!$D$3))","v":false}]
[false,null,null,null,null,{"$f":"IF(E67=סגמנטים!$F$2,'הזנת אירועים'!G67,0)","v":0},"",null,null,{"$f":"IF(I67<>\"\",סגמנטים!$H$10,)","v":0},{"$f":"AND(F67>=0,OR(C67=סגמנטים!$D$2,C67=סגמנטים!$D$3))","v":false},{"$f":"AND(G67>=0,OR(C67=סגמנטים!$D$2,C67=סגמנטים!$D$3))","v":false}]
[false,null,null,null,null,{"$f":"IF(E68=סגמנטים!$F$2,'הזנת אירועים'!G68,0)","v":0},"",null,null,{"$f":"IF(I68<>\"\",סגמנטים!$H$10,)","v":0},{"$f":"AND(F68>=0,OR(C68=סגמנטים!$D$2,C68=סגמנטים!$D$3))","v":false},{"$f":"AND(G68>=0,OR(C68=סגמנטים!$D$2,C68=סגמנטים!$D$3))","v":false}]
[false,null,null,null,null,{"$f":"IF(E69=סגמנטים!$F$2,'הזנת אירועים'!G69,0)","v":0},"",null,null,{"$f":"IF(I69<>\"\",סגמנטים!$H$10,)","v":0},{"$f":"AND(F69>=0,OR(C69=סגמנטים!$D$2,C69=סגמנטים!$D$3))","v":false},{"$f":"AND(G69>=0,OR(C69=סגמנטים!$D$2,C69=סגמנטים!$D$3))","v":false}]
[false,null,null,null,null,{"$f":"IF(E70=סגמנטים!$F$2,'הזנת אירועים'!G70,0)","v":0},"",null,null,{"$f":"IF(I70<>\"\",סגמנטים!$H$10,)","v":0},{"$f":"AND(F70>=0,OR(C70=סגמנטים!$D$2,C70=סגמנטים!$D$3))","v":false},{"$f":"AND(G70>=0,OR(C70=סגמנטים!$D$2,C70=סגמנטים!$D$3))","v":false}]
[false,null,null,null,null,{"$f":"IF(E71=סגמנטים!$F$2,'הזנת אירועים'!G71,0)","v":0},"",null,null,{"$f":"IF(I71<>\"\",סגמנטים!$H$10,)","v":0},{"$f":"AND(F71>=0,OR(C71=סגמנטים!$D$2,C71=סגמנטים!$D$3))","v":false},{"$f":"AND(G71>=0,OR(C71=סגמנטים!$D$2,C71=סגמנטים!$D$3))","v":false}]
[false,null,null,null,null,{"$f":"IF(E72=סגמנטים!$F$2,'הזנת אירועים'!G72,0)","v":0},"",null,null,{"$f":"IF(I72<>\"\",סגמנטים!$H$10,)","v":0},{"$f":"AND(F72>=0,OR(C72=סגמנטים!$D$2,C72=סגמנטים!$D$3))","v":false},{"$f":"AND(G72>=0,OR(C72=סגמנטים!$D$2,C72=סגמנטים!$D$3))","v":false}]
[false,null,null,null,null,{"$f":"IF(E73=סגמנטים!$F$2,'הזנת אירועים'!G73,0)","v":0},"",null,null,{"$f":"IF(I73<>\"\",סגמנטים!$H$10,)","v":0},{"$f":"AND(F73>=0,OR(C73=סגמנטים!$D$2,C73=סגמנטים!$D$3))","v":false},{"$f":"AND(G73>=0,OR(C73=סגמנטים!$D$2,C73=סגמנטים!$D$3))","v":false}]
[{"$f":"B74<>\"\"","v":false},null,null,null,null,{"$f":"IF(E74=סגמנטים!$F$2,'הזנת אירועים'!G74,0)","v":0},{"$f":"IF(AND(E74>1,E74<997),F74*E74,\"\")","v":""},null,null,{"$f":"IF(I74<>\"\",סגמנטים!$H$10,)","v":0},{"$f":"AND(F74>=0,OR(C74=סגמנטים!$D$2,C74=סגמנטים!$D$3))","v":false},{"$f":"AND(G74>=0,OR(C74=סגמנטים!$D$2,C74=סגמנטים!$D$3))","v":false}]
[false,null,null,null,null,{"$f":"IF(E75=סגמנטים!$F$2,'הזנת אירועים'!G75,0)","v":0},"",null,null,{"$f":"IF(I75<>\"\",סגמנטים!$H$10,)","v":0},{"$f":"AND(F75>=0,OR(C75=סגמנטים!$D$2,C75=סגמנטים!$D$3))","v":false},{"$f":"AND(G75>=0,OR(C75=סגמנטים!$D$2,C75=סגמנטים!$D$3))","v":false}]
[false,null,null,null,null,{"$f":"IF(E76=סגמנטים!$F$2,'הזנת אירועים'!G76,0)","v":0},"",null,null,{"$f":"IF(I76<>\"\",סגמנטים!$H$10,)","v":0},{"$f":"AND(F76>=0,OR(C76=סגמנטים!$D$2,C76=סגמנטים!$D$3))","v":false},{"$f":"AND(G76>=0,OR(C76=סגמנטים!$D$2,C76=סגמנטים!$D$3))","v":false}]
[false,null,null,null,null,{"$f":"IF(E77=סגמנטים!$F$2,'הזנת אירועים'!G77,0)","v":0},"",null,null,{"$f":"IF(I77<>\"\",סגמנטים!$H$10,)","v":0},{"$f":"AND(F77>=0,OR(C77=סגמנטים!$D$2,C77=סגמנטים!$D$3))","v":false},{"$f":"AND(G77>=0,OR(C77=סגמנטים!$D$2,C77=סגמנטים!$D$3))","v":false}]
[false,null,null,null,null,{"$f":"IF(E78=סגמנטים!$F$2,'הזנת אירועים'!G78,0)","v":0},"",null,null,{"$f":"IF(I78<>\"\",סגמנטים!$H$10,)","v":0},{"$f":"AND(F78>=0,OR(C78=סגמנטים!$D$2,C78=סגמנטים!$D$3))","v":false},{"$f":"AND(G78>=0,OR(C78=סגמנטים!$D$2,C78=סגמנטים!$D$3))","v":false}]
[false,null,null,null,null,{"$f":"IF(E79=סגמנטים!$F$2,'הזנת אירועים'!G79,0)","v":0},"",null,null,{"$f":"IF(I79<>\"\",סגמנטים!$H$10,)","v":0},{"$f":"AND(F79>=0,OR(C79=סגמנטים!$D$2,C79=סגמנטים!$D$3))","v":false},{"$f":"AND(G79>=0,OR(C79=סגמנטים!$D$2,C79=סגמנטים!$D$3))","v":false}]
[false,null,null,null,null,{"$f":"IF(E80=סגמנטים!$F$2,'הזנת אירועים'!G80,0)","v":0},"",null,null,{"$f":"IF(I80<>\"\",סגמנטים!$H$10,)","v":0},{"$f":"AND(F80>=0,OR(C80=סגמנטים!$D$2,C80=סגמנטים!$D$3))","v":false},{"$f":"AND(G80>=0,OR(C80=סגמנטים!$D$2,C80=סגמנטים!$D$3))","v":false}]
[false,null,null,null,null,{"$f":"IF(E81=סגמנטים!$F$2,'הזנת אירועים'!G81,0)","v":0},"",null,null,{"$f":"IF(I81<>\"\",סגמנטים!$H$10,)","v":0},{"$f":"AND(F81>=0,OR(C81=סגמנטים!$D$2,C81=סגמנטים!$D$3))","v":false},{"$f":"AND(G81>=0,OR(C81=סגמנטים!$D$2,C81=סגמנטים!$D$3))","v":false}]
[false,null,null,null,null,{"$f":"IF(E82=סגמנטים!$F$2,'הזנת אירועים'!G82,0)","v":0},"",null,null,{"$f":"IF(I82<>\"\",סגמנטים!$H$10,)","v":0},{"$f":"AND(F82>=0,OR(C82=סגמנטים!$D$2,C82=סגמנטים!$D$3))","v":false},{"$f":"AND(G82>=0,OR(C82=סגמנטים!$D$2,C82=סגמנטים!$D$3))","v":false}]
[false,null,null,null,null,{"$f":"IF(E83=סגמנטים!$F$2,'הזנת אירועים'!G83,0)","v":0},"",null,null,{"$f":"IF(I83<>\"\",סגמנטים!$H$10,)","v":0},{"$f":"AND(F83>=0,OR(C83=סגמנטים!$D$2,C83=סגמנטים!$D$3))","v":false},{"$f":"AND(G83>=0,OR(C83=סגמנטים!$D$2,C83=סגמנטים!$D$3))","v":false}]
[false,null,null,null,null,{"$f":"IF(E84=סגמנטים!$F$2,'הזנת אירועים'!G84,0)","v":0},"",null,null,{"$f":"IF(I84<>\"\",סגמנטים!$H$10,)","v":0},{"$f":"AND(F84>=0,OR(C84=סגמנטים!$D$2,C84=סגמנטים!$D$3))","v":false},{"$f":"AND(G84>=0,OR(C84=סגמנטים!$D$2,C84=סגמנטים!$D$3))","v":false}]
[false,null,null,null,null,{"$f":"IF(E85=סגמנטים!$F$2,'הזנת אירועים'!G85,0)","v":0},"",null,null,{"$f":"IF(I85<>\"\",סגמנטים!$H$10,)","v":0},{"$f":"AND(F85>=0,OR(C85=סגמנטים!$D$2,C85=סגמנטים!$D$3))","v":false},{"$f":"AND(G85>=0,OR(C85=סגמנטים!$D$2,C85=סגמנטים!$D$3))","v":false}]
[false,null,null,null,null,{"$f":"IF(E86=סגמנטים!$F$2,'הזנת אירועים'!G86,0)","v":0},"",null,null,{"$f":"IF(I86<>\"\",סגמנטים!$H$10,)","v":0},{"$f":"AND(F86>=0,OR(C86=סגמנטים!$D$2,C86=סגמנטים!$D$3))","v":false},{"$f":"AND(G86>=0,OR(C86=סגמנטים!$D$2,C86=סגמנטים!$D$3))","v":false}]
[false,null,null,null,null,{"$f":"IF(E87=סגמנטים!$F$2,'הזנת אירועים'!G87,0)","v":0},"",null,null,{"$f":"IF(I87<>\"\",סגמנטים!$H$10,)","v":0},{"$f":"AND(F87>=0,OR(C87=סגמנטים!$D$2,C87=סגמנטים!$D$3))","v":false},{"$f":"AND(G87>=0,OR(C87=סגמנטים!$D$2,C87=סגמנטים!$D$3))","v":false}]
[false,null,null,null,null,{"$f":"IF(E88=סגמנטים!$F$2,'הזנת אירועים'!G88,0)","v":0},"",null,null,{"$f":"IF(I88<>\"\",סגמנטים!$H$10,)","v":0},{"$f":"AND(F88>=0,OR(C88=סגמנטים!$D$2,C88=סגמנטים!$D$3))","v":false},{"$f":"AND(G88>=0,OR(C88=סגמנטים!$D$2,C88=סגמנטים!$D$3))","v":false}]
[false,null,null,null,null,{"$f":"IF(E89=סגמנטים!$F$2,'הזנת אירועים'!G89,0)","v":0},"",null,null,{"$f":"IF(I89<>\"\",סגמנטים!$H$10,)","v":0},{"$f":"AND(F89>=0,OR(C89=סגמנטים!$D$2,C89=סגמנטים!$D$3))","v":false},{"$f":"AND(G89>=0,OR(C89=סגמנטים!$D$2,C89=סגמנטים!$D$3))","v":false}]
[false,null,null,null,null,{"$f":"IF(E90=סגמנטים!$F$2,'הזנת אירועים'!G90,0)","v":0},"",null,null,{"$f":"IF(I90<>\"\",סגמנטים!$H$10,)","v":0},{"$f":"AND(F90>=0,OR(C90=סגמנטים!$D$2,C90=סגמנטים!$D$3))","v":false},{"$f":"AND(G90>=0,OR(C90=סגמנטים!$D$2,C90=סגמנטים!$D$3))","v":false}]
[false,null,null,null,null,{"$f":"IF(E91=סגמנטים!$F$2,'הזנת אירועים'!G91,0)","v":0},"",null,null,{"$f":"IF(I91<>\"\",סגמנטים!$H$10,)","v":0},{"$f":"AND(F91>=0,OR(C91=סגמנטים!$D$2,C91=סגמנטים!$D$3))","v":false},{"$f":"AND(G91>=0,OR(C91=סגמנטים!$D$2,C91=סגמנטים!$D$3))","v":false}]
[false,null,null,null,null,{"$f":"IF(E92=סגמנטים!$F$2,'הזנת אירועים'!G92,0)","v":0},"",null,null,{"$f":"IF(I92<>\"\",סגמנטים!$H$10,)","v":0},{"$f":"AND(F92>=0,OR(C92=סגמנטים!$D$2,C92=סגמנטים!$D$3))","v":false},{"$f":"AND(G92>=0,OR(C92=סגמנטים!$D$2,C92=סגמנטים!$D$3))","v":false}]
[false,null,null,null,null,{"$f":"IF(E93=סגמנטים!$F$2,'הזנת אירועים'!G93,0)","v":0},"",null,null,{"$f":"IF(I93<>\"\",סגמנטים!$H$10,)","v":0},{"$f":"AND(F93>=0,OR(C93=סגמנטים!$D$2,C93=סגמנטים!$D$3))","v":false},{"$f":"AND(G93>=0,OR(C93=סגמנטים!$D$2,C93=סגמנטים!$D$3))","v":false}]
[false,null,null,null,null,{"$f":"IF(E94=סגמנטים!$F$2,'הזנת אירועים'!G94,0)","v":0},"",null,null,{"$f":"IF(I94<>\"\",סגמנטים!$H$10,)","v":0},{"$f":"AND(F94>=0,OR(C94=סגמנטים!$D$2,C94=סגמנטים!$D$3))","v":false},{"$f":"AND(G94>=0,OR(C94=סגמנטים!$D$2,C94=סגמנטים!$D$3))","v":false}]
[false,null,null,null,null,{"$f":"IF(E95=סגמנטים!$F$2,'הזנת אירועים'!G95,0)","v":0},"",null,null,{"$f":"IF(I95<>\"\",סגמנטים!$H$10,)","v":0},{"$f":"AND(F95>=0,OR(C95=סגמנטים!$D$2,C95=סגמנטים!$D$3))","v":false},{"$f":"AND(G95>=0,OR(C95=סגמנטים!$D$2,C95=סגמנטים!$D$3))","v":false}]
[false,null,null,null,null,{"$f":"IF(E96=סגמנטים!$F$2,'הזנת אירועים'!G96,0)","v":0},"",null,null,{"$f":"IF(I96<>\"\",סגמנטים!$H$10,)","v":0},{"$f":"AND(F96>=0,OR(C96=סגמנטים!$D$2,C96=סגמנטים!$D$3))","v":false},{"$f":"AND(G96>=0,OR(C96=סגמנטים!$D$2,C96=סגמנטים!$D$3))","v":false}]
[false,null,null,null,null,{"$f":"IF(E97=סגמנטים!$F$2,'הזנת אירועים'!G97,0)","v":0},"",null,null,{"$f":"IF(I97<>\"\",סגמנטים!$H$10,)","v":0},{"$f":"AND(F97>=0,OR(C97=סגמנטים!$D$2,C97=סגמנטים!$D$3))","v":false},{"$f":"AND(G97>=0,OR(C97=סגמנטים!$D$2,C97=סגמנטים!$D$3))","v":false}]
[false,null,null,null,null,{"$f":"IF(E98=סגמנטים!$F$2,'הזנת אירועים'!G98,0)","v":0},"",null,null,{"$f":"IF(I98<>\"\",סגמנטים!$H$10,)","v":0},{"$f":"AND(F98>=0,OR(C98=סגמנטים!$D$2,C98=סגמנטים!$D$3))","v":false},{"$f":"AND(G98>=0,OR(C98=סגמנטים!$D$2,C98=סגמנטים!$D$3))","v":false}]
[false,null,null,null,null,{"$f":"IF(E99=סגמנטים!$F$2,'הזנת אירועים'!G99,0)","v":0},"",null,null,{"$f":"IF(I99<>\"\",סגמנטים!$H$10,)","v":0},{"$f":"AND(F99>=0,OR(C99=סגמנטים!$D$2,C99=סגמנטים!$D$3))","v":false},{"$f":"AND(G99>=0,OR(C99=סגמנטים!$D$2,C99=סגמנטים!$D$3))","v":false}]
[false,null,null,null,null,{"$f":"IF(E100=סגמנטים!$F$2,'הזנת אירועים'!G100,0)","v":0},"",null,null,{"$f":"IF(I100<>\"\",סגמנטים!$H$10,)","v":0},{"$f":"AND(F100>=0,OR(C100=סגמנטים!$D$2,C100=סגמנטים!$D$3))","v":false},{"$f":"AND(G100>=0,OR(C100=סגמנטים!$D$2,C100=סגמנטים!$D$3))","v":false}]
[false,null,null,null,null,{"$f":"IF(E101=סגמנטים!$F$2,'הזנת אירועים'!G101,0)","v":0},"",null,null,{"$f":"IF(I101<>\"\",סגמנטים!$H$10,)","v":0},{"$f":"AND(F101>=0,OR(C101=סגמנטים!$D$2,C101=סגמנטים!$D$3))","v":false},{"$f":"AND(G101>=0,OR(C101=סגמנטים!$D$2,C101=סגמנטים!$D$3))","v":false}]

{"sheet":"מסלול החיים","index":1,"n_rows":101,"n_cols":257,"rows_kept":101,"cut":false,"hidden":false,"merged":[]}
[null,null,null,null,null,{"$f":"IF(SUM(H3,AG3,BF3,CE3,DD3,EC3,FB3,GA3,GZ3,HY3)>0,\" חריגה \"&H3+AG3+BF3+CE3+DD3+EC3+FB3+GA3+GZ3+HY3&\" חודשים\",IF(SUM(E9:E101)<>0,סגמנטים!H12,\"\"))","v":""},null,{"$f":"IFERROR(HLOOKUP(\"שינוי תקציב\",I2:AE2,1,0),\"\")","v":""},null,null,null,null,null,null,null,null,null,null,null,null,null,null,null,null,null,null,null,null,null,null,null,null,{"$f":"IFERROR(HLOOKUP(\"שינוי תקציב\",AH2:BD2,1,0),\"\")","v":""},null,null,null,null,null,null,null,null,null,null,null,null,null,null,null,null,null,null,null,null,null,null,null,null,{"$f":"IFERROR(HLOOKUP(\"שינוי תקציב\",BG2:CC2,1,0),\"\")","v":""},null,null,null,null,null,null,null,null,null,null,null,null,null,null,null,null,null,null,null,null,null,null,null,null,{"$f":"IFERROR(HLOOKUP(\"שינוי תקציב\",CF2:DB2,1,0),\"\")","v":""},null,null,null,null,null,null,null,null,null,null,null,null,null,null,null,null,null,null,null,null,null,null,null,null,{"$f":"IFERROR(HLOOKUP(\"שינוי תקציב\",DE2:EA2,1,0),\"\")","v":""},null,null,null,null,null,null,null,null,null,null,null,null,null,null,null,null,null,null,null,null,null,null,null,null,{"$f":"IFERROR(HLOOKUP(\"שינוי תקציב\",ED2:EZ2,1,0),\"\")","v":""},null,null,null,null,null,null,null,null,null,null,null,null,null,null,null,null,null,null,null,null,null,null,null,null,{"$f":"IFERROR(HLOOKUP(\"שינוי תקציב\",FC2:FY2,1,0),\"\")","v":""},null,null,null,null,null,null,null,null,null,null,null,null,null,null,null,null,null,null,null,null,null,null,null,null,{"$f":"IFERROR(HLOOKUP(\"שינוי תקציב\",GB2:GX2,1,0),\"\")","v":""},null,null,null,null,null,null,null,null,null,null,null,null,null,null,null,null,null,null,null,null,null,null,null,null,{"$f":"IFERROR(HLOOKUP(\"שינוי תקציב\",HA2:HW2,1,0),\"\")","v":""},null,null,null,null,null,null,null,null,null,null,null,null,null,null,null,null,null,null,null,null,null,null,null,null,{"$f":"IFERROR(HLOOKUP(\"שינוי תקציב\",HZ2:IV2,1,0),\"\")","v":""}]
[null,null,null,"תקציב הכנסות",null,{"$f":"IF(AND(F1<>\"\",F1<>סגמנטים!H12),סגמנטים!H13,\"\")","v":""},null,{"$f":"IFERROR(YEAR(I4),\"שנה 1\")","v":2021},{"$f":"IF(I5<>E2-E3-E4,\"שינוי תקציב\",\"\")","v":""},null,{"$f":"IF(K5<>I5,\"שינוי תקציב\",\"\")","v":""},null,{"$f":"IF(M5<>K5,\"שינוי תקציב\",\"\")","v":""},null,{"$f":"IF(O5<>M5,\"שינוי תקציב\",\"\")","v":""},null,{"$f":"IF(Q5<>O5,\"שינוי תקציב\",\"\")","v":""},null,{"$f":"IF(S5<>Q5,\"שינוי תקציב\",\"\")","v":""},null,{"$f":"IF(U5<>S5,\"שינוי תקציב\",\"\")","v":""},null,{"$f":"IF(W5<>U5,\"שינוי תקציב\",\"\")","v":""},null,{"$f":"IF(Y5<>W5,\"שינוי תקציב\",\"\")","v":""},null,{"$f":"IF(AA5<>Y5,\"שינוי תקציב\",\"\")","v":""},null,{"$f":"IF(AC5<>AA5,\"שינוי תקציב\",\"\")","v":""},null,{"$f":"IF(AE5<>AC5,\"שינוי תקציב\",\"\")","v":""},null,{"$f":"IFERROR(YEAR(AH4),\"שנה 2\")","v":2022},{"$f":"IF(AH5<>AE5,\"שינוי תקציב\",\"\")","v":""},null,{"$f":"IF(AJ5<>AH5,\"שינוי תקציב\",\"\")","v":""},null,{"$f":"IF(AL5<>AJ5,\"שינוי תקציב\",\"\")","v":""},null,{"$f":"IF(AN5<>AL5,\"שינוי תקציב\",\"\")","v":""},null,{"$f":"IF(AP5<>AN5,\"שינוי תקציב\",\"\")","v":""},null,{"$f":"IF(AR5<>AP5,\"שינוי תקציב\",\"\")","v":""},null,{"$f":"IF(AT5<>AR5,\"שינוי תקציב\",\"\")","v":""},null,{"$f":"IF(AV5<>AT5,\"שינוי תקציב\",\"\")","v":""},null,{"$f":"IF(AX5<>AV5,\"שינוי תקציב\",\"\")","v":""},null,{"$f":"IF(AZ5<>AX5,\"שינוי תקציב\",\"\")","v":""},null,{"$f":"IF(BB5<>AZ5,\"שינוי תקציב\",\"\")","v":""},null,{"$f":"IF(BD5<>BB5,\"שינוי תקציב\",\"\")","v":""},null,{"$f":"IFERROR(YEAR(BG4),\"שנה 3\")","v":2023},{"$f":"IF(BG5<>BD5,\"שינוי תקציב\",\"\")","v":""},null,{"$f":"IF(BI5<>BG5,\"שינוי תקציב\",\"\")","v":""},null,{"$f":"IF(BK5<>BI5,\"שינוי תקציב\",\"\")","v":""},null,{"$f":"IF(BM5<>BK5,\"שינוי תקציב\",\"\")","v":""},null,{"$f":"IF(BO5<>BM5,\"שינוי תקציב\",\"\")","v":""},null,{"$f":"IF(BQ5<>BO5,\"שינוי תקציב\",\"\")","v":""},null,{"$f":"IF(BS5<>BQ5,\"שינוי תקציב\",\"\")","v":""},null,{"$f":"IF(BU5<>BS5,\"שינוי תקציב\",\"\")","v":""},null,{"$f":"IF(BW5<>BU5,\"שינוי תקציב\",\"\")","v":""},null,{"$f":"IF(BY5<>BW5,\"שינוי תקציב\",\"\")","v":""},null,{"$f":"IF(CA5<>BY5,\"שינוי תקציב\",\"\")","v":""},null,{"$f":"IF(CC5<>CA5,\"שינוי תקציב\",\"\")","v":""},null,{"$f":"IFERROR(YEAR(CF4),\"שנה 4\")","v":2024},{"$f":"IF(CF5<>CC5,\"שינוי תקציב\",\"\")","v":""},null,{"$f":"IF(CH5<>CF5,\"שינוי תקציב\",\"\")","v":""},null,{"$f":"IF(CJ5<>CH5,\"שינוי תקציב\",\"\")","v":""},null,{"$f":"IF(CL5<>CJ5,\"שינוי תקציב\",\"\")","v":""},null,{"$f":"IF(CN5<>CL5,\"שינוי תקציב\",\"\")","v":""},null,{"$f":"IF(CP5<>CN5,\"שינוי תקציב\",\"\")","v":""},null,{"$f":"IF(CR5<>CP5,\"שינוי תקציב\",\"\")","v":""},null,{"$f":"IF(CT5<>CR5,\"שינוי תקציב\",\"\")","v":""},null,{"$f":"IF(CV5<>CT5,\"שינוי תקציב\",\"\")","v":""},null,{"$f":"IF(CX5<>CV5,\"שינוי תקציב\",\"\")","v":""},null,{"$f":"IF(CZ5<>CX5,\"שינוי תקציב\",\"\")","v":""},null,{"$f":"IF(DB5<>CZ5,\"שינוי תקציב\",\"\")","v":""},null,{"$f":"IFERROR(YEAR(DE4),\"שנה 5\")","v":2025},{"$f":"IF(DE5<>DB5,\"שינוי תקציב\",\"\")","v":""},null,{"$f":"IF(DG5<>DE5,\"שינוי תקציב\",\"\")","v":""},null,{"$f":"IF(DI5<>DG5,\"שינוי תקציב\",\"\")","v":""},null,{"$f":"IF(DK5<>DI5,\"שינוי תקציב\",\"\")","v":""},null,{"$f":"IF(DM5<>DK5,\"שינוי תקציב\",\"\")","v":""},null,{"$f":"IF(DO5<>DM5,\"שינוי תקציב\",\"\")","v":""},null,{"$f":"IF(DQ5<>DO5,\"שינוי תקציב\",\"\")","v":""},null,{"$f":"IF(DS5<>DQ5,\"שינוי תקציב\",\"\")","v":""},null,{"$f":"IF(DU5<>DS5,\"שינוי תקציב\",\"\")","v":""},null,{"$f":"IF(DW5<>DU5,\"שינוי תקציב\",\"\")","v":""},null,{"$f":"IF(DY5<>DW5,\"שינוי תקציב\",\"\")","v":""},null,{"$f":"IF(EA5<>DY5,\"שינוי תקציב\",\"\")","v":""},null,{"$f":"IFERROR(YEAR(ED4),\"שנה 6\")","v":2026},{"$f":"IF(ED5<>EA5,\"שינוי תקציב\",\"\")","v":""},null,{"$f":"IF(EF5<>ED5,\"שינוי תקציב\",\"\")","v":""},null,{"$f":"IF(EH5<>EF5,\"שינוי תקציב\",\"\")","v":""},null,{"$f":"IF(EJ5<>EH5,\"שינוי תקציב\",\"\")","v":""},null,{"$f":"IF(EL5<>EJ5,\"שינוי תקציב\",\"\")","v":""},null,{"$f":"IF(EN5<>EL5,\"שינוי תקציב\",\"\")","v":""},null,{"$f":"IF(EP5<>EN5,\"שינוי תקציב\",\"\")","v":""},null,{"$f":"IF(ER5<>EP5,\"שינוי תקציב\",\"\")","v":""},null,{"$f":"IF(ET5<>ER5,\"שינוי תקציב\",\"\")","v":""},null,{"$f":"IF(EV5<>ET5,\"שינוי תקציב\",\"\")","v":""},null,{"$f":"IF(EX5<>EV5,\"שינוי תקציב\",\"\")","v":""},null,{"$f":"IF(EZ5<>EX5,\"שינוי תקציב\",\"\")","v":""},null,{"$f":"IFERROR(YEAR(FC4),\"שנה 7\")","v":2027},{"$f":"IF(FC5<>EZ5,\"שינוי תקציב\",\"\")","v":""},null,{"$f":"IF(FE5<>FC5,\"שינוי תקציב\",\"\")","v":""},null,{"$f":"IF(FG5<>FE5,\"שינוי תקציב\",\"\")","v":""},null,{"$f":"IF(FI5<>FG5,\"שינוי תקציב\",\"\")","v":""},null,{"$f":"IF(FK5<>FI5,\"שינוי תקציב\",\"\")","v":""},null,{"$f":"IF(FM5<>FK5,\"שינוי תקציב\",\"\")","v":""},null,{"$f":"IF(FO5<>FM5,\"שינוי תקציב\",\"\")","v":""},null,{"$f":"IF(FQ5<>FO5,\"שינוי תקציב\",\"\")","v":""},null,{"$f":"IF(FS5<>FQ5,\"שינוי תקציב\",\"\")","v":""},null,{"$f":"IF(FU5<>FS5,\"שינוי תקציב\",\"\")","v":""},null,{"$f":"IF(FW5<>FU5,\"שינוי תקציב\",\"\")","v":""},null,{"$f":"IF(FY5<>FW5,\"שינוי תקציב\",\"\")","v":""},null,{"$f":"IFERROR(YEAR(GB4),\"שנה 8\")","v":2028},{"$f":"IF(GB5<>FY5,\"שינוי תקציב\",\"\")","v":""},null,{"$f":"IF(GD5<>GB5,\"שינוי תקציב\",\"\")","v":""},null,{"$f":"IF(GF5<>GD5,\"שינוי תקציב\",\"\")","v":""},null,{"$f":"IF(GH5<>GF5,\"שינוי תקציב\",\"\")","v":""},null,{"$f":"IF(GJ5<>GH5,\"שינוי תקציב\",\"\")","v":""},null,{"$f":"IF(GL5<>GJ5,\"שינוי תקציב\",\"\")","v":""},null,{"$f":"IF(GN5<>GL5,\"שינוי תקציב\",\"\")","v":""},null,{"$f":"IF(GP5<>GN5,\"שינוי תקציב\",\"\")","v":""},null,{"$f":"IF(GR5<>GP5,\"שינוי תקציב\",\"\")","v":""},null,{"$f":"IF(GT5<>GR5,\"שינוי תקציב\",\"\")","v":""},null,{"$f":"IF(GV5<>GT5,\"שינוי תקציב\",\"\")","v":""},null,{"$f":"IF(GX5<>GV5,\"שינוי תקציב\",\"\")","v":""},null,{"$f":"IFERROR(YEAR(HA4),\"שנה 9\")","v":2029},{"$f":"IF(HA5<>GX5,\"שינוי תקציב\",\"\")","v":""},null,{"$f":"IF(HC5<>HA5,\"שינוי תקציב\",\"\")","v":""},null,{"$f":"IF(HE5<>HC5,\"שינוי תקציב\",\"\")","v":""},null,{"$f":"IF(HG5<>HE5,\"שינוי תקציב\",\"\")","v":""},null,{"$f":"IF(HI5<>HG5,\"שינוי תקציב\",\"\")","v":""},null,{"$f":"IF(HK5<>HI5,\"שינוי תקציב\",\"\")","v":""},null,{"$f":"IF(HM5<>HK5,\"שינוי תקציב\",\"\")","v":""},null,{"$f":"IF(HO5<>HM5,\"שינוי תקציב\",\"\")","v":""},null,{"$f":"IF(HQ5<>HO5,\"שינוי תקציב\",\"\")","v":""},null,{"$f":"IF(HS5<>HQ5,\"שינוי תקציב\",\"\")","v":""},null,{"$f":"IF(HU5<>HS5,\"שינוי תקציב\",\"\")","v":""},null,{"$f":"IF(HW5<>HU5,\"שינוי תקציב\",\"\")","v":""},null,{"$f":"IFERROR(YEAR(HZ4),\"שנה 10\")","v":2030},{"$f":"IF(HZ5<>HW5,\"שינוי תקציב\",\"\")","v":""},null,{"$f":"IF(IB5<>HZ5,\"שינוי תקציב\",\"\")","v":""},null,{"$f":"IF(ID5<>IB5,\"שינוי תקציב\",\"\")","v":""},null,{"$f":"IF(IF5<>ID5,\"שינוי תקציב\",\"\")","v":""},null,{"$f":"IF(IH5<>IF5,\"שינוי תקציב\",\"\")","v":""},null,{"$f":"IF(IJ5<>IH5,\"שינוי תקציב\",\"\")","v":""},null,{"$f":"IF(IL5<>IJ5,\"שינוי תקציב\",\"\")","v":""},null,{"$f":"IF(IN5<>IL5,\"שינוי תקציב\",\"\")","v":""},null,{"$f":"IF(IP5<>IN5,\"שינוי תקציב\",\"\")","v":""},null,{"$f":"IF(IR5<>IP5,\"שינוי תקציב\",\"\")","v":""},null,{"$f":"IF(IT5<>IR5,\"שינוי תקציב\",\"\")","v":""},null,{"$f":"IF(IV5<>IT5,\"שינוי תקציב\",\"\")","v":""}]
[null,null,null,"תקציב הוצאות",null,null,"חודשי חריגה בשנה",{"$f":"IF(SUM(I3:AE3)>0,SUM(I3:AE3),0)","v":0},{"$f":"IF(I6<0,1,0)","v":0},null,{"$f":"IF(K6<0,1,0)","v":0},0,0,0,0,0,0,0,0,0,0,0,0,0,0,0,0,0,0,0,0,0,{"$f":"IF(SUM(AH3:BD3)>0,SUM(AH3:BD3),0)","v":0},0,0,0,0,0,0,0,0,0,0,0,0,0,0,0,0,0,0,0,0,0,0,0,0,{"$f":"IF(SUM(BG3:CC3)>0,SUM(BG3:CC3),0)","v":0},0,0,0,0,0,0,0,0,0,0,0,0,0,0,0,0,0,0,{"$f":"IF(BY6<0,1,0)","v":0},0,0,0,0,0,{"$f":"IF(SUM(CF3:DB3)>0,SUM(CF3:DB3),0)","v":0},0,0,0,0,0,0,0,0,0,0,0,0,0,0,0,0,0,0,0,0,0,0,0,0,{"$f":"IF(SUM(DE3:EA3)>0,SUM(DE3:EA3),0)","v":0},0,0,0,0,0,0,0,0,0,0,0,0,0,0,0,0,0,0,0,0,0,0,0,null,{"$f":"IF(SUM(ED3:EZ3)>0,SUM(ED3:EZ3),0)","v":0},{"$f":"IF(ED6<0,1,0)","v":0},0,0,0,0,0,0,0,0,0,0,0,0,0,0,0,0,0,0,0,0,0,0,null,{"$f":"IF(SUM(FC3:FY3)>0,SUM(FC3:FY3),0)","v":0},{"$f":"IF(FC6<0,1,0)","v":0},0,0,0,0,0,0,0,0,0,0,0,0,0,0,0,0,0,0,0,0,0,0,null,{"$f":"IF(SUM(GB3:GX3)>0,SUM(GB3:GX3),0)","v":0},{"$f":"IF(GB6<0,1,0)","v":0},0,0,0,0,0,0,0,0,0,0,0,0,0,0,0,0,0,0,0,0,0,0,null,{"$f":"IF(SUM(HA3:HW3)>0,SUM(HA3:HW3),0)","v":0},{"$f":"IF(HA6<0,1,0)","v":0},0,0,0,0,0,0,0,0,0,0,0,0,0,0,0,0,0,0,0,0,0,0,null,{"$f":"IF(SUM(HZ3:IV3)>0,SUM(HZ3:IV3),0)","v":0},{"$f":"IF(HZ6<0,1,0)","v":0},0,0,0,0,0,0,0,0,0,0,0,0,0,0,0,0,0,0,0,0,0,0]
[null,null,null,"החזר חובות",null,null,null,null,{"$f":"DATE(YEAR(TODAY()),MONTH(TODAY()),1)","v":"2021-01-01"},null,{"$f":"IF($I$4=\"\",\"\",I4+VLOOKUP(I4,סגמנטים!$A$1:$B$997,2,0))","v":"2021-02-01"},null,{"$f":"IF($I$4=\"\",\"\",K4+VLOOKUP(K4,סגמנטים!$A$1:$B$997,2,0))","v":"2021-03-01"},null,{"$f":"IF($I$4=\"\",\"\",M4+VLOOKUP(M4,סגמנטים!$A$1:$B$997,2,0))","v":"2021-04-01"},null,{"$f":"IF($I$4=\"\",\"\",O4+VLOOKUP(O4,סגמנטים!$A$1:$B$997,2,0))","v":"2021-05-01"},null,{"$f":"IF($I$4=\"\",\"\",Q4+VLOOKUP(Q4,סגמנטים!$A$1:$B$997,2,0))","v":"2021-06-01"},null,{"$f":"IF($I$4=\"\",\"\",S4+VLOOKUP(S4,סגמנטים!$A$1:$B$997,2,0))","v":"2021-07-01"},null,{"$f":"IF($I$4=\"\",\"\",U4+VLOOKUP(U4,סגמנטים!$A$1:$B$997,2,0))","v":"2021-08-01"},null,{"$f":"IF($I$4=\"\",\"\",W4+VLOOKUP(W4,סגמנטים!$A$1:$B$997,2,0))","v":"2021-09-01"},null,{"$f":"IF($I$4=\"\",\"\",Y4+VLOOKUP(Y4,סגמנטים!$A$1:$B$997,2,0))","v":"2021-10-01"},null,{"$f":"IF($I$4=\"\",\"\",AA4+VLOOKUP(AA4,סגמנטים!$A$1:$B$997,2,0))","v":"2021-11-01"},null,{"$f":"IF($I$4=\"\",\"\",AC4+VLOOKUP(AC4,סגמנטים!$A$1:$B$997,2,0))","v":"2021-12-01"},null,null,{"$f":"IF($I$4=\"\",\"\",AE4+VLOOKUP(AE4,סגמנטים!$A$1:$B$997,2,0))","v":"2022-01-01"},null,{"$f":"IF($I$4=\"\",\"\",AH4+VLOOKUP(AH4,סגמנטים!$A$1:$B$997,2,0))","v":"2022-02-01"},null,{"$f":"IF($I$4=\"\",\"\",AJ4+VLOOKUP(AJ4,סגמנטים!$A$1:$B$997,2,0))","v":"2022-03-01"},null,{"$f":"IF($I$4=\"\",\"\",AL4+VLOOKUP(AL4,סגמנטים!$A$1:$B$997,2,0))","v":"2022-04-01"},null,{"$f":"IF($I$4=\"\",\"\",AN4+VLOOKUP(AN4,סגמנטים!$A$1:$B$997,2,0))","v":"2022-05-01"},null,{"$f":"IF($I$4=\"\",\"\",AP4+VLOOKUP(AP4,סגמנטים!$A$1:$B$997,2,0))","v":"2022-06-01"},null,{"$f":"IF($I$4=\"\",\"\",AR4+VLOOKUP(AR4,סגמנטים!$A$1:$B$997,2,0))","v":"2022-07-01"},null,{"$f":"IF($I$4=\"\",\"\",AT4+VLOOKUP(AT4,סגמנטים!$A$1:$B$997,2,0))","v":"2022-08-01"},null,{"$f":"IF($I$4=\"\",\"\",AV4+VLOOKUP(AV4,סגמנטים!$A$1:$B$997,2,0))","v":"2022-09-01"},null,{"$f":"IF($I$4=\"\",\"\",AX4+VLOOKUP(AX4,סגמנטים!$A$1:$B$997,2,0))","v":"2022-10-01"},null,{"$f":"IF($I$4=\"\",\"\",AZ4+VLOOKUP(AZ4,סגמנטים!$A$1:$B$997,2,0))","v":"2022-11-01"},null,{"$f":"IF($I$4=\"\",\"\",BB4+VLOOKUP(BB4,סגמנטים!$A$1:$B$997,2,0))","v":"2022-12-01"},null,null,{"$f":"IF($I$4=\"\",\"\",BD4+VLOOKUP(BD4,סגמנטים!$A$1:$B$997,2,0))","v":"2023-01-01"},null,{"$f":"IF($I$4=\"\",\"\",BG4+VLOOKUP(BG4,סגמנטים!$A$1:$B$997,2,0))","v":"2023-02-01"},null,{"$f":"IF($I$4=\"\",\"\",BI4+VLOOKUP(BI4,סגמנטים!$A$1:$B$997,2,0))","v":"2023-03-01"},null,{"$f":"IF($I$4=\"\",\"\",BK4+VLOOKUP(BK4,סגמנטים!$A$1:$B$997,2,0))","v":"2023-04-01"},null,{"$f":"IF($I$4=\"\",\"\",BM4+VLOOKUP(BM4,סגמנטים!$A$1:$B$997,2,0))","v":"2023-05-01"},null,{"$f":"IF($I$4=\"\",\"\",BO4+VLOOKUP(BO4,סגמנטים!$A$1:$B$997,2,0))","v":"2023-06-01"},null,{"$f":"IF($I$4=\"\",\"\",BQ4+VLOOKUP(BQ4,סגמנטים!$A$1:$B$997,2,0))","v":"2023-07-01"},null,{"$f":"IF($I$4=\"\",\"\",BS4+VLOOKUP(BS4,סגמנטים!$A$1:$B$997,2,0))","v":"2023-08-01"},null,{"$f":"IF($I$4=\"\",\"\",BU4+VLOOKUP(BU4,סגמנטים!$A$1:$B$997,2,0))","v":"2023-09-01"},null,{"$f":"IF($I$4=\"\",\"\",BW4+VLOOKUP(BW4,סגמנטים!$A$1:$B$997,2,0))","v":"2023-10-01"},null,{"$f":"IF($I$4=\"\",\"\",BY4+VLOOKUP(BY4,סגמנטים!$A$1:$B$997,2,0))","v":"2023-11-01"},null,{"$f":"IF($I$4=\"\",\"\",CA4+VLOOKUP(CA4,סגמנטים!$A$1:$B$997,2,0))","v":"2023-12-01"},null,null,{"$f":"IF($I$4=\"\",\"\",CC4+VLOOKUP(CC4,סגמנטים!$A$1:$B$997,2,0))","v":"2024-01-01"},null,{"$f":"IF($I$4=\"\",\"\",CF4+VLOOKUP(CF4,סגמנטים!$A$1:$B$997,2,0))","v":"2024-02-01"},null,{"$f":"IF($I$4=\"\",\"\",CH4+VLOOKUP(CH4,סגמנטים!$A$1:$B$997,2,0))","v":"2024-03-01"},null,{"$f":"IF($I$4=\"\",\"\",CJ4+VLOOKUP(CJ4,סגמנטים!$A$1:$B$997,2,0))","v":"2024-04-01"},null,{"$f":"IF($I$4=\"\",\"\",CL4+VLOOKUP(CL4,סגמנטים!$A$1:$B$997,2,0))","v":"2024-05-01"},null,{"$f":"IF($I$4=\"\",\"\",CN4+VLOOKUP(CN4,סגמנטים!$A$1:$B$997,2,0))","v":"2024-06-01"},null,{"$f":"IF($I$4=\"\",\"\",CP4+VLOOKUP(CP4,סגמנטים!$A$1:$B$997,2,0))","v":"2024-07-01"},null,{"$f":"IF($I$4=\"\",\"\",CR4+VLOOKUP(CR4,סגמנטים!$A$1:$B$997,2,0))","v":"2024-08-01"},null,{"$f":"IF($I$4=\"\",\"\",CT4+VLOOKUP(CT4,סגמנטים!$A$1:$B$997,2,0))","v":"2024-09-01"},null,{"$f":"IF($I$4=\"\",\"\",CV4+VLOOKUP(CV4,סגמנטים!$A$1:$B$997,2,0))","v":"2024-10-01"},null,{"$f":"IF($I$4=\"\",\"\",CX4+VLOOKUP(CX4,סגמנטים!$A$1:$B$997,2,0))","v":"2024-11-01"},null,{"$f":"IF($I$4=\"\",\"\",CZ4+VLOOKUP(CZ4,סגמנטים!$A$1:$B$997,2,0))","v":"2024-12-01"},null,null,{"$f":"IF($I$4=\"\",\"\",DB4+VLOOKUP(DB4,סגמנטים!$A$1:$B$997,2,0))","v":"2025-01-01"},null,{"$f":"IF($I$4=\"\",\"\",DE4+VLOOKUP(DE4,סגמנטים!$A$1:$B$997,2,0))","v":"2025-02-01"},null,{"$f":"IF($I$4=\"\",\"\",DG4+VLOOKUP(DG4,סגמנטים!$A$1:$B$997,2,0))","v":"2025-03-01"},null,{"$f":"IF($I$4=\"\",\"\",DI4+VLOOKUP(DI4,סגמנטים!$A$1:$B$997,2,0))","v":"2025-04-01"},null,{"$f":"IF($I$4=\"\",\"\",DK4+VLOOKUP(DK4,סגמנטים!$A$1:$B$997,2,0))","v":"2025-05-01"},null,{"$f":"IF($I$4=\"\",\"\",DM4+VLOOKUP(DM4,סגמנטים!$A$1:$B$997,2,0))","v":"2025-06-01"},null,{"$f":"IF($I$4=\"\",\"\",DO4+VLOOKUP(DO4,סגמנטים!$A$1:$B$997,2,0))","v":"2025-07-01"},null,{"$f":"IF($I$4=\"\",\"\",DQ4+VLOOKUP(DQ4,סגמנטים!$A$1:$B$997,2,0))","v":"2025-08-01"},null,{"$f":"IF($I$4=\"\",\"\",DS4+VLOOKUP(DS4,סגמנטים!$A$1:$B$997,2,0))","v":"2025-09-01"},null,{"$f":"IF($I$4=\"\",\"\",DU4+VLOOKUP(DU4,סגמנטים!$A$1:$B$997,2,0))","v":"2025-10-01"},null,{"$f":"IF($I$4=\"\",\"\",DW4+VLOOKUP(DW4,סגמנטים!$A$1:$B$997,2,0))","v":"2025-11-01"},null,{"$f":"IF($I$4=\"\",\"\",DY4+VLOOKUP(DY4,סגמנטים!$A$1:$B$997,2,0))","v":"2025-12-01"},null,null,{"$f":"IF($I$4=\"\",\"\",EA4+VLOOKUP(EA4,סגמנטים!$A$1:$B$997,2,0))","v":"2026-01-01"},null,{"$f":"IF($I$4=\"\",\"\",ED4+VLOOKUP(ED4,סגמנטים!$A$1:$B$997,2,0))","v":"2026-02-01"},null,{"$f":"IF($I$4=\"\",\"\",EF4+VLOOKUP(EF4,סגמנטים!$A$1:$B$997,2,0))","v":"2026-03-01"},null,{"$f":"IF($I$4=\"\",\"\",EH4+VLOOKUP(EH4,סגמנטים!$A$1:$B$997,2,0))","v":"2026-04-01"},null,{"$f":"IF($I$4=\"\",\"\",EJ4+VLOOKUP(EJ4,סגמנטים!$A$1:$B$997,2,0))","v":"2026-05-01"},null,{"$f":"IF($I$4=\"\",\"\",EL4+VLOOKUP(EL4,סגמנטים!$A$1:$B$997,2,0))","v":"2026-06-01"},null,{"$f":"IF($I$4=\"\",\"\",EN4+VLOOKUP(EN4,סגמנטים!$A$1:$B$997,2,0))","v":"2026-07-01"},null,{"$f":"IF($I$4=\"\",\"\",EP4+VLOOKUP(EP4,סגמנטים!$A$1:$B$997,2,0))","v":"2026-08-01"},null,{"$f":"IF($I$4=\"\",\"\",ER4+VLOOKUP(ER4,סגמנטים!$A$1:$B$997,2,0))","v":"2026-09-01"},null,{"$f":"IF($I$4=\"\",\"\",ET4+VLOOKUP(ET4,סגמנטים!$A$1:$B$997,2,0))","v":"2026-10-01"},null,{"$f":"IF($I$4=\"\",\"\",EV4+VLOOKUP(EV4,סגמנטים!$A$1:$B$997,2,0))","v":"2026-11-01"},null,{"$f":"IF($I$4=\"\",\"\",EX4+VLOOKUP(EX4,סגמנטים!$A$1:$B$997,2,0))","v":"2026-12-01"},null,null,{"$f":"IF($I$4=\"\",\"\",EZ4+VLOOKUP(EZ4,סגמנטים!$A$1:$B$997,2,0))","v":"2027-01-01"},null,{"$f":"IF($I$4=\"\",\"\",FC4+VLOOKUP(FC4,סגמנטים!$A$1:$B$997,2,0))","v":"2027-02-01"},null,{"$f":"IF($I$4=\"\",\"\",FE4+VLOOKUP(FE4,סגמנטים!$A$1:$B$997,2,0))","v":"2027-03-01"},null,{"$f":"IF($I$4=\"\",\"\",FG4+VLOOKUP(FG4,סגמנטים!$A$1:$B$997,2,0))","v":"2027-04-01"},null,{"$f":"IF($I$4=\"\",\"\",FI4+VLOOKUP(FI4,סגמנטים!$A$1:$B$997,2,0))","v":"2027-05-01"},null,{"$f":"IF($I$4=\"\",\"\",FK4+VLOOKUP(FK4,סגמנטים!$A$1:$B$997,2,0))","v":"2027-06-01"},null,{"$f":"IF($I$4=\"\",\"\",FM4+VLOOKUP(FM4,סגמנטים!$A$1:$B$997,2,0))","v":"2027-07-01"},null,{"$f":"IF($I$4=\"\",\"\",FO4+VLOOKUP(FO4,סגמנטים!$A$1:$B$997,2,0))","v":"2027-08-01"},null,{"$f":"IF($I$4=\"\",\"\",FQ4+VLOOKUP(FQ4,סגמנטים!$A$1:$B$997,2,0))","v":"2027-09-01"},null,{"$f":"IF($I$4=\"\",\"\",FS4+VLOOKUP(FS4,סגמנטים!$A$1:$B$997,2,0))","v":"2027-10-01"},null,{"$f":"IF($I$4=\"\",\"\",FU4+VLOOKUP(FU4,סגמנטים!$A$1:$B$997,2,0))","v":"2027-11-01"},null,{"$f":"IF($I$4=\"\",\"\",FW4+VLOOKUP(FW4,סגמנטים!$A$1:$B$997,2,0))","v":"2027-12-01"},null,null,{"$f":"IF($I$4=\"\",\"\",FY4+VLOOKUP(FY4,סגמנטים!$A$1:$B$997,2,0))","v":"2028-01-01"},null,{"$f":"IF($I$4=\"\",\"\",GB4+VLOOKUP(GB4,סגמנטים!$A$1:$B$997,2,0))","v":"2028-02-01"},null,{"$f":"IF($I$4=\"\",\"\",GD4+VLOOKUP(GD4,סגמנטים!$A$1:$B$997,2,0))","v":"2028-03-01"},null,{"$f":"IF($I$4=\"\",\"\",GF4+VLOOKUP(GF4,סגמנטים!$A$1:$B$997,2,0))","v":"2028-04-01"},null,{"$f":"IF($I$4=\"\",\"\",GH4+VLOOKUP(GH4,סגמנטים!$A$1:$B$997,2,0))","v":"2028-05-01"},null,{"$f":"IF($I$4=\"\",\"\",GJ4+VLOOKUP(GJ4,סגמנטים!$A$1:$B$997,2,0))","v":"2028-06-01"},null,{"$f":"IF($I$4=\"\",\"\",GL4+VLOOKUP(GL4,סגמנטים!$A$1:$B$997,2,0))","v":"2028-07-01"},null,{"$f":"IF($I$4=\"\",\"\",GN4+VLOOKUP(GN4,סגמנטים!$A$1:$B$997,2,0))","v":"2028-08-01"},null,{"$f":"IF($I$4=\"\",\"\",GP4+VLOOKUP(GP4,סגמנטים!$A$1:$B$997,2,0))","v":"2028-09-01"},null,{"$f":"IF($I$4=\"\",\"\",GR4+VLOOKUP(GR4,סגמנטים!$A$1:$B$997,2,0))","v":"2028-10-01"},null,{"$f":"IF($I$4=\"\",\"\",GT4+VLOOKUP(GT4,סגמנטים!$A$1:$B$997,2,0))","v":"2028-11-01"},null,{"$f":"IF($I$4=\"\",\"\",GV4+VLOOKUP(GV4,סגמנטים!$A$1:$B$997,2,0))","v":"2028-12-01"},null,null,{"$f":"IF($I$4=\"\",\"\",GX4+VLOOKUP(GX4,סגמנטים!$A$1:$B$997,2,0))","v":"2029-01-01"},null,{"$f":"IF($I$4=\"\",\"\",HA4+VLOOKUP(HA4,סגמנטים!$A$1:$B$997,2,0))","v":"2029-02-01"},null,{"$f":"IF($I$4=\"\",\"\",HC4+VLOOKUP(HC4,סגמנטים!$A$1:$B$997,2,0))","v":"2029-03-01"},null,{"$f":"IF($I$4=\"\",\"\",HE4+VLOOKUP(HE4,סגמנטים!$A$1:$B$997,2,0))","v":"2029-04-01"},null,{"$f":"IF($I$4=\"\",\"\",HG4+VLOOKUP(HG4,סגמנטים!$A$1:$B$997,2,0))","v":"2029-05-01"},null,{"$f":"IF($I$4=\"\",\"\",HI4+VLOOKUP(HI4,סגמנטים!$A$1:$B$997,2,0))","v":"2029-06-01"},null,{"$f":"IF($I$4=\"\",\"\",HK4+VLOOKUP(HK4,סגמנטים!$A$1:$B$997,2,0))","v":"2029-07-01"},null,{"$f":"IF($I$4=\"\",\"\",HM4+VLOOKUP(HM4,סגמנטים!$A$1:$B$997,2,0))","v":"2029-08-01"},null,{"$f":"IF($I$4=\"\",\"\",HO4+VLOOKUP(HO4,סגמנטים!$A$1:$B$997,2,0))","v":"2029-09-01"},null,{"$f":"IF($I$4=\"\",\"\",HQ4+VLOOKUP(HQ4,סגמנטים!$A$1:$B$997,2,0))","v":"2029-10-01"},null,{"$f":"IF($I$4=\"\",\"\",HS4+VLOOKUP(HS4,סגמנטים!$A$1:$B$997,2,0))","v":"2029-11-01"},null,{"$f":"IF($I$4=\"\",\"\",HU4+VLOOKUP(HU4,סגמנטים!$A$1:$B$997,2,0))","v":"2029-12-01"},null,null,{"$f":"IF($I$4=\"\",\"\",HW4+VLOOKUP(HW4,סגמנטים!$A$1:$B$997,2,0))","v":"2030-01-01"},null,{"$f":"IF($I$4=\"\",\"\",HZ4+VLOOKUP(HZ4,סגמנטים!$A$1:$B$997,2,0))","v":"2030-02-01"},null,{"$f":"IF($I$4=\"\",\"\",IB4+VLOOKUP(IB4,סגמנטים!$A$1:$B$997,2,0))","v":"2030-03-01"},null,{"$f":"IF($I$4=\"\",\"\",ID4+VLOOKUP(ID4,סגמנטים!$A$1:$B$997,2,0))","v":"2030-04-01"},null,{"$f":"IF($I$4=\"\",\"\",IF4+VLOOKUP(IF4,סגמנטים!$A$1:$B$997,2,0))","v":"2030-05-01"},null,{"$f":"IF($I$4=\"\",\"\",IH4+VLOOKUP(IH4,סגמנטים!$A$1:$B$997,2,0))","v":"2030-06-01"},null,{"$f":"IF($I$4=\"\",\"\",IJ4+VLOOKUP(IJ4,סגמנטים!$A$1:$B$997,2,0))","v":"2030-07-01"},null,{"$f":"IF($I$4=\"\",\"\",IL4+VLOOKUP(IL4,סגמנטים!$A$1:$B$997,2,0))","v":"2030-08-01"},null,{"$f":"IF($I$4=\"\",\"\",IN4+VLOOKUP(IN4,סגמנטים!$A$1:$B$997,2,0))","v":"2030-09-01"},null,{"$f":"IF($I$4=\"\",\"\",IP4+VLOOKUP(IP4,סגמנטים!$A$1:$B$997,2,0))","v":"2030-10-01"},null,{"$f":"IF($I$4=\"\",\"\",IR4+VLOOKUP(IR4,סגמנטים!$A$1:$B$997,2,0))","v":"2030-11-01"},null,{"$f":"IF($I$4=\"\",\"\",IT4+VLOOKUP(IT4,סגמנטים!$A$1:$B$997,2,0))","v":"2030-12-01"}]
[null,null,null,"יתרה בבנק",null,null,"מאזן חודשי",null,{"$f":"$E$2-$E$3-$E$4+SUM(I9:I101)","v":0},null,{"$f":"$E$2-$E$3-$E$4+SUM(K9:K101)","v":0},null,{"$f":"$E$2-$E$3-$E$4+SUM(M9:M101)","v":0},null,{"$f":"$E$2-$E$3-$E$4+SUM(O9:O101)","v":0},null,{"$f":"$E$2-$E$3-$E$4+SUM(Q9:Q101)","v":0},null,{"$f":"$E$2-$E$3-$E$4+SUM(S9:S101)","v":0},null,{"$f":"$E$2-$E$3-$E$4+SUM(U9:U101)","v":0},null,{"$f":"$E$2-$E$3-$E$4+SUM(W9:W101)","v":0},null,{"$f":"$E$2-$E$3-$E$4+SUM(Y9:Y101)","v":0},null,{"$f":"$E$2-$E$3-$E$4+SUM(AA9:AA101)","v":0},null,{"$f":"$E$2-$E$3-$E$4+SUM(AC9:AC101)","v":0},null,{"$f":"$E$2-$E$3-$E$4+SUM(AE9:AE101)","v":0},null,null,{"$f":"$E$2-$E$3-$E$4+SUM(AH9:AH101)","v":0},null,{"$f":"$E$2-$E$3-$E$4+SUM(AJ9:AJ101)","v":0},null,{"$f":"$E$2-$E$3-$E$4+SUM(AL9:AL101)","v":0},null,{"$f":"$E$2-$E$3-$E$4+SUM(AN9:AN101)","v":0},null,{"$f":"$E$2-$E$3-$E$4+SUM(AP9:AP101)","v":0},null,{"$f":"$E$2-$E$3-$E$4+SUM(AR9:AR101)","v":0},null,{"$f":"$E$2-$E$3-$E$4+SUM(AT9:AT101)","v":0},null,{"$f":"$E$2-$E$3-$E$4+SUM(AV9:AV101)","v":0},null,{"$f":"$E$2-$E$3-$E$4+SUM(AX9:AX101)","v":0},null,{"$f":"$E$2-$E$3-$E$4+SUM(AZ9:AZ101)","v":0},null,{"$f":"$E$2-$E$3-$E$4+SUM(BB9:BB101)","v":0},null,{"$f":"$E$2-$E$3-$E$4+SUM(BD9:BD101)","v":0},null,null,{"$f":"$E$2-$E$3-$E$4+SUM(BG9:BG101)","v":0},null,{"$f":"$E$2-$E$3-$E$4+SUM(BI9:BI101)","v":0},null,{"$f":"$E$2-$E$3-$E$4+SUM(BK9:BK101)","v":0},null,{"$f":"$E$2-$E$3-$E$4+SUM(BM9:BM101)","v":0},null,{"$f":"$E$2-$E$3-$E$4+SUM(BO9:BO101)","v":0},null,{"$f":"$E$2-$E$3-$E$4+SUM(BQ9:BQ101)","v":0},null,{"$f":"$E$2-$E$3-$E$4+SUM(BS9:BS101)","v":0},null,{"$f":"$E$2-$E$3-$E$4+SUM(BU9:BU101)","v":0},null,{"$f":"$E$2-$E$3-$E$4+SUM(BW9:BW101)","v":0},null,{"$f":"$E$2-$E$3-$E$4+SUM(BY9:BY101)","v":0},null,{"$f":"$E$2-$E$3-$E$4+SUM(CA9:CA101)","v":0},null,{"$f":"$E$2-$E$3-$E$4+SUM(CC9:CC101)","v":0},null,null,{"$f":"$E$2-$E$3-$E$4+SUM(CF9:CF101)","v":0},null,{"$f":"$E$2-$E$3-$E$4+SUM(CH9:CH101)","v":0},null,{"$f":"$E$2-$E$3-$E$4+SUM(CJ9:CJ101)","v":0},null,{"$f":"$E$2-$E$3-$E$4+SUM(CL9:CL101)","v":0},null,{"$f":"$E$2-$E$3-$E$4+SUM(CN9:CN101)","v":0},null,{"$f":"$E$2-$E$3-$E$4+SUM(CP9:CP101)","v":0},null,{"$f":"$E$2-$E$3-$E$4+SUM(CR9:CR101)","v":0},null,{"$f":"$E$2-$E$3-$E$4+SUM(CT9:CT101)","v":0},null,{"$f":"$E$2-$E$3-$E$4+SUM(CV9:CV101)","v":0},null,{"$f":"$E$2-$E$3-$E$4+SUM(CX9:CX101)","v":0},null,{"$f":"$E$2-$E$3-$E$4+SUM(CZ9:CZ101)","v":0},null,{"$f":"$E$2-$E$3-$E$4+SUM(DB9:DB101)","v":0},null,null,{"$f":"$E$2-$E$3-$E$4+SUM(DE9:DE101)","v":0},null,{"$f":"$E$2-$E$3-$E$4+SUM(DG9:DG101)","v":0},null,{"$f":"$E$2-$E$3-$E$4+SUM(DI9:DI101)","v":0},null,{"$f":"$E$2-$E$3-$E$4+SUM(DK9:DK101)","v":0},null,{"$f":"$E$2-$E$3-$E$4+SUM(DM9:DM101)","v":0},null,{"$f":"$E$2-$E$3-$E$4+SUM(DO9:DO101)","v":0},null,{"$f":"$E$2-$E$3-$E$4+SUM(DQ9:DQ101)","v":0},null,{"$f":"$E$2-$E$3-$E$4+SUM(DS9:DS101)","v":0},null,{"$f":"$E$2-$E$3-$E$4+SUM(DU9:DU101)","v":0},null,{"$f":"$E$2-$E$3-$E$4+SUM(DW9:DW101)","v":0},null,{"$f":"$E$2-$E$3-$E$4+SUM(DY9:DY101)","v":0},null,{"$f":"$E$2-$E$3-$E$4+SUM(EA9:EA101)","v":0},null,null,{"$f":"$E$2-$E$3-$E$4+SUM(ED9:ED101)","v":0},null,{"$f":"$E$2-$E$3-$E$4+SUM(EF9:EF101)","v":0},null,{"$f":"$E$2-$E$3-$E$4+SUM(EH9:EH101)","v":0},null,{"$f":"$E$2-$E$3-$E$4+SUM(EJ9:EJ101)","v":0},null,{"$f":"$E$2-$E$3-$E$4+SUM(EL9:EL101)","v":0},null,{"$f":"$E$2-$E$3-$E$4+SUM(EN9:EN101)","v":0},null,{"$f":"$E$2-$E$3-$E$4+SUM(EP9:EP101)","v":0},null,{"$f":"$E$2-$E$3-$E$4+SUM(ER9:ER101)","v":0},null,{"$f":"$E$2-$E$3-$E$4+SUM(ET9:ET101)","v":0},null,{"$f":"$E$2-$E$3-$E$4+SUM(EV9:EV101)","v":0},null,{"$f":"$E$2-$E$3-$E$4+SUM(EX9:EX101)","v":0},null,{"$f":"$E$2-$E$3-$E$4+SUM(EZ9:EZ101)","v":0},null,null,{"$f":"$E$2-$E$3-$E$4+SUM(FC9:FC101)","v":0},null,{"$f":"$E$2-$E$3-$E$4+SUM(FE9:FE101)","v":0},null,{"$f":"$E$2-$E$3-$E$4+SUM(FG9:FG101)","v":0},null,{"$f":"$E$2-$E$3-$E$4+SUM(FI9:FI101)","v":0},null,{"$f":"$E$2-$E$3-$E$4+SUM(FK9:FK101)","v":0},null,{"$f":"$E$2-$E$3-$E$4+SUM(FM9:FM101)","v":0},null,{"$f":"$E$2-$E$3-$E$4+SUM(FO9:FO101)","v":0},null,{"$f":"$E$2-$E$3-$E$4+SUM(FQ9:FQ101)","v":0},null,{"$f":"$E$2-$E$3-$E$4+SUM(FS9:FS101)","v":0},null,{"$f":"$E$2-$E$3-$E$4+SUM(FU9:FU101)","v":0},null,{"$f":"$E$2-$E$3-$E$4+SUM(FW9:FW101)","v":0},null,{"$f":"$E$2-$E$3-$E$4+SUM(FY9:FY101)","v":0},null,null,{"$f":"$E$2-$E$3-$E$4+SUM(GB9:GB101)","v":0},null,{"$f":"$E$2-$E$3-$E$4+SUM(GD9:GD101)","v":0},null,{"$f":"$E$2-$E$3-$E$4+SUM(GF9:GF101)","v":0},null,{"$f":"$E$2-$E$3-$E$4+SUM(GH9:GH101)","v":0},null,{"$f":"$E$2-$E$3-$E$4+SUM(GJ9:GJ101)","v":0},null,{"$f":"$E$2-$E$3-$E$4+SUM(GL9:GL101)","v":0},null,{"$f":"$E$2-$E$3-$E$4+SUM(GN9:GN101)","v":0},null,{"$f":"$E$2-$E$3-$E$4+SUM(GP9:GP101)","v":0},null,{"$f":"$E$2-$E$3-$E$4+SUM(GR9:GR101)","v":0},null,{"$f":"$E$2-$E$3-$E$4+SUM(GT9:GT101)","v":0},null,{"$f":"$E$2-$E$3-$E$4+SUM(GV9:GV101)","v":0},null,{"$f":"$E$2-$E$3-$E$4+SUM(GX9:GX101)","v":0},null,null,{"$f":"$E$2-$E$3-$E$4+SUM(HA9:HA101)","v":0},null,{"$f":"$E$2-$E$3-$E$4+SUM(HC9:HC101)","v":0},null,{"$f":"$E$2-$E$3-$E$4+SUM(HE9:HE101)","v":0},null,{"$f":"$E$2-$E$3-$E$4+SUM(HG9:HG101)","v":0},null,{"$f":"$E$2-$E$3-$E$4+SUM(HI9:HI101)","v":0},null,{"$f":"$E$2-$E$3-$E$4+SUM(HK9:HK101)","v":0},null,{"$f":"$E$2-$E$3-$E$4+SUM(HM9:HM101)","v":0},null,{"$f":"$E$2-$E$3-$E$4+SUM(HO9:HO101)","v":0},null,{"$f":"$E$2-$E$3-$E$4+SUM(HQ9:HQ101)","v":0},null,{"$f":"$E$2-$E$3-$E$4+SUM(HS9:HS101)","v":0},null,{"$f":"$E$2-$E$3-$E$4+SUM(HU9:HU101)","v":0},null,{"$f":"$E$2-$E$3-$E$4+SUM(HW9:HW101)","v":0},null,null,{"$f":"$E$2-$E$3-$E$4+SUM(HZ9:HZ101)","v":0},null,{"$f":"$E$2-$E$3-$E$4+SUM(IB9:IB101)","v":0},null,{"$f":"$E$2-$E$3-$E$4+SUM(ID9:ID101)","v":0},null,{"$f":"$E$2-$E$3-$E$4+SUM(IF9:IF101)","v":0},null,{"$f":"$E$2-$E$3-$E$4+SUM(IH9:IH101)","v":0},null,{"$f":"$E$2-$E$3-$E$4+SUM(IJ9:IJ101)","v":0},null,{"$f":"$E$2-$E$3-$E$4+SUM(IL9:IL101)","v":0},null,{"$f":"$E$2-$E$3-$E$4+SUM(IN9:IN101)","v":0},null,{"$f":"$E$2-$E$3-$E$4+SUM(IP9:IP101)","v":0},null,{"$f":"$E$2-$E$3-$E$4+SUM(IR9:IR101)","v":0},null,{"$f":"$E$2-$E$3-$E$4+SUM(IT9:IT101)","v":0},null,{"$f":"$E$2-$E$3-$E$4+SUM(IV9:IV101)","v":0}]
[null,null,null,"נכון לחודש ",null,null,"יתרה צפויה",{"$f":"AE6","v":0},{"$f":"I5+E5","v":0},null,{"$f":"K5+I6","v":0},null,{"$f":"M5+K6","v":0},null,{"$f":"O5+M6","v":0},null,{"$f":"Q5+O6","v":0},null,{"$f":"S5+Q6","v":0},null,{"$f":"U5+S6","v":0},null,{"$f":"W5+U6","v":0},null,{"$f":"Y5+W6","v":0},null,{"$f":"AA5+Y6","v":0},null,{"$f":"AC5+AA6","v":0},null,{"$f":"AE5+AC6","v":0},null,{"$f":"BD6","v":0},{"$f":"AH5+AE6","v":0},null,{"$f":"AJ5+AH6","v":0},null,{"$f":"AL5+AJ6","v":0},null,{"$f":"AN5+AL6","v":0},null,{"$f":"AP5+AN6","v":0},null,{"$f":"AR5+AP6","v":0},null,{"$f":"AT5+AR6","v":0},null,{"$f":"AV5+AT6","v":0},null,{"$f":"AX5+AV6","v":0},null,{"$f":"AZ5+AX6","v":0},null,{"$f":"BB5+AZ6","v":0},null,{"$f":"BD5+BB6","v":0},null,{"$f":"CC6","v":0},{"$f":"BG5+BD6","v":0},null,{"$f":"BI5+BG6","v":0},null,{"$f":"BK5+BI6","v":0},null,{"$f":"BM5+BK6","v":0},null,{"$f":"BO5+BM6","v":0},null,{"$f":"BQ5+BO6","v":0},null,{"$f":"BS5+BQ6","v":0},null,{"$f":"BU5+BS6","v":0},null,{"$f":"BW5+BU6","v":0},null,{"$f":"BY5+BW6","v":0},null,{"$f":"CA5+BY6","v":0},null,{"$f":"CC5+CA6","v":0},null,{"$f":"DB6","v":0},{"$f":"CF5+CC6","v":0},null,{"$f":"CH5+CF6","v":0},null,{"$f":"CJ5+CH6","v":0},null,{"$f":"CL5+CJ6","v":0},null,{"$f":"CN5+CL6","v":0},null,{"$f":"CP5+CN6","v":0},null,{"$f":"CR5+CP6","v":0},null,{"$f":"CT5+CR6","v":0},null,{"$f":"CV5+CT6","v":0},null,{"$f":"CX5+CV6","v":0},null,{"$f":"CZ5+CX6","v":0},null,{"$f":"DB5+CZ6","v":0},null,{"$f":"EA6","v":0},{"$f":"DE5+DB6","v":0},null,{"$f":"DG5+DE6","v":0},null,{"$f":"DI5+DG6","v":0},null,{"$f":"DK5+DI6","v":0},null,{"$f":"DM5+DK6","v":0},null,{"$f":"DO5+DM6","v":0},null,{"$f":"DQ5+DO6","v":0},null,{"$f":"DS5+DQ6","v":0},null,{"$f":"DU5+DS6","v":0},null,{"$f":"DW5+DU6","v":0},null,{"$f":"DY5+DW6","v":0},null,{"$f":"EA5+DY6","v":0},null,{"$f":"EZ6","v":0},{"$f":"ED5+EA6","v":0},null,{"$f":"EF5+ED6","v":0},null,{"$f":"EH5+EF6","v":0},null,{"$f":"EJ5+EH6","v":0},null,{"$f":"EL5+EJ6","v":0},null,{"$f":"EN5+EL6","v":0},null,{"$f":"EP5+EN6","v":0},null,{"$f":"ER5+EP6","v":0},null,{"$f":"ET5+ER6","v":0},null,{"$f":"EV5+ET6","v":0},null,{"$f":"EX5+EV6","v":0},null,{"$f":"EZ5+EX6","v":0},null,{"$f":"FY6","v":0},{"$f":"FC5+EZ6","v":0},null,{"$f":"FE5+FC6","v":0},null,{"$f":"FG5+FE6","v":0},null,{"$f":"FI5+FG6","v":0},null,{"$f":"FK5+FI6","v":0},null,{"$f":"FM5+FK6","v":0},null,{"$f":"FO5+FM6","v":0},null,{"$f":"FQ5+FO6","v":0},null,{"$f":"FS5+FQ6","v":0},null,{"$f":"FU5+FS6","v":0},null,{"$f":"FW5+FU6","v":0},null,{"$f":"FY5+FW6","v":0},null,{"$f":"GX6","v":0},{"$f":"GB5+FY6","v":0},null,{"$f":"GD5+GB6","v":0},null,{"$f":"GF5+GD6","v":0},null,{"$f":"GH5+GF6","v":0},null,{"$f":"GJ5+GH6","v":0},null,{"$f":"GL5+GJ6","v":0},null,{"$f":"GN5+GL6","v":0},null,{"$f":"GP5+GN6","v":0},null,{"$f":"GR5+GP6","v":0},null,{"$f":"GT5+GR6","v":0},null,{"$f":"GV5+GT6","v":0},null,{"$f":"GX5+GV6","v":0},null,{"$f":"HW6","v":0},{"$f":"HA5+GX6","v":0},null,{"$f":"HC5+HA6","v":0},null,{"$f":"HE5+HC6","v":0},null,{"$f":"HG5+HE6","v":0},null,{"$f":"HI5+HG6","v":0},null,{"$f":"HK5+HI6","v":0},null,{"$f":"HM5+HK6","v":0},null,{"$f":"HO5+HM6","v":0},null,{"$f":"HQ5+HO6","v":0},null,{"$f":"HS5+HQ6","v":0},null,{"$f":"HU5+HS6","v":0},null,{"$f":"HW5+HU6","v":0},null,{"$f":"IV6","v":0},{"$f":"HZ5+HW6","v":0},null,{"$f":"IB5+HZ6","v":0},null,{"$f":"ID5+IB6","v":0},null,{"$f":"IF5+ID6","v":0},null,{"$f":"IH5+IF6","v":0},null,{"$f":"IJ5+IH6","v":0},null,{"$f":"IL5+IJ6","v":0},null,{"$f":"IN5+IL6","v":0},null,{"$f":"IP5+IN6","v":0},null,{"$f":"IR5+IP6","v":0},null,{"$f":"IT5+IR6","v":0},null,{"$f":"IV5+IT6","v":0}]
[]
[null,null,"האירוע","  מחודש","לכמה חודשים?","השפעה כספית בחודש","סה\"כ לאירוע"]
[null,{"$f":"IFERROR(VLOOKUP('הזנת אירועים'!C9,סגמנטים!$D$2:$E$3,2,0),0)","v":0},{"$f":"'הזנת אירועים'!B9","v":0},{"$f":"'הזנת אירועים'!D9","v":"00:00:00"},{"$f":"IF('הזנת אירועים'!E9=סגמנטים!$F$2,1,IF('הזנת אירועים'!E9=סגמנטים!$F$3,999,'הזנת אירועים'!E9))","v":0},{"$f":"'הזנת אירועים'!F9","v":0},{"$f":"IF(E9<999,F9*E9,\"\")","v":0},null,{"$f":"IF(OR(J9=0,J9=E9+1),0,F9*$B9)","v":0},{"$f":"IF(I$4=D9,1,IF($I$4<D9,0,(IFERROR(VLOOKUP($I$4,סגמנטים!$A$1:$C$997,3)-VLOOKUP(D9,סגמנטים!$A$1:$C$997,3)+1,0))))","v":0},{"$f":"IF(OR(L9=0,L9=E9+1),0,F9*$B9)","v":0},{"$f":"IF($K$4=D9,1,IF(J9=0,0,IF(J9=E9+1,J9,J9+1)))","v":0},{"$f":"IF(OR(N9=0,N9=$E9+1),0,$F9*$B9)","v":0},{"$f":"IF($M$4=D9,1,IF(L9=0,0,IF(L9=E9+1,L9,L9+1)))","v":0},{"$f":"IF(OR(P9=0,P9=$E9+1),0,$F9*$B9)","v":0},{"$f":"IF($O$4=$D9,1,IF(N9=0,0,IF(N9=$E9+1,N9,N9+1)))","v":0},{"$f":"IF(OR(R9=0,R9=$E9+1),0,$F9*$B9)","v":0},{"$f":"IF($Q$4=$D9,1,IF(P9=0,0,IF(P9=$E9+1,P9,P9+1)))","v":0},{"$f":"IF(OR(T9=0,T9=$E9+1),0,$F9*$B9)","v":0},{"$f":"IF($S$4=$D9,1,IF(R9=0,0,IF(R9=$E9+1,R9,R9+1)))","v":0},{"$f":"IF(OR(V9=0,V9=$E9+1),0,$F9*$B9)","v":0},{"$f":"IF($U$4=$D9,1,IF(T9=0,0,IF(T9=$E9+1,T9,T9+1)))","v":0},{"$f":"IF(OR(X9=0,X9=$E9+1),0,$F9*$B9)","v":0},{"$f":"IF($W$4=$D9,1,IF(V9=0,0,IF(V9=$E9+1,V9,V9+1)))","v":0},{"$f":"IF(OR(Z9=0,Z9=$E9+1),0,$F9*$B9)","v":0},{"$f":"IF($Y$4=$D9,1,IF(X9=0,0,IF(X9=$E9+1,X9,X9+1)))","v":0},{"$f":"IF(OR(AB9=0,AB9=$E9+1),0,$F9*$B9)","v":0},{"$f":"IF($AA$4=$D9,1,IF(Z9=0,0,IF(Z9=$E9+1,Z9,Z9+1)))","v":0},{"$f":"IF(OR(AD9=0,AD9=$E9+1),0,$F9*$B9)","v":0},{"$f":"IF($AC$4=$D9,1,IF(AB9=0,0,IF(AB9=$E9+1,AB9,AB9+1)))","v":0},{"$f":"IF(OR(AF9=0,AF9=$E9+1),0,$F9*$B9)","v":0},{"$f":"IF($AE$4=$D9,1,IF(AD9=0,0,IF(AD9=$E9+1,AD9,AD9+1)))","v":0},null,{"$f":"IF(OR(AI9=0,AI9=$E9+1),0,$F9*$B9)","v":0},{"$f":"IF($AH$4=D9,1,IF(AF9=0,0,IF(AF9=E9+1,AF9,AF9+1)))","v":0},{"$f":"IF(OR(AK9=0,AK9=$E9+1),0,$F9*$B9)","v":0},{"$f":"IF($AJ$4=$D9,1,IF(AI9=0,0,IF(AI9=$E9+1,AI9,AI9+1)))","v":0},{"$f":"IF(OR(AM9=0,AM9=$E9+1),0,$F9*$B9)","v":0},{"$f":"IF($AL$4=$D9,1,IF(AK9=0,0,IF(AK9=$E9+1,AK9,AK9+1)))","v":0},{"$f":"IF(OR(AO9=0,AO9=$E9+1),0,$F9*$B9)","v":0},{"$f":"IF($AN$4=$D9,1,IF(AM9=0,0,IF(AM9=$E9+1,AM9,AM9+1)))","v":0},{"$f":"IF(OR(AQ9=0,AQ9=$E9+1),0,$F9*$B9)","v":0},{"$f":"IF($AP$4=$D9,1,IF(AO9=0,0,IF(AO9=$E9+1,AO9,AO9+1)))","v":0},{"$f":"IF(OR(AS9=0,AS9=$E9+1),0,$F9*$B9)","v":0},{"$f":"IF($AR$4=$D9,1,IF(AQ9=0,0,IF(AQ9=$E9+1,AQ9,AQ9+1)))","v":0},{"$f":"IF(OR(AU9=0,AU9=$E9+1),0,$F9*$B9)","v":0},{"$f":"IF($AT$4=$D9,1,IF(AS9=0,0,IF(AS9=$E9+1,AS9,AS9+1)))","v":0},{"$f":"IF(OR(AW9=0,AW9=$E9+1),0,$F9*$B9)","v":0},{"$f":"IF($AV$4=$D9,1,IF(AU9=0,0,IF(AU9=$E9+1,AU9,AU9+1)))","v":0},{"$f":"IF(OR(AY9=0,AY9=$E9+1),0,$F9*$B9)","v":0},{"$f":"IF($AX$4=$D9,1,IF(AW9=0,0,IF(AW9=$E9+1,AW9,AW9+1)))","v":0},{"$f":"IF(OR(BA9=0,BA9=$E9+1),0,$F9*$B9)","v":0},{"$f":"IF($AZ$4=$D9,1,IF(AY9=0,0,IF(AY9=$E9+1,AY9,AY9+1)))","v":0},{"$f":"IF(OR(BC9=0,BC9=$E9+1),0,$F9*$B9)","v":0},{"$f":"IF($BB$4=$D9,1,IF(BA9=0,0,IF(BA9=$E9+1,BA9,BA9+1)))","v":0},{"$f":"IF(OR(BE9=0,BE9=$E9+1),0,$F9*$B9)","v":0},{"$f":"IF($BD$4=$D9,1,IF(BC9=0,0,IF(BC9=$E9+1,BC9,BC9+1)))","v":0},null,{"$f":"IF(OR(BH9=0,BH9=$E9+1),0,$F9*$B9)","v":0},{"$f":"IF($BG$4=$D9,1,IF(BE9=0,0,IF(BE9=$E9+1,BE9,BE9+1)))","v":0},{"$f":"IF(OR(BJ9=0,BJ9=$E9+1),0,$F9*$B9)","v":0},{"$f":"IF($BI$4=$D9,1,IF(BH9=0,0,IF(BH9=$E9+1,BH9,BH9+1)))","v":0},{"$f":"IF(OR(BL9=0,BL9=$E9+1),0,$F9*$B9)","v":0},{"$f":"IF($BK$4=$D9,1,IF(BJ9=0,0,IF(BJ9=$E9+1,BJ9,BJ9+1)))","v":0},{"$f":"IF(OR(BN9=0,BN9=$E9+1),0,$F9*$B9)","v":0},{"$f":"IF($BM$4=$D9,1,IF(BL9=0,0,IF(BL9=$E9+1,BL9,BL9+1)))","v":0},{"$f":"IF(OR(BP9=0,BP9=$E9+1),0,$F9*$B9)","v":0},{"$f":"IF($BO$4=$D9,1,IF(BN9=0,0,IF(BN9=$E9+1,BN9,BN9+1)))","v":0},{"$f":"IF(OR(BR9=0,BR9=$E9+1),0,$F9*$B9)","v":0},{"$f":"IF($BQ$4=$D9,1,IF(BP9=0,0,IF(BP9=$E9+1,BP9,BP9+1)))","v":0},{"$f":"IF(OR(BT9=0,BT9=$E9+1),0,$F9*$B9)","v":0},{"$f":"IF($BS$4=$D9,1,IF(BR9=0,0,IF(BR9=$E9+1,BR9,BR9+1)))","v":0},{"$f":"IF(OR(BV9=0,BV9=$E9+1),0,$F9*$B9)","v":0},{"$f":"IF($BU$4=$D9,1,IF(BT9=0,0,IF(BT9=$E9+1,BT9,BT9+1)))","v":0},{"$f":"IF(OR(BX9=0,BX9=$E9+1),0,$F9*$B9)","v":0},{"$f":"IF($BW$4=$D9,1,IF(BV9=0,0,IF(BV9=$E9+1,BV9,BV9+1)))","v":0},{"$f":"IF(OR(BZ9=0,BZ9=$E9+1),0,$F9*$B9)","v":0},{"$f":"IF($BY$4=$D9,1,IF(BX9=0,0,IF(BX9=$E9+1,BX9,BX9+1)))","v":0},{"$f":"IF(OR(CB9=0,CB9=$E9+1),0,$F9*$B9)","v":0},{"$f":"IF($CA$4=$D9,1,IF(BZ9=0,0,IF(BZ9=$E9+1,BZ9,BZ9+1)))","v":0},{"$f":"IF(OR(CD9=0,CD9=$E9+1),0,$F9*$B9)","v":0},{"$f":"IF($CC$4=$D9,1,IF(CB9=0,0,IF(CB9=$E9+1,CB9,CB9+1)))","v":0},null,{"$f":"IF(OR(CG9=0,CG9=$E9+1),0,$F9*$B9)","v":0},{"$f":"IF($CF$4=$D9,1,IF(CD9=0,0,IF(CD9=$E9+1,CD9,CD9+1)))","v":0},{"$f":"IF(OR(CI9=0,CI9=$E9+1),0,$F9*$B9)","v":0},{"$f":"IF($CH$4=$D9,1,IF(CG9=0,0,IF(CG9=$E9+1,CG9,CG9+1)))","v":0},{"$f":"IF(OR(CK9=0,CK9=$E9+1),0,$F9*$B9)","v":0},{"$f":"IF($CJ$4=$D9,1,IF(CI9=0,0,IF(CI9=$E9+1,CI9,CI9+1)))","v":0},{"$f":"IF(OR(CM9=0,CM9=$E9+1),0,$F9*$B9)","v":0},{"$f":"IF($CL$4=$D9,1,IF(CK9=0,0,IF(CK9=$E9+1,CK9,CK9+1)))","v":0},{"$f":"IF(OR(CO9=0,CO9=$E9+1),0,$F9*$B9)","v":0},{"$f":"IF($CN$4=$D9,1,IF(CM9=0,0,IF(CM9=$E9+1,CM9,CM9+1)))","v":0},{"$f":"IF(OR(CQ9=0,CQ9=$E9+1),0,$F9*$B9)","v":0},{"$f":"IF($CP$4=$D9,1,IF(CO9=0,0,IF(CO9=$E9+1,CO9,CO9+1)))","v":0},{"$f":"IF(OR(CS9=0,CS9=$E9+1),0,$F9*$B9)","v":0},{"$f":"IF($CR$4=$D9,1,IF(CQ9=0,0,IF(CQ9=$E9+1,CQ9,CQ9+1)))","v":0},{"$f":"IF(OR(CU9=0,CU9=$E9+1),0,$F9*$B9)","v":0},{"$f":"IF($CT$4=$D9,1,IF(CS9=0,0,IF(CS9=$E9+1,CS9,CS9+1)))","v":0},{"$f":"IF(OR(CW9=0,CW9=$E9+1),0,$F9*$B9)","v":0},{"$f":"IF($CV$4=$D9,1,IF(CU9=0,0,IF(CU9=$E9+1,CU9,CU9+1)))","v":0},{"$f":"IF(OR(CY9=0,CY9=$E9+1),0,$F9*$B9)","v":0},{"$f":"IF($CX$4=$D9,1,IF(CW9=0,0,IF(CW9=$E9+1,CW9,CW9+1)))","v":0},{"$f":"IF(OR(DA9=0,DA9=$E9+1),0,$F9*$B9)","v":0},{"$f":"IF($CZ$4=$D9,1,IF(CY9=0,0,IF(CY9=$E9+1,CY9,CY9+1)))","v":0},{"$f":"IF(OR(DC9=0,DC9=$E9+1),0,$F9*$B9)","v":0},{"$f":"IF($DB$4=$D9,1,IF(DA9=0,0,IF(DA9=$E9+1,DA9,DA9+1)))","v":0},null,{"$f":"IF(OR(DF9=0,DF9=$E9+1),0,$F9*$B9)","v":0},{"$f":"IF($DE$4=$D9,1,IF(DC9=0,0,IF(DC9=$E9+1,DC9,DC9+1)))","v":0},{"$f":"IF(OR(DH9=0,DH9=$E9+1),0,$F9*$B9)","v":0},{"$f":"IF($DG$4=$D9,1,IF(DF9=0,0,IF(DF9=$E9+1,DF9,DF9+1)))","v":0},{"$f":"IF(OR(DJ9=0,DJ9=$E9+1),0,$F9*$B9)","v":0},{"$f":"IF($DI$4=$D9,1,IF(DH9=0,0,IF(DH9=$E9+1,DH9,DH9+1)))","v":0},{"$f":"IF(OR(DL9=0,DL9=$E9+1),0,$F9*$B9)","v":0},{"$f":"IF($DK$4=$D9,1,IF(DJ9=0,0,IF(DJ9=$E9+1,DJ9,DJ9+1)))","v":0},{"$f":"IF(OR(DN9=0,DN9=$E9+1),0,$F9*$B9)","v":0},{"$f":"IF($DM$4=$D9,1,IF(DL9=0,0,IF(DL9=$E9+1,DL9,DL9+1)))","v":0},{"$f":"IF(OR(DP9=0,DP9=$E9+1),0,$F9*$B9)","v":0},{"$f":"IF($DO$4=$D9,1,IF(DN9=0,0,IF(DN9=$E9+1,DN9,DN9+1)))","v":0},{"$f":"IF(OR(DR9=0,DR9=$E9+1),0,$F9*$B9)","v":0},{"$f":"IF($DQ$4=$D9,1,IF(DP9=0,0,IF(DP9=$E9+1,DP9,DP9+1)))","v":0},{"$f":"IF(OR(DT9=0,DT9=$E9+1),0,$F9*$B9)","v":0},{"$f":"IF($DS$4=$D9,1,IF(DR9=0,0,IF(DR9=$E9+1,DR9,DR9+1)))","v":0},{"$f":"IF(OR(DV9=0,DV9=$E9+1),0,$F9*$B9)","v":0},{"$f":"IF($DU$4=$D9,1,IF(DT9=0,0,IF(DT9=$E9+1,DT9,DT9+1)))","v":0},{"$f":"IF(OR(DX9=0,DX9=$E9+1),0,$F9*$B9)","v":0},{"$f":"IF($DW$4=$D9,1,IF(DV9=0,0,IF(DV9=$E9+1,DV9,DV9+1)))","v":0},{"$f":"IF(OR(DZ9=0,DZ9=$E9+1),0,$F9*$B9)","v":0},{"$f":"IF($DY$4=$D9,1,IF(DX9=0,0,IF(DX9=$E9+1,DX9,DX9+1)))","v":0},{"$f":"IF(OR(EB9=0,EB9=$E9+1),0,$F9*$B9)","v":0},{"$f":"IF($EA$4=$D9,1,IF(DZ9=0,0,IF(DZ9=$E9+1,DZ9,DZ9+1)))","v":0},null,{"$f":"IF(OR(EE9=0,EE9=$E9+1),0,$F9*$B9)","v":0},{"$f":"IF(ED$4=$D9,1,IF(EB9=0,0,IF(EB9=$E9+1,EB9,EB9+1)))","v":0},{"$f":"IF(OR(EG9=0,EG9=$E9+1),0,$F9*$B9)","v":0},{"$f":"IF(EF$4=$D9,1,IF(EE9=0,0,IF(EE9=$E9+1,EE9,EE9+1)))","v":0},{"$f":"IF(OR(EI9=0,EI9=$E9+1),0,$F9*$B9)","v":0},{"$f":"IF(EH$4=$D9,1,IF(EG9=0,0,IF(EG9=$E9+1,EG9,EG9+1)))","v":0},{"$f":"IF(OR(EK9=0,EK9=$E9+1),0,$F9*$B9)","v":0},{"$f":"IF(EJ$4=$D9,1,IF(EI9=0,0,IF(EI9=$E9+1,EI9,EI9+1)))","v":0},{"$f":"IF(OR(EM9=0,EM9=$E9+1),0,$F9*$B9)","v":0},{"$f":"IF(EL$4=$D9,1,IF(EK9=0,0,IF(EK9=$E9+1,EK9,EK9+1)))","v":0},{"$f":"IF(OR(EO9=0,EO9=$E9+1),0,$F9*$B9)","v":0},{"$f":"IF(EN$4=$D9,1,IF(EM9=0,0,IF(EM9=$E9+1,EM9,EM9+1)))","v":0},{"$f":"IF(OR(EQ9=0,EQ9=$E9+1),0,$F9*$B9)","v":0},{"$f":"IF(EP$4=$D9,1,IF(EO9=0,0,IF(EO9=$E9+1,EO9,EO9+1)))","v":0},{"$f":"IF(OR(ES9=0,ES9=$E9+1),0,$F9*$B9)","v":0},{"$f":"IF(ER$4=$D9,1,IF(EQ9=0,0,IF(EQ9=$E9+1,EQ9,EQ9+1)))","v":0},{"$f":"IF(OR(EU9=0,EU9=$E9+1),0,$F9*$B9)","v":0},{"$f":"IF(ET$4=$D9,1,IF(ES9=0,0,IF(ES9=$E9+1,ES9,ES9+1)))","v":0},{"$f":"IF(OR(EW9=0,EW9=$E9+1),0,$F9*$B9)","v":0},{"$f":"IF(EV$4=$D9,1,IF(EU9=0,0,IF(EU9=$E9+1,EU9,EU9+1)))","v":0},{"$f":"IF(OR(EY9=0,EY9=$E9+1),0,$F9*$B9)","v":0},{"$f":"IF(EX$4=$D9,1,IF(EW9=0,0,IF(EW9=$E9+1,EW9,EW9+1)))","v":0},{"$f":"IF(OR(FA9=0,FA9=$E9+1),0,$F9*$B9)","v":0},{"$f":"IF(EZ$4=$D9,1,IF(EY9=0,0,IF(EY9=$E9+1,EY9,EY9+1)))","v":0},null,{"$f":"IF(OR(FD9=0,FD9=$E9+1),0,$F9*$B9)","v":0},{"$f":"IF(FC$4=$D9,1,IF(FA9=0,0,IF(FA9=$E9+1,FA9,FA9+1)))","v":0},{"$f":"IF(OR(FF9=0,FF9=$E9+1),0,$F9*$B9)","v":0},{"$f":"IF(FE$4=$D9,1,IF(FD9=0,0,IF(FD9=$E9+1,FD9,FD9+1)))","v":0},{"$f":"IF(OR(FH9=0,FH9=$E9+1),0,$F9*$B9)","v":0},{"$f":"IF(FG$4=$D9,1,IF(FF9=0,0,IF(FF9=$E9+1,FF9,FF9+1)))","v":0},{"$f":"IF(OR(FJ9=0,FJ9=$E9+1),0,$F9*$B9)","v":0},{"$f":"IF(FI$4=$D9,1,IF(FH9=0,0,IF(FH9=$E9+1,FH9,FH9+1)))","v":0},{"$f":"IF(OR(FL9=0,FL9=$E9+1),0,$F9*$B9)","v":0},{"$f":"IF(FK$4=$D9,1,IF(FJ9=0,0,IF(FJ9=$E9+1,FJ9,FJ9+1)))","v":0},{"$f":"IF(OR(FN9=0,FN9=$E9+1),0,$F9*$B9)","v":0},{"$f":"IF(FM$4=$D9,1,IF(FL9=0,0,IF(FL9=$E9+1,FL9,FL9+1)))","v":0},{"$f":"IF(OR(FP9=0,FP9=$E9+1),0,$F9*$B9)","v":0},{"$f":"IF(FO$4=$D9,1,IF(FN9=0,0,IF(FN9=$E9+1,FN9,FN9+1)))","v":0},{"$f":"IF(OR(FR9=0,FR9=$E9+1),0,$F9*$B9)","v":0},{"$f":"IF(FQ$4=$D9,1,IF(FP9=0,0,IF(FP9=$E9+1,FP9,FP9+1)))","v":0},{"$f":"IF(OR(FT9=0,FT9=$E9+1),0,$F9*$B9)","v":0},{"$f":"IF(FS$4=$D9,1,IF(FR9=0,0,IF(FR9=$E9+1,FR9,FR9+1)))","v":0},{"$f":"IF(OR(FV9=0,FV9=$E9+1),0,$F9*$B9)","v":0},{"$f":"IF(FU$4=$D9,1,IF(FT9=0,0,IF(FT9=$E9+1,FT9,FT9+1)))","v":0},{"$f":"IF(OR(FX9=0,FX9=$E9+1),0,$F9*$B9)","v":0},{"$f":"IF(FW$4=$D9,1,IF(FV9=0,0,IF(FV9=$E9+1,FV9,FV9+1)))","v":0},{"$f":"IF(OR(FZ9=0,FZ9=$E9+1),0,$F9*$B9)","v":0},{"$f":"IF(FY$4=$D9,1,IF(FX9=0,0,IF(FX9=$E9+1,FX9,FX9+1)))","v":0},null,{"$f":"IF(OR(GC9=0,GC9=$E9+1),0,$F9*$B9)","v":0},{"$f":"IF(GB$4=$D9,1,IF(FZ9=0,0,IF(FZ9=$E9+1,FZ9,FZ9+1)))","v":0},{"$f":"IF(OR(GE9=0,GE9=$E9+1),0,$F9*$B9)","v":0},{"$f":"IF(GD$4=$D9,1,IF(GC9=0,0,IF(GC9=$E9+1,GC9,GC9+1)))","v":0},{"$f":"IF(OR(GG9=0,GG9=$E9+1),0,$F9*$B9)","v":0},{"$f":"IF(GF$4=$D9,1,IF(GE9=0,0,IF(GE9=$E9+1,GE9,GE9+1)))","v":0},{"$f":"IF(OR(GI9=0,GI9=$E9+1),0,$F9*$B9)","v":0},{"$f":"IF(GH$4=$D9,1,IF(GG9=0,0,IF(GG9=$E9+1,GG9,GG9+1)))","v":0},{"$f":"IF(OR(GK9=0,GK9=$E9+1),0,$F9*$B9)","v":0},{"$f":"IF(GJ$4=$D9,1,IF(GI9=0,0,IF(GI9=$E9+1,GI9,GI9+1)))","v":0},{"$f":"IF(OR(GM9=0,GM9=$E9+1),0,$F9*$B9)","v":0},{"$f":"IF(GL$4=$D9,1,IF(GK9=0,0,IF(GK9=$E9+1,GK9,GK9+1)))","v":0},{"$f":"IF(OR(GO9=0,GO9=$E9+1),0,$F9*$B9)","v":0},{"$f":"IF(GN$4=$D9,1,IF(GM9=0,0,IF(GM9=$E9+1,GM9,GM9+1)))","v":0},{"$f":"IF(OR(GQ9=0,GQ9=$E9+1),0,$F9*$B9)","v":0},{"$f":"IF(GP$4=$D9,1,IF(GO9=0,0,IF(GO9=$E9+1,GO9,GO9+1)))","v":0},{"$f":"IF(OR(GS9=0,GS9=$E9+1),0,$F9*$B9)","v":0},{"$f":"IF(GR$4=$D9,1,IF(GQ9=0,0,IF(GQ9=$E9+1,GQ9,GQ9+1)))","v":0},{"$f":"IF(OR(GU9=0,GU9=$E9+1),0,$F9*$B9)","v":0},{"$f":"IF(GT$4=$D9,1,IF(GS9=0,0,IF(GS9=$E9+1,GS9,GS9+1)))","v":0},{"$f":"IF(OR(GW9=0,GW9=$E9+1),0,$F9*$B9)","v":0},{"$f":"IF(GV$4=$D9,1,IF(GU9=0,0,IF(GU9=$E9+1,GU9,GU9+1)))","v":0},{"$f":"IF(OR(GY9=0,GY9=$E9+1),0,$F9*$B9)","v":0},{"$f":"IF(GX$4=$D9,1,IF(GW9=0,0,IF(GW9=$E9+1,GW9,GW9+1)))","v":0},null,{"$f":"IF(OR(HB9=0,HB9=$E9+1),0,$F9*$B9)","v":0},{"$f":"IF(HA$4=$D9,1,IF(GY9=0,0,IF(GY9=$E9+1,GY9,GY9+1)))","v":0},{"$f":"IF(OR(HD9=0,HD9=$E9+1),0,$F9*$B9)","v":0},{"$f":"IF(HC$4=$D9,1,IF(HB9=0,0,IF(HB9=$E9+1,HB9,HB9+1)))","v":0},{"$f":"IF(OR(HF9=0,HF9=$E9+1),0,$F9*$B9)","v":0},{"$f":"IF(HE$4=$D9,1,IF(HD9=0,0,IF(HD9=$E9+1,HD9,HD9+1)))","v":0},{"$f":"IF(OR(HH9=0,HH9=$E9+1),0,$F9*$B9)","v":0},{"$f":"IF(HG$4=$D9,1,IF(HF9=0,0,IF(HF9=$E9+1,HF9,HF9+1)))","v":0},{"$f":"IF(OR(HJ9=0,HJ9=$E9+1),0,$F9*$B9)","v":0},{"$f":"IF(HI$4=$D9,1,IF(HH9=0,0,IF(HH9=$E9+1,HH9,HH9+1)))","v":0},{"$f":"IF(OR(HL9=0,HL9=$E9+1),0,$F9*$B9)","v":0},{"$f":"IF(HK$4=$D9,1,IF(HJ9=0,0,IF(HJ9=$E9+1,HJ9,HJ9+1)))","v":0},{"$f":"IF(OR(HN9=0,HN9=$E9+1),0,$F9*$B9)","v":0},{"$f":"IF(HM$4=$D9,1,IF(HL9=0,0,IF(HL9=$E9+1,HL9,HL9+1)))","v":0},{"$f":"IF(OR(HP9=0,HP9=$E9+1),0,$F9*$B9)","v":0},{"$f":"IF(HO$4=$D9,1,IF(HN9=0,0,IF(HN9=$E9+1,HN9,HN9+1)))","v":0},{"$f":"IF(OR(HR9=0,HR9=$E9+1),0,$F9*$B9)","v":0},{"$f":"IF(HQ$4=$D9,1,IF(HP9=0,0,IF(HP9=$E9+1,HP9,HP9+1)))","v":0},{"$f":"IF(OR(HT9=0,HT9=$E9+1),0,$F9*$B9)","v":0},{"$f":"IF(HS$4=$D9,1,IF(HR9=0,0,IF(HR9=$E9+1,HR9,HR9+1)))","v":0},{"$f":"IF(OR(HV9=0,HV9=$E9+1),0,$F9*$B9)","v":0},{"$f":"IF(HU$4=$D9,1,IF(HT9=0,0,IF(HT9=$E9+1,HT9,HT9+1)))","v":0},{"$f":"IF(OR(HX9=0,HX9=$E9+1),0,$F9*$B9)","v":0},{"$f":"IF(HW$4=$D9,1,IF(HV9=0,0,IF(HV9=$E9+1,HV9,HV9+1)))","v":0},null,{"$f":"IF(OR(IA9=0,IA9=$E9+1),0,$F9*$B9)","v":0},{"$f":"IF(HZ$4=$D9,1,IF(HX9=0,0,IF(HX9=$E9+1,HX9,HX9+1)))","v":0},{"$f":"IF(OR(IC9=0,IC9=$E9+1),0,$F9*$B9)","v":0},{"$f":"IF(IB$4=$D9,1,IF(IA9=0,0,IF(IA9=$E9+1,IA9,IA9+1)))","v":0},{"$f":"IF(OR(IE9=0,IE9=$E9+1),0,$F9*$B9)","v":0},{"$f":"IF(ID$4=$D9,1,IF(IC9=0,0,IF(IC9=$E9+1,IC9,IC9+1)))","v":0},{"$f":"IF(OR(IG9=0,IG9=$E9+1),0,$F9*$B9)","v":0},{"$f":"IF(IF$4=$D9,1,IF(IE9=0,0,IF(IE9=$E9+1,IE9,IE9+1)))","v":0},{"$f":"IF(OR(II9=0,II9=$E9+1),0,$F9*$B9)","v":0},{"$f":"IF(IH$4=$D9,1,IF(IG9=0,0,IF(IG9=$E9+1,IG9,IG9+1)))","v":0},{"$f":"IF(OR(IK9=0,IK9=$E9+1),0,$F9*$B9)","v":0},{"$f":"IF(IJ$4=$D9,1,IF(II9=0,0,IF(II9=$E9+1,II9,II9+1)))","v":0},{"$f":"IF(OR(IM9=0,IM9=$E9+1),0,$F9*$B9)","v":0},{"$f":"IF(IL$4=$D9,1,IF(IK9=0,0,IF(IK9=$E9+1,IK9,IK9+1)))","v":0},{"$f":"IF(OR(IO9=0,IO9=$E9+1),0,$F9*$B9)","v":0},{"$f":"IF(IN$4=$D9,1,IF(IM9=0,0,IF(IM9=$E9+1,IM9,IM9+1)))","v":0},{"$f":"IF(OR(IQ9=0,IQ9=$E9+1),0,$F9*$B9)","v":0},{"$f":"IF(IP$4=$D9,1,IF(IO9=0,0,IF(IO9=$E9+1,IO9,IO9+1)))","v":0},{"$f":"IF(OR(IS9=0,IS9=$E9+1),0,$F9*$B9)","v":0},{"$f":"IF(IR$4=$D9,1,IF(IQ9=0,0,IF(IQ9=$E9+1,IQ9,IQ9+1)))","v":0},{"$f":"IF(OR(IU9=0,IU9=$E9+1),0,$F9*$B9)","v":0},{"$f":"IF(IT$4=$D9,1,IF(IS9=0,0,IF(IS9=$E9+1,IS9,IS9+1)))","v":0},{"$f":"IF(OR(IW9=0,IW9=$E9+1),0,$F9*$B9)","v":0},{"$f":"IF(IV$4=$D9,1,IF(IU9=0,0,IF(IU9=$E9+1,IU9,IU9+1)))","v":0}]
[null,{"$f":"IFERROR(VLOOKUP('הזנת אירועים'!C10,סגמנטים!$D$2:$E$3,2,0),0)","v":0},{"$f":"'הזנת אירועים'!B10","v":0},{"$f":"'הזנת אירועים'!D10","v":"00:00:00"},{"$f":"IF('הזנת אירועים'!E10=סגמנטים!$F$2,1,IF('הזנת אירועים'!E10=סגמנטים!$F$3,999,'הזנת אירועים'!E10))","v":0},{"$f":"'הזנת אירועים'!F10","v":0},{"$f":"IF(E10<999,F10*E10,\"\")","v":0},null,{"$f":"IF(OR(J10=0,J10=E10+1),0,F10*$B10)","v":0},{"$f":"IF(I$4=D10,1,IF($I$4<D10,0,(IFERROR(VLOOKUP($I$4,סגמנטים!$A$1:$C$997,3)-VLOOKUP(D10,סגמנטים!$A$1:$C$997,3)+1,0))))","v":0},{"$f":"IF(OR(L10=0,L10=E10+1),0,F10*$B10)","v":0},{"$f":"IF($K$4=D10,1,IF(J10=0,0,IF(J10=E10+1,J10,J10+1)))","v":0},0,{"$f":"IF($M$4=D10,1,IF(L10=0,0,IF(L10=E10+1,L10,L10+1)))","v":0},0,{"$f":"IF($O$4=$D10,1,IF(N10=0,0,IF(N10=$E10+1,N10,N10+1)))","v":0},0,{"$f":"IF($Q$4=$D10,1,IF(P10=0,0,IF(P10=$E10+1,P10,P10+1)))","v":0},0,{"$f":"IF($S$4=$D10,1,IF(R10=0,0,IF(R10=$E10+1,R10,R10+1)))","v":0},0,{"$f":"IF($U$4=$D10,1,IF(T10=0,0,IF(T10=$E10+1,T10,T10+1)))","v":0},0,{"$f":"IF($W$4=$D10,1,IF(V10=0,0,IF(V10=$E10+1,V10,V10+1)))","v":0},0,{"$f":"IF($Y$4=$D10,1,IF(X10=0,0,IF(X10=$E10+1,X10,X10+1)))","v":0},0,{"$f":"IF($AA$4=$D10,1,IF(Z10=0,0,IF(Z10=$E10+1,Z10,Z10+1)))","v":0},0,{"$f":"IF($AC$4=$D10,1,IF(AB10=0,0,IF(AB10=$E10+1,AB10,AB10+1)))","v":0},0,{"$f":"IF($AE$4=$D10,1,IF(AD10=0,0,IF(AD10=$E10+1,AD10,AD10+1)))","v":0},null,0,{"$f":"IF($AH$4=D10,1,IF(AF10=0,0,IF(AF10=E10+1,AF10,AF10+1)))","v":0},0,{"$f":"IF($AJ$4=$D10,1,IF(AI10=0,0,IF(AI10=$E10+1,AI10,AI10+1)))","v":0},0,{"$f":"IF($AL$4=$D10,1,IF(AK10=0,0,IF(AK10=$E10+1,AK10,AK10+1)))","v":0},0,{"$f":"IF($AN$4=$D10,1,IF(AM10=0,0,IF(AM10=$E10+1,AM10,AM10+1)))","v":0},0,{"$f":"IF($AP$4=$D10,1,IF(AO10=0,0,IF(AO10=$E10+1,AO10,AO10+1)))","v":0},0,{"$f":"IF($AR$4=$D10,1,IF(AQ10=0,0,IF(AQ10=$E10+1,AQ10,AQ10+1)))","v":0},0,{"$f":"IF($AT$4=$D10,1,IF(AS10=0,0,IF(AS10=$E10+1,AS10,AS10+1)))","v":0},0,{"$f":"IF($AV$4=$D10,1,IF(AU10=0,0,IF(AU10=$E10+1,AU10,AU10+1)))","v":0},0,{"$f":"IF($AX$4=$D10,1,IF(AW10=0,0,IF(AW10=$E10+1,AW10,AW10+1)))","v":0},0,{"$f":"IF($AZ$4=$D10,1,IF(AY10=0,0,IF(AY10=$E10+1,AY10,AY10+1)))","v":0},0,{"$f":"IF($BB$4=$D10,1,IF(BA10=0,0,IF(BA10=$E10+1,BA10,BA10+1)))","v":0},0,{"$f":"IF($BD$4=$D10,1,IF(BC10=0,0,IF(BC10=$E10+1,BC10,BC10+1)))","v":0},null,0,{"$f":"IF($BG$4=$D10,1,IF(BE10=0,0,IF(BE10=$E10+1,BE10,BE10+1)))","v":0},0,{"$f":"IF($BI$4=$D10,1,IF(BH10=0,0,IF(BH10=$E10+1,BH10,BH10+1)))","v":0},0,{"$f":"IF($BK$4=$D10,1,IF(BJ10=0,0,IF(BJ10=$E10+1,BJ10,BJ10+1)))","v":0},0,{"$f":"IF($BM$4=$D10,1,IF(BL10=0,0,IF(BL10=$E10+1,BL10,BL10+1)))","v":0},0,{"$f":"IF($BO$4=$D10,1,IF(BN10=0,0,IF(BN10=$E10+1,BN10,BN10+1)))","v":0},0,{"$f":"IF($BQ$4=$D10,1,IF(BP10=0,0,IF(BP10=$E10+1,BP10,BP10+1)))","v":0},0,{"$f":"IF($BS$4=$D10,1,IF(BR10=0,0,IF(BR10=$E10+1,BR10,BR10+1)))","v":0},0,{"$f":"IF($BU$4=$D10,1,IF(BT10=0,0,IF(BT10=$E10+1,BT10,BT10+1)))","v":0},0,{"$f":"IF($BW$4=$D10,1,IF(BV10=0,0,IF(BV10=$E10+1,BV10,BV10+1)))","v":0},0,{"$f":"IF($BY$4=$D10,1,IF(BX10=0,0,IF(BX10=$E10+1,BX10,BX10+1)))","v":0},0,{"$f":"IF($CA$4=$D10,1,IF(BZ10=0,0,IF(BZ10=$E10+1,BZ10,BZ10+1)))","v":0},0,{"$f":"IF($CC$4=$D10,1,IF(CB10=0,0,IF(CB10=$E10+1,CB10,CB10+1)))","v":0},null,0,0,0,0,0,0,0,0,0,0,0,0,0,0,0,0,0,0,0,0,0,0,0,0,null,0,0,0,0,0,0,0,0,0,0,0,0,0,0,0,0,0,0,0,0,0,0,0,0,null,0,{"$f":"IF(ED$4=$D10,1,IF(EB10=0,0,IF(EB10=$E10+1,EB10,EB10+1)))","v":0},0,{"$f":"IF(EF$4=$D10,1,IF(EE10=0,0,IF(EE10=$E10+1,EE10,EE10+1)))","v":0},0,{"$f":"IF(EH$4=$D10,1,IF(EG10=0,0,IF(EG10=$E10+1,EG10,EG10+1)))","v":0},0,{"$f":"IF(EJ$4=$D10,1,IF(EI10=0,0,IF(EI10=$E10+1,EI10,EI10+1)))","v":0},0,{"$f":"IF(EL$4=$D10,1,IF(EK10=0,0,IF(EK10=$E10+1,EK10,EK10+1)))","v":0},0,{"$f":"IF(EN$4=$D10,1,IF(EM10=0,0,IF(EM10=$E10+1,EM10,EM10+1)))","v":0},0,{"$f":"IF(EP$4=$D10,1,IF(EO10=0,0,IF(EO10=$E10+1,EO10,EO10+1)))","v":0},0,{"$f":"IF(ER$4=$D10,1,IF(EQ10=0,0,IF(EQ10=$E10+1,EQ10,EQ10+1)))","v":0},0,{"$f":"IF(ET$4=$D10,1,IF(ES10=0,0,IF(ES10=$E10+1,ES10,ES10+1)))","v":0},0,{"$f":"IF(EV$4=$D10,1,IF(EU10=0,0,IF(EU10=$E10+1,EU10,EU10+1)))","v":0},0,{"$f":"IF(EX$4=$D10,1,IF(EW10=0,0,IF(EW10=$E10+1,EW10,EW10+1)))","v":0},0,{"$f":"IF(EZ$4=$D10,1,IF(EY10=0,0,IF(EY10=$E10+1,EY10,EY10+1)))","v":0},null,0,{"$f":"IF(FC$4=$D10,1,IF(FA10=0,0,IF(FA10=$E10+1,FA10,FA10+1)))","v":0},0,{"$f":"IF(FE$4=$D10,1,IF(FD10=0,0,IF(FD10=$E10+1,FD10,FD10+1)))","v":0},0,{"$f":"IF(FG$4=$D10,1,IF(FF10=0,0,IF(FF10=$E10+1,FF10,FF10+1)))","v":0},0,{"$f":"IF(FI$4=$D10,1,IF(FH10=0,0,IF(FH10=$E10+1,FH10,FH10+1)))","v":0},0,{"$f":"IF(FK$4=$D10,1,IF(FJ10=0,0,IF(FJ10=$E10+1,FJ10,FJ10+1)))","v":0},0,{"$f":"IF(FM$4=$D10,1,IF(FL10=0,0,IF(FL10=$E10+1,FL10,FL10+1)))","v":0},0,{"$f":"IF(FO$4=$D10,1,IF(FN10=0,0,IF(FN10=$E10+1,FN10,FN10+1)))","v":0},0,{"$f":"IF(FQ$4=$D10,1,IF(FP10=0,0,IF(FP10=$E10+1,FP10,FP10+1)))","v":0},0,{"$f":"IF(FS$4=$D10,1,IF(FR10=0,0,IF(FR10=$E10+1,FR10,FR10+1)))","v":0},0,{"$f":"IF(FU$4=$D10,1,IF(FT10=0,0,IF(FT10=$E10+1,FT10,FT10+1)))","v":0},0,{"$f":"IF(FW$4=$D10,1,IF(FV10=0,0,IF(FV10=$E10+1,FV10,FV10+1)))","v":0},0,{"$f":"IF(FY$4=$D10,1,IF(FX10=0,0,IF(FX10=$E10+1,FX10,FX10+1)))","v":0},null,0,{"$f":"IF(GB$4=$D10,1,IF(FZ10=0,0,IF(FZ10=$E10+1,FZ10,FZ10+1)))","v":0},0,{"$f":"IF(GD$4=$D10,1,IF(GC10=0,0,IF(GC10=$E10+1,GC10,GC10+1)))","v":0},0,{"$f":"IF(GF$4=$D10,1,IF(GE10=0,0,IF(GE10=$E10+1,GE10,GE10+1)))","v":0},0,{"$f":"IF(GH$4=$D10,1,IF(GG10=0,0,IF(GG10=$E10+1,GG10,GG10+1)))","v":0},0,{"$f":"IF(GJ$4=$D10,1,IF(GI10=0,0,IF(GI10=$E10+1,GI10,GI10+1)))","v":0},0,{"$f":"IF(GL$4=$D10,1,IF(GK10=0,0,IF(GK10=$E10+1,GK10,GK10+1)))","v":0},0,{"$f":"IF(GN$4=$D10,1,IF(GM10=0,0,IF(GM10=$E10+1,GM10,GM10+1)))","v":0},0,{"$f":"IF(GP$4=$D10,1,IF(GO10=0,0,IF(GO10=$E10+1,GO10,GO10+1)))","v":0},0,{"$f":"IF(GR$4=$D10,1,IF(GQ10=0,0,IF(GQ10=$E10+1,GQ10,GQ10+1)))","v":0},0,{"$f":"IF(GT$4=$D10,1,IF(GS10=0,0,IF(GS10=$E10+1,GS10,GS10+1)))","v":0},0,{"$f":"IF(GV$4=$D10,1,IF(GU10=0,0,IF(GU10=$E10+1,GU10,GU10+1)))","v":0},0,{"$f":"IF(GX$4=$D10,1,IF(GW10=0,0,IF(GW10=$E10+1,GW10,GW10+1)))","v":0},null,0,{"$f":"IF(HA$4=$D10,1,IF(GY10=0,0,IF(GY10=$E10+1,GY10,GY10+1)))","v":0},0,{"$f":"IF(HC$4=$D10,1,IF(HB10=0,0,IF(HB10=$E10+1,HB10,HB10+1)))","v":0},0,{"$f":"IF(HE$4=$D10,1,IF(HD10=0,0,IF(HD10=$E10+1,HD10,HD10+1)))","v":0},0,{"$f":"IF(HG$4=$D10,1,IF(HF10=0,0,IF(HF10=$E10+1,HF10,HF10+1)))","v":0},0,{"$f":"IF(HI$4=$D10,1,IF(HH10=0,0,IF(HH10=$E10+1,HH10,HH10+1)))","v":0},0,{"$f":"IF(HK$4=$D10,1,IF(HJ10=0,0,IF(HJ10=$E10+1,HJ10,HJ10+1)))","v":0},0,{"$f":"IF(HM$4=$D10,1,IF(HL10=0,0,IF(HL10=$E10+1,HL10,HL10+1)))","v":0},0,{"$f":"IF(HO$4=$D10,1,IF(HN10=0,0,IF(HN10=$E10+1,HN10,HN10+1)))","v":0},0,{"$f":"IF(HQ$4=$D10,1,IF(HP10=0,0,IF(HP10=$E10+1,HP10,HP10+1)))","v":0},0,{"$f":"IF(HS$4=$D10,1,IF(HR10=0,0,IF(HR10=$E10+1,HR10,HR10+1)))","v":0},0,{"$f":"IF(HU$4=$D10,1,IF(HT10=0,0,IF(HT10=$E10+1,HT10,HT10+1)))","v":0},0,{"$f":"IF(HW$4=$D10,1,IF(HV10=0,0,IF(HV10=$E10+1,HV10,HV10+1)))","v":0},null,0,{"$f":"IF(HZ$4=$D10,1,IF(HX10=0,0,IF(HX10=$E10+1,HX10,HX10+1)))","v":0},0,{"$f":"IF(IB$4=$D10,1,IF(IA10=0,0,IF(IA10=$E10+1,IA10,IA10+1)))","v":0},0,{"$f":"IF(ID$4=$D10,1,IF(IC10=0,0,IF(IC10=$E10+1,IC10,IC10+1)))","v":0},0,{"$f":"IF(IF$4=$D10,1,IF(IE10=0,0,IF(IE10=$E10+1,IE10,IE10+1)))","v":0},0,{"$f":"IF(IH$4=$D10,1,IF(IG10=0,0,IF(IG10=$E10+1,IG10,IG10+1)))","v":0},0,{"$f":"IF(IJ$4=$D10,1,IF(II10=0,0,IF(II10=$E10+1,II10,II10+1)))","v":0},0,{"$f":"IF(IL$4=$D10,1,IF(IK10=0,0,IF(IK10=$E10+1,IK10,IK10+1)))","v":0},0,{"$f":"IF(IN$4=$D10,1,IF(IM10=0,0,IF(IM10=$E10+1,IM10,IM10+1)))","v":0},0,{"$f":"IF(IP$4=$D10,1,IF(IO10=0,0,IF(IO10=$E10+1,IO10,IO10+1)))","v":0},0,{"$f":"IF(IR$4=$D10,1,IF(IQ10=0,0,IF(IQ10=$E10+1,IQ10,IQ10+1)))","v":0},0,{"$f":"IF(IT$4=$D10,1,IF(IS10=0,0,IF(IS10=$E10+1,IS10,IS10+1)))","v":0},0,{"$f":"IF(IV$4=$D10,1,IF(IU10=0,0,IF(IU10=$E10+1,IU10,IU10+1)))","v":0}]
[null,{"$f":"IFERROR(VLOOKUP('הזנת אירועים'!C11,סגמנטים!$D$2:$E$3,2,0),0)","v":0},{"$f":"'הזנת אירועים'!B11","v":0},{"$f":"'הזנת אירועים'!D11","v":"00:00:00"},{"$f":"IF('הזנת אירועים'!E11=סגמנטים!$F$2,1,IF('הזנת אירועים'!E11=סגמנטים!$F$3,999,'הזנת אירועים'!E11))","v":0},{"$f":"'הזנת אירועים'!F11","v":0},0,null,0,{"$f":"IF(I$4=D11,1,IF($I$4<D11,0,(IFERROR(VLOOKUP($I$4,סגמנטים!$A$1:$C$997,3)-VLOOKUP(D11,סגמנטים!$A$1:$C$997,3)+1,0))))","v":0},0,0,0,0,0,0,0,0,0,0,0,0,0,0,0,0,0,0,0,0,0,{"$f":"IF($AE$4=$D11,1,IF(AD11=0,0,IF(AD11=$E11+1,AD11,AD11+1)))","v":0},null,0,0,0,{"$f":"IF($AJ$4=$D11,1,IF(AI11=0,0,IF(AI11=$E11+1,AI11,AI11+1)))","v":0},0,{"$f":"IF($AL$4=$D11,1,IF(AK11=0,0,IF(AK11=$E11+1,AK11,AK11+1)))","v":0},0,0,0,0,0,0,0,0,0,0,0,0,0,0,0,0,0,0,null,0,0,0,0,0,0,0,0,0,0,0,0,0,0,0,0,0,0,0,0,0,0,0,0,null,0,0,0,0,0,0,0,0,0,0,0,0,0,0,0,0,0,0,0,0,0,0,0,0,null,0,0,0,0,0,0,0,0,0,0,0,0,0,0,0,0,0,0,0,0,0,0,0,0,null,0,0,0,0,0,0,0,0,0,0,0,0,0,0,0,0,0,0,0,0,0,0,0,0,null,0,0,0,0,0,0,0,0,0,0,0,0,0,0,0,0,0,0,0,0,0,0,0,0,null,0,0,0,0,0,0,0,0,0,0,0,0,0,0,0,0,0,0,0,0,0,0,0,0,null,0,0,0,0,0,0,0,0,0,0,0,0,0,0,0,0,0,0,0,0,0,0,0,0,null,0,0,0,0,0,0,0,0,0,0,0,0,0,0,0,0,0,0,0,0,0,0,0,0]
[null,{"$f":"IFERROR(VLOOKUP('הזנת אירועים'!C12,סגמנטים!$D$2:$E$3,2,0),0)","v":0},{"$f":"'הזנת אירועים'!B12","v":0},{"$f":"'הזנת אירועים'!D12","v":"00:00:00"},{"$f":"IF('הזנת אירועים'!E12=סגמנטים!$F$2,1,IF('הזנת אירועים'!E12=סגמנטים!$F$3,999,'הזנת אירועים'!E12))","v":0},{"$f":"'הזנת אירועים'!F12","v":0},0,null,0,{"$f":"IF(I$4=D12,1,IF($I$4<D12,0,(IFERROR(VLOOKUP($I$4,סגמנטים!$A$1:$C$997,3)-VLOOKUP(D12,סגמנטים!$A$1:$C$997,3)+1,0))))","v":0},0,0,0,0,0,0,0,0,0,0,0,0,0,0,0,0,0,0,0,0,0,0,null,0,0,0,0,0,0,0,0,0,0,0,0,0,0,0,0,0,0,0,0,0,0,0,0,null,0,0,0,0,0,0,0,0,0,0,0,0,0,0,0,0,0,0,0,0,0,0,0,0,null,0,0,0,0,0,0,0,0,0,0,0,0,0,0,0,0,0,0,0,0,0,0,0,0,null,0,0,0,0,0,0,0,0,0,0,0,0,0,0,0,0,0,0,0,0,0,0,0,0,null,0,0,0,0,0,0,0,0,0,0,0,0,0,0,0,0,0,0,0,0,0,0,0,0,null,0,0,0,0,0,0,0,0,0,0,0,0,0,0,0,0,0,0,0,0,0,0,0,0,null,0,0,0,0,0,0,0,0,0,0,0,0,0,0,0,0,0,0,0,0,0,0,0,0,null,0,0,0,0,0,0,0,0,0,0,0,0,0,0,0,0,0,0,0,0,0,0,0,0,null,0,0,0,0,0,0,0,0,0,0,0,0,0,0,0,0,0,0,0,0,0,0,0,0]
[null,{"$f":"IFERROR(VLOOKUP('הזנת אירועים'!C13,סגמנטים!$D$2:$E$3,2,0),0)","v":0},{"$f":"'הזנת אירועים'!B13","v":0},{"$f":"'הזנת אירועים'!D13","v":"00:00:00"},{"$f":"IF('הזנת אירועים'!E13=סגמנטים!$F$2,1,IF('הזנת אירועים'!E13=סגמנטים!$F$3,999,'הזנת אירועים'!E13))","v":0},{"$f":"'הזנת אירועים'!F13","v":0},0,null,0,{"$f":"IF(I$4=D13,1,IF($I$4<D13,0,(IFERROR(VLOOKUP($I$4,סגמנטים!$A$1:$C$997,3)-VLOOKUP(D13,סגמנטים!$A$1:$C$997,3)+1,0))))","v":0},0,0,0,0,0,0,0,0,0,0,0,0,0,0,0,0,0,0,0,0,0,0,null,0,0,0,0,0,0,0,0,0,0,0,0,0,0,0,0,0,0,0,0,0,0,0,0,null,0,0,0,0,0,0,0,0,0,0,0,0,0,0,0,0,0,0,0,0,0,0,0,0,null,0,0,0,0,0,0,0,0,0,0,0,0,0,0,0,0,0,0,0,0,0,0,0,0,null,0,0,0,0,0,0,0,0,0,0,0,0,0,0,0,0,0,0,0,0,0,0,0,0,null,0,0,0,0,0,0,0,0,0,0,0,0,0,0,0,0,0,0,0,0,0,0,0,0,null,0,0,0,0,0,0,0,0,0,0,0,0,0,0,0,0,0,0,0,0,0,0,0,0,null,0,0,0,0,0,0,0,0,0,0,0,0,0,0,0,0,0,0,0,0,0,0,0,0,null,0,0,0,0,0,0,0,0,0,0,0,0,0,0,0,0,0,0,0,0,0,0,0,0,null,0,0,0,0,0,0,0,0,0,0,0,0,0,0,0,0,0,0,0,0,0,0,0,0]
[null,{"$f":"IFERROR(VLOOKUP('הזנת אירועים'!C14,סגמנטים!$D$2:$E$3,2,0),0)","v":0},{"$f":"'הזנת אירועים'!B14","v":0},{"$f":"'הזנת אירועים'!D14","v":"00:00:00"},{"$f":"IF('הזנת אירועים'!E14=סגמנטים!$F$2,1,IF('הזנת אירועים'!E14=סגמנטים!$F$3,999,'הזנת אירועים'!E14))","v":0},{"$f":"'הזנת אירועים'!F14","v":0},0,null,0,{"$f":"IF(I$4=D14,1,IF($I$4<D14,0,(IFERROR(VLOOKUP($I$4,סגמנטים!$A$1:$C$997,3)-VLOOKUP(D14,סגמנטים!$A$1:$C$997,3)+1,0))))","v":0},0,0,0,0,0,0,0,0,0,0,0,0,0,0,0,0,0,0,0,0,0,0,null,0,0,0,0,0,0,0,0,0,0,0,0,0,0,0,0,0,0,0,0,0,0,0,0,null,0,0,0,0,0,0,0,0,0,0,0,0,0,0,0,0,0,0,0,0,0,0,0,0,null,0,0,0,0,0,0,0,0,0,0,0,0,0,0,0,0,0,0,0,0,0,0,0,0,null,0,0,0,0,0,0,0,0,0,0,0,0,0,0,0,0,0,0,0,0,0,0,0,0,null,0,0,0,0,0,0,0,0,0,0,0,0,0,0,0,0,0,0,0,0,0,0,0,0,null,0,0,0,0,0,0,0,0,0,0,0,0,0,0,0,0,0,0,0,0,0,0,0,0,null,0,0,0,0,0,0,0,0,0,0,0,0,0,0,0,0,0,0,0,0,0,0,0,0,null,0,0,0,0,0,0,0,0,0,0,0,0,0,0,0,0,0,0,0,0,0,0,0,0,null,0,0,0,0,0,0,0,0,0,0,0,0,0,0,0,0,0,0,0,0,0,0,0,0]
[null,{"$f":"IFERROR(VLOOKUP('הזנת אירועים'!C15,סגמנטים!$D$2:$E$3,2,0),0)","v":0},{"$f":"'הזנת אירועים'!B15","v":0},{"$f":"'הזנת אירועים'!D15","v":"00:00:00"},{"$f":"IF('הזנת אירועים'!E15=סגמנטים!$F$2,1,IF('הזנת אירועים'!E15=סגמנטים!$F$3,999,'הזנת אירועים'!E15))","v":0},{"$f":"'הזנת אירועים'!F15","v":0},0,null,0,{"$f":"IF(I$4=D15,1,IF($I$4<D15,0,(IFERROR(VLOOKUP($I$4,סגמנטים!$A$1:$C$997,3)-VLOOKUP(D15,סגמנטים!$A$1:$C$997,3)+1,0))))","v":0},0,0,0,0,0,0,0,0,0,0,0,0,0,0,0,0,0,0,0,0,0,0,null,0,0,0,0,0,0,0,0,0,0,0,0,0,0,0,0,0,0,0,0,0,0,0,0,null,0,0,0,0,0,0,0,0,0,0,0,0,0,0,0,0,0,0,0,0,0,0,0,0,null,0,0,0,0,0,0,0,0,0,0,0,0,0,0,0,0,0,0,0,0,0,0,0,0,null,0,0,0,0,0,0,0,0,0,0,0,0,0,0,0,0,0,0,0,0,0,0,0,0,null,0,0,0,0,0,0,0,0,0,0,0,0,0,0,0,0,0,0,0,0,0,0,0,0,null,0,0,0,0,0,0,0,0,0,0,0,0,0,0,0,0,0,0,0,0,0,0,0,0,null,0,0,0,0,0,0,0,0,0,0,0,0,0,0,0,0,0,0,0,0,0,0,0,0,null,0,0,0,0,0,0,0,0,0,0,0,0,0,0,0,0,0,0,0,0,0,0,0,0,null,0,0,0,0,0,0,0,0,0,0,0,0,0,0,0,0,0,0,0,0,0,0,0,0]
[null,{"$f":"IFERROR(VLOOKUP('הזנת אירועים'!C16,סגמנטים!$D$2:$E$3,2,0),0)","v":0},{"$f":"'הזנת אירועים'!B16","v":0},{"$f":"'הזנת אירועים'!D16","v":"00:00:00"},{"$f":"IF('הזנת אירועים'!E16=סגמנטים!$F$2,1,IF('הזנת אירועים'!E16=סגמנטים!$F$3,999,'הזנת אירועים'!E16))","v":0},{"$f":"'הזנת אירועים'!F16","v":0},0,null,0,{"$f":"IF(I$4=D16,1,IF($I$4<D16,0,(IFERROR(VLOOKUP($I$4,סגמנטים!$A$1:$C$997,3)-VLOOKUP(D16,סגמנטים!$A$1:$C$997,3)+1,0))))","v":0},0,0,0,0,0,0,0,0,0,0,0,0,0,0,0,0,0,0,0,0,0,0,null,0,0,0,0,0,0,0,0,0,0,0,0,0,0,0,0,0,0,0,0,0,0,0,0,null,0,0,0,0,0,0,0,0,0,0,0,0,0,0,0,0,0,0,0,0,0,0,0,0,null,0,0,0,0,0,0,0,0,0,0,0,0,0,0,0,0,0,0,0,0,0,0,0,0,null,0,0,0,0,0,0,0,0,0,0,0,0,0,0,0,0,0,0,0,0,0,0,0,0,null,0,0,0,0,0,0,0,0,0,0,0,0,0,0,0,0,0,0,0,0,0,0,0,0,null,0,0,0,0,0,0,0,0,0,0,0,0,0,0,0,0,0,0,0,0,0,0,0,0,null,0,0,0,0,0,0,0,0,0,0,0,0,0,0,0,0,0,0,0,0,0,0,0,0,null,0,0,0,0,0,0,0,0,0,0,0,0,0,0,0,0,0,0,0,0,0,0,0,0,null,0,0,0,0,0,0,0,0,0,0,0,0,0,0,0,0,0,0,0,0,0,0,0,0]
[null,{"$f":"IFERROR(VLOOKUP('הזנת אירועים'!C17,סגמנטים!$D$2:$E$3,2,0),0)","v":0},{"$f":"'הזנת אירועים'!B17","v":0},{"$f":"'הזנת אירועים'!D17","v":"00:00:00"},{"$f":"IF('הזנת אירועים'!E17=סגמנטים!$F$2,1,IF('הזנת אירועים'!E17=סגמנטים!$F$3,999,'הזנת אירועים'!E17))","v":0},{"$f":"'הזנת אירועים'!F17","v":0},0,null,0,{"$f":"IF(I$4=D17,1,IF($I$4<D17,0,(IFERROR(VLOOKUP($I$4,סגמנטים!$A$1:$C$997,3)-VLOOKUP(D17,סגמנטים!$A$1:$C$997,3)+1,0))))","v":0},0,0,0,0,0,0,0,0,0,0,0,0,0,0,0,0,0,0,0,0,0,0,null,0,0,0,0,0,0,0,0,0,0,0,0,0,0,0,0,0,0,0,0,0,0,0,0,null,0,0,0,0,0,0,0,0,0,0,0,0,0,0,0,0,0,0,0,0,0,0,0,0,null,0,0,0,0,0,0,0,0,0,0,0,0,0,0,0,0,0,0,0,0,0,0,0,0,null,0,0,0,0,0,0,0,0,0,0,0,0,0,0,0,0,0,0,0,0,0,0,0,0,null,0,0,0,0,0,0,0,0,0,0,0,0,0,0,0,0,0,0,0,0,0,0,0,0,null,0,0,0,0,0,0,0,0,0,0,0,0,0,0,0,0,0,0,0,0,0,0,0,0,null,0,0,0,0,0,0,0,0,0,0,0,0,0,0,0,0,0,0,0,0,0,0,0,0,null,0,0,0,0,0,0,0,0,0,0,0,0,0,0,0,0,0,0,0,0,0,0,0,0,null,0,0,0,0,0,0,0,0,0,0,0,0,0,0,0,0,0,0,0,0,0,0,0,0]
[null,{"$f":"IFERROR(VLOOKUP('הזנת אירועים'!C18,סגמנטים!$D$2:$E$3,2,0),0)","v":0},{"$f":"'הזנת אירועים'!B18","v":0},{"$f":"'הזנת אירועים'!D18","v":"00:00:00"},{"$f":"IF('הזנת אירועים'!E18=סגמנטים!$F$2,1,IF('הזנת אירועים'!E18=סגמנטים!$F$3,999,'הזנת אירועים'!E18))","v":0},{"$f":"'הזנת אירועים'!F18","v":0},0,null,0,{"$f":"IF(I$4=D18,1,IF($I$4<D18,0,(IFERROR(VLOOKUP($I$4,סגמנטים!$A$1:$C$997,3)-VLOOKUP(D18,סגמנטים!$A$1:$C$997,3)+1,0))))","v":0},0,0,0,0,0,0,0,0,0,0,0,0,0,0,0,0,0,0,0,0,0,0,null,0,0,0,0,0,0,0,0,0,0,0,0,0,0,0,0,0,0,0,0,0,0,0,0,null,0,0,0,0,0,0,0,0,0,0,0,0,0,0,0,0,0,0,0,0,0,0,0,0,null,0,0,0,0,0,0,0,0,0,0,0,0,0,0,0,0,0,0,0,0,0,0,0,0,null,0,0,0,0,0,0,0,0,0,0,0,0,0,0,0,0,0,0,0,0,0,0,0,0,null,0,0,0,0,0,0,0,0,0,0,0,0,0,0,0,0,0,0,0,0,0,0,0,0,null,0,0,0,0,0,0,0,0,0,0,0,0,0,0,0,0,0,0,0,0,0,0,0,0,null,0,0,0,0,0,0,0,0,0,0,0,0,0,0,0,0,0,0,0,0,0,0,0,0,null,0,0,0,0,0,0,0,0,0,0,0,0,0,0,0,0,0,0,0,0,0,0,0,0,null,0,0,0,0,0,0,0,0,0,0,0,0,0,0,0,0,0,0,0,0,0,0,0,0]
[null,{"$f":"IFERROR(VLOOKUP('הזנת אירועים'!C19,סגמנטים!$D$2:$E$3,2,0),0)","v":0},{"$f":"'הזנת אירועים'!B19","v":0},{"$f":"'הזנת אירועים'!D19","v":"00:00:00"},{"$f":"IF('הזנת אירועים'!E19=סגמנטים!$F$2,1,IF('הזנת אירועים'!E19=סגמנטים!$F$3,999,'הזנת אירועים'!E19))","v":0},{"$f":"'הזנת אירועים'!F19","v":0},0,null,0,{"$f":"IF(I$4=D19,1,IF($I$4<D19,0,(IFERROR(VLOOKUP($I$4,סגמנטים!$A$1:$C$997,3)-VLOOKUP(D19,סגמנטים!$A$1:$C$997,3)+1,0))))","v":0},0,0,0,0,0,0,0,0,0,0,0,0,0,0,0,0,0,0,0,0,0,0,null,0,0,0,0,0,0,0,0,0,0,0,0,0,0,0,0,0,0,0,0,0,0,0,0,null,0,0,0,0,0,0,0,0,0,0,0,0,0,0,0,0,0,0,0,0,0,0,0,0,null,0,0,0,0,0,0,0,0,0,0,0,0,0,0,0,0,0,0,0,0,0,0,0,0,null,0,0,0,0,0,0,0,0,0,0,0,0,0,0,0,0,0,0,0,0,0,0,0,0,null,0,0,0,0,0,0,0,0,0,0,0,0,0,0,0,0,0,0,0,0,0,0,0,0,null,0,0,0,0,0,0,0,0,0,0,0,0,0,0,0,0,0,0,0,0,0,0,0,0,null,0,0,0,0,0,0,0,0,0,0,0,0,0,0,0,0,0,0,0,0,0,0,0,0,null,0,0,0,0,0,0,0,0,0,0,0,0,0,0,0,0,0,0,0,0,0,0,0,0,null,0,0,0,0,0,0,0,0,0,0,0,0,0,0,0,0,0,0,0,0,0,0,0,0]
[null,{"$f":"IFERROR(VLOOKUP('הזנת אירועים'!C20,סגמנטים!$D$2:$E$3,2,0),0)","v":0},{"$f":"'הזנת אירועים'!B20","v":0},{"$f":"'הזנת אירועים'!D20","v":"00:00:00"},{"$f":"IF('הזנת אירועים'!E20=סגמנטים!$F$2,1,IF('הזנת אירועים'!E20=סגמנטים!$F$3,999,'הזנת אירועים'!E20))","v":0},{"$f":"'הזנת אירועים'!F20","v":0},0,null,0,{"$f":"IF(I$4=D20,1,IF($I$4<D20,0,(IFERROR(VLOOKUP($I$4,סגמנטים!$A$1:$C$997,3)-VLOOKUP(D20,סגמנטים!$A$1:$C$997,3)+1,0))))","v":0},0,0,0,0,0,0,0,0,0,0,0,0,0,0,0,0,0,0,0,0,0,0,null,0,0,0,0,0,0,0,0,0,0,0,0,0,0,0,0,0,0,0,0,0,0,0,0,null,0,0,0,0,0,0,0,0,0,0,0,0,0,0,0,0,0,0,0,0,0,0,0,0,null,0,0,0,0,0,0,0,0,0,0,0,0,0,0,0,0,0,0,0,0,0,0,0,0,null,0,0,0,0,0,0,0,0,0,0,0,0,0,0,0,0,0,0,0,0,0,0,0,0,null,0,0,0,0,0,0,0,0,0,0,0,0,0,0,0,0,0,0,0,0,0,0,0,0,null,0,0,0,0,0,0,0,0,0,0,0,0,0,0,0,0,0,0,0,0,0,0,0,0,null,0,0,0,0,0,0,0,0,0,0,0,0,0,0,0,0,0,0,0,0,0,0,0,0,null,0,0,0,0,0,0,0,0,0,0,0,0,0,0,0,0,0,0,0,0,0,0,0,0,null,0,0,0,0,0,0,0,0,0,0,0,0,0,0,0,0,0,0,0,0,0,0,0,0]
[null,{"$f":"IFERROR(VLOOKUP('הזנת אירועים'!C21,סגמנטים!$D$2:$E$3,2,0),0)","v":0},{"$f":"'הזנת אירועים'!B21","v":0},{"$f":"'הזנת אירועים'!D21","v":"00:00:00"},{"$f":"IF('הזנת אירועים'!E21=סגמנטים!$F$2,1,IF('הזנת אירועים'!E21=סגמנטים!$F$3,999,'הזנת אירועים'!E21))","v":0},{"$f":"'הזנת אירועים'!F21","v":0},0,null,0,{"$f":"IF(I$4=D21,1,IF($I$4<D21,0,(IFERROR(VLOOKUP($I$4,סגמנטים!$A$1:$C$997,3)-VLOOKUP(D21,סגמנטים!$A$1:$C$997,3)+1,0))))","v":0},0,0,0,0,0,0,0,0,0,0,0,0,0,0,0,0,0,0,0,0,0,0,null,0,0,0,0,0,0,0,0,0,0,0,0,0,0,0,0,0,0,0,0,0,0,0,0,null,0,0,0,0,0,0,0,0,0,0,0,0,0,0,0,0,0,0,0,0,0,0,0,0,null,0,0,0,0,0,0,0,0,0,0,0,0,0,0,0,0,0,0,0,0,0,0,0,0,null,0,0,0,0,0,0,0,0,0,0,0,0,0,0,0,0,0,0,0,0,0,0,0,0,null,0,0,0,0,0,0,0,0,0,0,0,0,0,0,0,0,0,0,0,0,0,0,0,0,null,0,0,0,0,0,0,0,0,0,0,0,0,0,0,0,0,0,0,0,0,0,0,0,0,null,0,0,0,0,0,0,0,0,0,0,0,0,0,0,0,0,0,0,0,0,0,0,0,0,null,0,0,0,0,0,0,0,0,0,0,0,0,0,0,0,0,0,0,0,0,0,0,0,0,null,0,0,0,0,0,0,0,0,0,0,0,0,0,0,0,0,0,0,0,0,0,0,0,0]
[null,{"$f":"IFERROR(VLOOKUP('הזנת אירועים'!C22,סגמנטים!$D$2:$E$3,2,0),0)","v":0},{"$f":"'הזנת אירועים'!B22","v":0},{"$f":"'הזנת אירועים'!D22","v":"00:00:00"},{"$f":"IF('הזנת אירועים'!E22=סגמנטים!$F$2,1,IF('הזנת אירועים'!E22=סגמנטים!$F$3,999,'הזנת אירועים'!E22))","v":0},{"$f":"'הזנת אירועים'!F22","v":0},0,null,0,{"$f":"IF(I$4=D22,1,IF($I$4<D22,0,(IFERROR(VLOOKUP($I$4,סגמנטים!$A$1:$C$997,3)-VLOOKUP(D22,סגמנטים!$A$1:$C$997,3)+1,0))))","v":0},0,0,0,0,0,0,0,0,0,0,0,0,0,0,0,0,0,0,0,0,0,0,null,0,0,0,0,0,0,0,0,0,0,0,0,0,0,0,0,0,0,0,0,0,0,0,0,null,0,0,0,0,0,0,0,0,0,0,0,0,0,0,0,0,0,0,0,0,0,0,0,0,null,0,0,0,0,0,0,0,0,0,0,0,0,0,0,0,0,0,0,0,0,0,0,0,0,null,0,0,0,0,0,0,0,0,0,0,0,0,0,0,0,0,0,0,0,0,0,0,0,0,null,0,0,0,0,0,0,0,0,0,0,0,0,0,0,0,0,0,0,0,0,0,0,0,0,null,0,0,0,0,0,0,0,0,0,0,0,0,0,0,0,0,0,0,0,0,0,0,0,0,null,0,0,0,0,0,0,0,0,0,0,0,0,0,0,0,0,0,0,0,0,0,0,0,0,null,0,0,0,0,0,0,0,0,0,0,0,0,0,0,0,0,0,0,0,0,0,0,0,0,null,0,0,0,0,0,0,0,0,0,0,0,0,0,0,0,0,0,0,0,0,0,0,0,0]
[null,{"$f":"IFERROR(VLOOKUP('הזנת אירועים'!C23,סגמנטים!$D$2:$E$3,2,0),0)","v":0},{"$f":"'הזנת אירועים'!B23","v":0},{"$f":"'הזנת אירועים'!D23","v":"00:00:00"},{"$f":"IF('הזנת אירועים'!E23=סגמנטים!$F$2,1,IF('הזנת אירועים'!E23=סגמנטים!$F$3,999,'הזנת אירועים'!E23))","v":0},{"$f":"'הזנת אירועים'!F23","v":0},0,null,0,{"$f":"IF(I$4=D23,1,IF($I$4<D23,0,(IFERROR(VLOOKUP($I$4,סגמנטים!$A$1:$C$997,3)-VLOOKUP(D23,סגמנטים!$A$1:$C$997,3)+1,0))))","v":0},0,0,0,0,0,0,0,0,0,0,0,0,0,0,0,0,0,0,0,0,0,0,null,0,0,0,0,0,0,0,0,0,0,0,0,0,0,0,0,0,0,0,0,0,0,0,0,null,0,0,0,0,0,0,0,0,0,0,0,0,0,0,0,0,0,0,0,0,0,0,0,0,null,0,0,0,0,0,0,0,0,0,0,0,0,0,0,0,0,0,0,0,0,0,0,0,0,null,0,0,0,0,0,0,0,0,0,0,0,0,0,0,0,0,0,0,0,0,0,0,0,0,null,0,0,0,0,0,0,0,0,0,0,0,0,0,0,0,0,0,0,0,0,0,0,0,0,null,0,0,0,0,0,0,0,0,0,0,0,0,0,0,0,0,0,0,0,0,0,0,0,0,null,0,0,0,0,0,0,0,0,0,0,0,0,0,0,0,0,0,0,0,0,0,0,0,0,null,0,0,0,0,0,0,0,0,0,0,0,0,0,0,0,0,0,0,0,0,0,0,0,0,null,0,0,0,0,0,0,0,0,0,0,0,0,0,0,0,0,0,0,0,0,0,0,0,0]
[null,{"$f":"IFERROR(VLOOKUP('הזנת אירועים'!C24,סגמנטים!$D$2:$E$3,2,0),0)","v":0},{"$f":"'הזנת אירועים'!B24","v":0},{"$f":"'הזנת אירועים'!D24","v":"00:00:00"},{"$f":"IF('הזנת אירועים'!E24=סגמנטים!$F$2,1,IF('הזנת אירועים'!E24=סגמנטים!$F$3,999,'הזנת אירועים'!E24))","v":0},{"$f":"'הזנת אירועים'!F24","v":0},0,null,0,{"$f":"IF(I$4=D24,1,IF($I$4<D24,0,(IFERROR(VLOOKUP($I$4,סגמנטים!$A$1:$C$997,3)-VLOOKUP(D24,סגמנטים!$A$1:$C$997,3)+1,0))))","v":0},0,0,0,0,0,0,0,0,0,0,0,0,0,0,0,0,0,0,0,0,0,0,null,0,0,0,0,0,0,0,0,0,0,0,0,0,0,0,0,0,0,0,0,0,0,0,0,null,0,0,0,0,0,0,0,0,0,0,0,0,0,0,0,0,0,0,0,0,0,0,0,0,null,0,0,0,0,0,0,0,0,0,0,0,0,0,0,0,0,0,0,0,0,0,0,0,0,null,0,0,0,0,0,0,0,0,0,0,0,0,0,0,0,0,0,0,0,0,0,0,0,0,null,0,0,0,0,0,0,0,0,0,0,0,0,0,0,0,0,0,0,0,0,0,0,0,0,null,0,0,0,0,0,0,0,0,0,0,0,0,0,0,0,0,0,0,0,0,0,0,0,0,null,0,0,0,0,0,0,0,0,0,0,0,0,0,0,0,0,0,0,0,0,0,0,0,0,null,0,0,0,0,0,0,0,0,0,0,0,0,0,0,0,0,0,0,0,0,0,0,0,0,null,0,0,0,0,0,0,0,0,0,0,0,0,0,0,0,0,0,0,0,0,0,0,0,0]
[null,{"$f":"IFERROR(VLOOKUP('הזנת אירועים'!C25,סגמנטים!$D$2:$E$3,2,0),0)","v":0},{"$f":"'הזנת אירועים'!B25","v":0},{"$f":"'הזנת אירועים'!D25","v":"00:00:00"},{"$f":"IF('הזנת אירועים'!E25=סגמנטים!$F$2,1,IF('הזנת אירועים'!E25=סגמנטים!$F$3,999,'הזנת אירועים'!E25))","v":0},{"$f":"'הזנת אירועים'!F25","v":0},0,null,0,{"$f":"IF(I$4=D25,1,IF($I$4<D25,0,(IFERROR(VLOOKUP($I$4,סגמנטים!$A$1:$C$997,3)-VLOOKUP(D25,סגמנטים!$A$1:$C$997,3)+1,0))))","v":0},0,0,0,0,0,0,0,0,0,0,0,0,0,0,0,0,0,0,0,0,0,0,null,0,0,0,0,0,0,0,0,0,0,0,0,0,0,0,0,0,0,0,0,0,0,0,0,null,0,0,0,0,0,0,0,0,0,0,0,0,0,0,0,0,0,0,0,0,0,0,0,0,null,0,0,0,0,0,0,0,0,0,0,0,0,0,0,0,0,0,0,0,0,0,0,0,0,null,0,0,0,0,0,0,0,0,0,0,0,0,0,0,0,0,0,0,0,0,0,0,0,0,null,0,0,0,0,0,0,0,0,0,0,0,0,0,0,0,0,0,0,0,0,0,0,0,0,null,0,0,0,0,0,0,0,0,0,0,0,0,0,0,0,0,0,0,0,0,0,0,0,0,null,0,0,0,0,0,0,0,0,0,0,0,0,0,0,0,0,0,0,0,0,0,0,0,0,null,0,0,0,0,0,0,0,0,0,0,0,0,0,0,0,0,0,0,0,0,0,0,0,0,null,0,0,0,0,0,0,0,0,0,0,0,0,0,0,0,0,0,0,0,0,0,0,0,0]
[null,{"$f":"IFERROR(VLOOKUP('הזנת אירועים'!C26,סגמנטים!$D$2:$E$3,2,0),0)","v":0},{"$f":"'הזנת אירועים'!B26","v":0},{"$f":"'הזנת אירועים'!D26","v":"00:00:00"},{"$f":"IF('הזנת אירועים'!E26=סגמנטים!$F$2,1,IF('הזנת אירועים'!E26=סגמנטים!$F$3,999,'הזנת אירועים'!E26))","v":0},{"$f":"'הזנת אירועים'!F26","v":0},0,null,0,{"$f":"IF(I$4=D26,1,IF($I$4<D26,0,(IFERROR(VLOOKUP($I$4,סגמנטים!$A$1:$C$997,3)-VLOOKUP(D26,סגמנטים!$A$1:$C$997,3)+1,0))))","v":0},0,0,0,0,0,0,0,0,0,0,0,0,0,0,0,0,0,0,0,0,0,0,null,0,0,0,0,0,0,0,0,0,0,0,0,0,0,0,0,0,0,0,0,0,0,0,0,null,0,0,0,0,0,0,0,0,0,0,0,0,0,0,0,0,0,0,0,0,0,0,0,0,null,0,0,0,0,0,0,0,0,0,0,0,0,0,0,0,0,0,0,0,0,0,0,0,0,null,0,0,0,0,0,0,0,0,0,0,0,0,0,0,0,0,0,0,0,0,0,0,0,0,null,0,0,0,0,0,0,0,0,0,0,0,0,0,0,0,0,0,0,0,0,0,0,0,0,null,0,0,0,0,0,0,0,0,0,0,0,0,0,0,0,0,0,0,0,0,0,0,0,0,null,0,0,0,0,0,0,0,0,0,0,0,0,0,0,0,0,0,0,0,0,0,0,0,0,null,0,0,0,0,0,0,0,0,0,0,0,0,0,0,0,0,0,0,0,0,0,0,0,0,null,0,0,0,0,0,0,0,0,0,0,0,0,0,0,0,0,0,0,0,0,0,0,0,0]
[null,{"$f":"IFERROR(VLOOKUP('הזנת אירועים'!C27,סגמנטים!$D$2:$E$3,2,0),0)","v":0},{"$f":"'הזנת אירועים'!B27","v":0},{"$f":"'הזנת אירועים'!D27","v":"00:00:00"},{"$f":"IF('הזנת אירועים'!E27=סגמנטים!$F$2,1,IF('הזנת אירועים'!E27=סגמנטים!$F$3,999,'הזנת אירועים'!E27))","v":0},{"$f":"'הזנת אירועים'!F27","v":0},0,null,0,{"$f":"IF(I$4=D27,1,IF($I$4<D27,0,(IFERROR(VLOOKUP($I$4,סגמנטים!$A$1:$C$997,3)-VLOOKUP(D27,סגמנטים!$A$1:$C$997,3)+1,0))))","v":0},0,0,0,0,0,0,0,0,0,0,0,0,0,0,0,0,0,0,0,0,0,0,null,0,0,0,0,0,0,0,0,0,0,0,0,0,0,0,0,0,0,0,0,0,0,0,0,null,0,0,0,0,0,0,0,0,0,0,0,0,0,0,0,0,0,0,0,0,0,0,0,0,null,0,0,0,0,0,0,0,0,0,0,0,0,0,0,0,0,0,0,0,0,0,0,0,0,null,0,0,0,0,0,0,0,0,0,0,0,0,0,0,0,0,0,0,0,0,0,0,0,0,null,0,0,0,0,0,0,0,0,0,0,0,0,0,0,0,0,0,0,0,0,0,0,0,0,null,0,0,0,0,0,0,0,0,0,0,0,0,0,0,0,0,0,0,0,0,0,0,0,0,null,0,0,0,0,0,0,0,0,0,0,0,0,0,0,0,0,0,0,0,0,0,0,0,0,null,0,0,0,0,0,0,0,0,0,0,0,0,0,0,0,0,0,0,0,0,0,0,0,0,null,0,0,0,0,0,0,0,0,0,0,0,0,0,0,0,0,0,0,0,0,0,0,0,0]
[null,{"$f":"IFERROR(VLOOKUP('הזנת אירועים'!C28,סגמנטים!$D$2:$E$3,2,0),0)","v":0},{"$f":"'הזנת אירועים'!B28","v":0},{"$f":"'הזנת אירועים'!D28","v":"00:00:00"},{"$f":"IF('הזנת אירועים'!E28=סגמנטים!$F$2,1,IF('הזנת אירועים'!E28=סגמנטים!$F$3,999,'הזנת אירועים'!E28))","v":0},{"$f":"'הזנת אירועים'!F28","v":0},0,null,0,{"$f":"IF(I$4=D28,1,IF($I$4<D28,0,(IFERROR(VLOOKUP($I$4,סגמנטים!$A$1:$C$997,3)-VLOOKUP(D28,סגמנטים!$A$1:$C$997,3)+1,0))))","v":0},0,0,0,0,0,0,0,0,0,0,0,0,0,0,0,0,0,0,0,0,0,0,null,0,0,0,0,0,0,0,0,0,0,0,0,0,0,0,0,0,0,0,0,0,0,0,0,null,0,0,0,0,0,0,0,0,0,0,0,0,0,0,0,0,0,0,0,0,0,0,0,0,null,0,0,0,0,0,0,0,0,0,0,0,0,0,0,0,0,0,0,0,0,0,0,0,0,null,0,0,0,0,0,0,0,0,0,0,0,0,0,0,0,0,0,0,0,0,0,0,0,0,null,0,0,0,0,0,0,0,0,0,0,0,0,0,0,0,0,0,0,0,0,0,0,0,0,null,0,0,0,0,0,0,0,0,0,0,0,0,0,0,0,0,0,0,0,0,0,0,0,0,null,0,0,0,0,0,0,0,0,0,0,0,0,0,0,0,0,0,0,0,0,0,0,0,0,null,0,0,0,0,0,0,0,0,0,0,0,0,0,0,0,0,0,0,0,0,0,0,0,0,null,0,0,0,0,0,0,0,0,0,0,0,0,0,0,0,0,0,0,0,0,0,0,0,0]
[null,{"$f":"IFERROR(VLOOKUP('הזנת אירועים'!C29,סגמנטים!$D$2:$E$3,2,0),0)","v":0},{"$f":"'הזנת אירועים'!B29","v":0},{"$f":"'הזנת אירועים'!D29","v":"00:00:00"},{"$f":"IF('הזנת אירועים'!E29=סגמנטים!$F$2,1,IF('הזנת אירועים'!E29=סגמנטים!$F$3,999,'הזנת אירועים'!E29))","v":0},{"$f":"'הזנת אירועים'!F29","v":0},0,null,0,{"$f":"IF(I$4=D29,1,IF($I$4<D29,0,(IFERROR(VLOOKUP($I$4,סגמנטים!$A$1:$C$997,3)-VLOOKUP(D29,סגמנטים!$A$1:$C$997,3)+1,0))))","v":0},0,0,0,0,0,0,0,0,0,0,0,0,0,0,0,0,0,0,0,0,0,0,null,0,0,0,0,0,0,0,0,0,0,0,0,0,0,0,0,0,0,0,0,0,0,0,0,null,0,0,0,0,0,0,0,0,0,0,0,0,0,0,0,0,0,0,0,0,0,0,0,0,null,0,0,0,0,0,0,0,0,0,0,0,0,0,0,0,0,0,0,0,0,0,0,0,0,null,0,0,0,0,0,0,0,0,0,0,0,0,0,0,0,0,0,0,0,0,0,0,0,0,null,0,0,0,0,0,0,0,0,0,0,0,0,0,0,0,0,0,0,0,0,0,0,0,0,null,0,0,0,0,0,0,0,0,0,0,0,0,0,0,0,0,0,0,0,0,0,0,0,0,null,0,0,0,0,0,0,0,0,0,0,0,0,0,0,0,0,0,0,0,0,0,0,0,0,null,0,0,0,0,0,0,0,0,0,0,0,0,0,0,0,0,0,0,0,0,0,0,0,0,null,0,0,0,0,0,0,0,0,0,0,0,0,0,0,0,0,0,0,0,0,0,0,0,0]
[null,{"$f":"IFERROR(VLOOKUP('הזנת אירועים'!C30,סגמנטים!$D$2:$E$3,2,0),0)","v":0},{"$f":"'הזנת אירועים'!B30","v":0},{"$f":"'הזנת אירועים'!D30","v":"00:00:00"},{"$f":"IF('הזנת אירועים'!E30=סגמנטים!$F$2,1,IF('הזנת אירועים'!E30=סגמנטים!$F$3,999,'הזנת אירועים'!E30))","v":0},{"$f":"'הזנת אירועים'!F30","v":0},0,null,0,{"$f":"IF(I$4=D30,1,IF($I$4<D30,0,(IFERROR(VLOOKUP($I$4,סגמנטים!$A$1:$C$997,3)-VLOOKUP(D30,סגמנטים!$A$1:$C$997,3)+1,0))))","v":0},0,0,0,0,0,0,0,0,0,0,0,0,0,0,0,0,0,0,0,0,0,0,null,0,0,0,0,0,0,0,0,0,0,0,0,0,0,0,0,0,0,0,0,0,0,0,0,null,0,0,0,0,0,0,0,0,0,0,0,0,0,0,0,0,0,0,0,0,0,0,0,0,null,0,0,0,0,0,0,0,0,0,0,0,0,0,0,0,0,0,0,0,0,0,0,0,0,null,0,0,0,0,0,0,0,0,0,0,0,0,0,0,0,0,0,0,0,0,0,0,0,0,null,0,0,0,0,0,0,0,0,0,0,0,0,0,0,0,0,0,0,0,0,0,0,0,0,null,0,0,0,0,0,0,0,0,0,0,0,0,0,0,0,0,0,0,0,0,0,0,0,0,null,0,0,0,0,0,0,0,0,0,0,0,0,0,0,0,0,0,0,0,0,0,0,0,0,null,0,0,0,0,0,0,0,0,0,0,0,0,0,0,0,0,0,0,0,0,0,0,0,0,null,0,0,0,0,0,0,0,0,0,0,0,0,0,0,0,0,0,0,0,0,0,0,0,0]
[null,{"$f":"IFERROR(VLOOKUP('הזנת אירועים'!C31,סגמנטים!$D$2:$E$3,2,0),0)","v":0},{"$f":"'הזנת אירועים'!B31","v":0},{"$f":"'הזנת אירועים'!D31","v":"00:00:00"},{"$f":"IF('הזנת אירועים'!E31=סגמנטים!$F$2,1,IF('הזנת אירועים'!E31=סגמנטים!$F$3,999,'הזנת אירועים'!E31))","v":0},{"$f":"'הזנת אירועים'!F31","v":0},0,null,0,{"$f":"IF(I$4=D31,1,IF($I$4<D31,0,(IFERROR(VLOOKUP($I$4,סגמנטים!$A$1:$C$997,3)-VLOOKUP(D31,סגמנטים!$A$1:$C$997,3)+1,0))))","v":0},0,0,0,0,0,0,0,0,0,0,0,0,0,0,0,0,0,0,0,0,0,0,null,0,0,0,0,0,0,0,0,0,0,0,0,0,0,0,0,0,0,0,0,0,0,0,0,null,0,0,0,0,0,0,0,0,0,0,0,0,0,0,0,0,0,0,0,0,0,0,0,0,null,0,0,0,0,0,0,0,0,0,0,0,0,0,0,0,0,0,0,0,0,0,0,0,0,null,0,0,0,0,0,0,0,0,0,0,0,0,0,0,0,0,0,0,0,0,0,0,0,0,null,0,0,0,0,0,0,0,0,0,0,0,0,0,0,0,0,0,0,0,0,0,0,0,0,null,0,0,0,0,0,0,0,0,0,0,0,0,0,0,0,0,0,0,0,0,0,0,0,0,null,0,0,0,0,0,0,0,0,0,0,0,0,0,0,0,0,0,0,0,0,0,0,0,0,null,0,0,0,0,0,0,0,0,0,0,0,0,0,0,0,0,0,0,0,0,0,0,0,0,null,0,0,0,0,0,0,0,0,0,0,0,0,0,0,0,0,0,0,0,0,0,0,0,0]
[null,{"$f":"IFERROR(VLOOKUP('הזנת אירועים'!C32,סגמנטים!$D$2:$E$3,2,0),0)","v":0},{"$f":"'הזנת אירועים'!B32","v":0},{"$f":"'הזנת אירועים'!D32","v":"00:00:00"},{"$f":"IF('הזנת אירועים'!E32=סגמנטים!$F$2,1,IF('הזנת אירועים'!E32=סגמנטים!$F$3,999,'הזנת אירועים'!E32))","v":0},{"$f":"'הזנת אירועים'!F32","v":0},0,null,0,{"$f":"IF(I$4=D32,1,IF($I$4<D32,0,(IFERROR(VLOOKUP($I$4,סגמנטים!$A$1:$C$997,3)-VLOOKUP(D32,סגמנטים!$A$1:$C$997,3)+1,0))))","v":0},0,0,0,0,0,0,0,0,0,0,0,0,0,0,0,0,0,0,0,0,0,0,null,0,0,0,0,0,0,0,0,0,0,0,0,0,0,0,0,0,0,0,0,0,0,0,0,null,0,0,0,0,0,0,0,0,0,0,0,0,0,0,0,0,0,0,0,0,0,0,0,0,null,0,0,0,0,0,0,0,0,0,0,0,0,0,0,0,0,0,0,0,0,0,0,0,0,null,0,0,0,0,0,0,0,0,0,0,0,0,0,0,0,0,0,0,0,0,0,0,0,0,null,0,0,0,0,0,0,0,0,0,0,0,0,0,0,0,0,0,0,0,0,0,0,0,0,null,0,0,0,0,0,0,0,0,0,0,0,0,0,0,0,0,0,0,0,0,0,0,0,0,null,0,0,0,0,0,0,0,0,0,0,0,0,0,0,0,0,0,0,0,0,0,0,0,0,null,0,0,0,0,0,0,0,0,0,0,0,0,0,0,0,0,0,0,0,0,0,0,0,0,null,0,0,0,0,0,0,0,0,0,0,0,0,0,0,0,0,0,0,0,0,0,0,0,0]
[null,{"$f":"IFERROR(VLOOKUP('הזנת אירועים'!C33,סגמנטים!$D$2:$E$3,2,0),0)","v":0},{"$f":"'הזנת אירועים'!B33","v":0},{"$f":"'הזנת אירועים'!D33","v":"00:00:00"},{"$f":"IF('הזנת אירועים'!E33=סגמנטים!$F$2,1,IF('הזנת אירועים'!E33=סגמנטים!$F$3,999,'הזנת אירועים'!E33))","v":0},{"$f":"'הזנת אירועים'!F33","v":0},0,null,0,{"$f":"IF(I$4=D33,1,IF($I$4<D33,0,(IFERROR(VLOOKUP($I$4,סגמנטים!$A$1:$C$997,3)-VLOOKUP(D33,סגמנטים!$A$1:$C$997,3)+1,0))))","v":0},0,0,0,0,0,0,0,0,0,0,0,0,0,0,0,0,0,0,0,0,0,0,null,0,0,0,0,0,0,0,0,0,0,0,0,0,0,0,0,0,0,0,0,0,0,0,0,null,0,0,0,0,0,0,0,0,0,0,0,0,0,0,0,0,0,0,0,0,0,0,0,0,null,0,0,0,0,0,0,0,0,0,0,0,0,0,0,0,0,0,0,0,0,0,0,0,0,null,0,0,0,0,0,0,0,0,0,0,0,0,0,0,0,0,0,0,0,0,0,0,0,0,null,0,0,0,0,0,0,0,0,0,0,0,0,0,0,0,0,0,0,0,0,0,0,0,0,null,0,0,0,0,0,0,0,0,0,0,0,0,0,0,0,0,0,0,0,0,0,0,0,0,null,0,0,0,0,0,0,0,0,0,0,0,0,0,0,0,0,0,0,0,0,0,0,0,0,null,0,0,0,0,0,0,0,0,0,0,0,0,0,0,0,0,0,0,0,0,0,0,0,0,null,0,0,0,0,0,0,0,0,0,0,0,0,0,0,0,0,0,0,0,0,0,0,0,0]
[null,{"$f":"IFERROR(VLOOKUP('הזנת אירועים'!C34,סגמנטים!$D$2:$E$3,2,0),0)","v":0},{"$f":"'הזנת אירועים'!B34","v":0},{"$f":"'הזנת אירועים'!D34","v":"00:00:00"},{"$f":"IF('הזנת אירועים'!E34=סגמנטים!$F$2,1,IF('הזנת אירועים'!E34=סגמנטים!$F$3,999,'הזנת אירועים'!E34))","v":0},{"$f":"'הזנת אירועים'!F34","v":0},0,null,0,{"$f":"IF(I$4=D34,1,IF($I$4<D34,0,(IFERROR(VLOOKUP($I$4,סגמנטים!$A$1:$C$997,3)-VLOOKUP(D34,סגמנטים!$A$1:$C$997,3)+1,0))))","v":0},0,0,0,0,0,0,0,0,0,0,0,0,0,0,0,0,0,0,0,0,0,0,null,0,0,0,0,0,0,0,0,0,0,0,0,0,0,0,0,0,0,0,0,0,0,0,0,null,0,0,0,0,0,0,0,0,0,0,0,0,0,0,0,0,0,0,0,0,0,0,0,0,null,0,0,0,0,0,0,0,0,0,0,0,0,0,0,0,0,0,0,0,0,0,0,0,0,null,0,0,0,0,0,0,0,0,0,0,0,0,0,0,0,0,0,0,0,0,0,0,0,0,null,0,0,0,0,0,0,0,0,0,0,0,0,0,0,0,0,0,0,0,0,0,0,0,0,null,0,0,0,0,0,0,0,0,0,0,0,0,0,0,0,0,0,0,0,0,0,0,0,0,null,0,0,0,0,0,0,0,0,0,0,0,0,0,0,0,0,0,0,0,0,0,0,0,0,null,0,0,0,0,0,0,0,0,0,0,0,0,0,0,0,0,0,0,0,0,0,0,0,0,null,0,0,0,0,0,0,0,0,0,0,0,0,0,0,0,0,0,0,0,0,0,0,0,0]
[null,{"$f":"IFERROR(VLOOKUP('הזנת אירועים'!C35,סגמנטים!$D$2:$E$3,2,0),0)","v":0},{"$f":"'הזנת אירועים'!B35","v":0},{"$f":"'הזנת אירועים'!D35","v":"00:00:00"},{"$f":"IF('הזנת אירועים'!E35=סגמנטים!$F$2,1,IF('הזנת אירועים'!E35=סגמנטים!$F$3,999,'הזנת אירועים'!E35))","v":0},{"$f":"'הזנת אירועים'!F35","v":0},0,null,0,{"$f":"IF(I$4=D35,1,IF($I$4<D35,0,(IFERROR(VLOOKUP($I$4,סגמנטים!$A$1:$C$997,3)-VLOOKUP(D35,סגמנטים!$A$1:$C$997,3)+1,0))))","v":0},0,0,0,0,0,0,0,0,0,0,0,0,0,0,0,0,0,0,0,0,0,0,null,0,0,0,0,0,0,0,0,0,0,0,0,0,0,0,0,0,0,0,0,0,0,0,0,null,0,0,0,0,0,0,0,0,0,0,0,0,0,0,0,0,0,0,0,0,0,0,0,0,null,0,0,0,0,0,0,0,0,0,0,0,0,0,0,0,0,0,0,0,0,0,0,0,0,null,0,0,0,0,0,0,0,0,0,0,0,0,0,0,0,0,0,0,0,0,0,0,0,0,null,0,0,0,0,0,0,0,0,0,0,0,0,0,0,0,0,0,0,0,0,0,0,0,0,null,0,0,0,0,0,0,0,0,0,0,0,0,0,0,0,0,0,0,0,0,0,0,0,0,null,0,0,0,0,0,0,0,0,0,0,0,0,0,0,0,0,0,0,0,0,0,0,0,0,null,0,0,0,0,0,0,0,0,0,0,0,0,0,0,0,0,0,0,0,0,0,0,0,0,null,0,0,0,0,0,0,0,0,0,0,0,0,0,0,0,0,0,0,0,0,0,0,0,0]
[null,{"$f":"IFERROR(VLOOKUP('הזנת אירועים'!C36,סגמנטים!$D$2:$E$3,2,0),0)","v":0},{"$f":"'הזנת אירועים'!B36","v":0},{"$f":"'הזנת אירועים'!D36","v":"00:00:00"},{"$f":"IF('הזנת אירועים'!E36=סגמנטים!$F$2,1,IF('הזנת אירועים'!E36=סגמנטים!$F$3,999,'הזנת אירועים'!E36))","v":0},{"$f":"'הזנת אירועים'!F36","v":0},0,null,0,{"$f":"IF(I$4=D36,1,IF($I$4<D36,0,(IFERROR(VLOOKUP($I$4,סגמנטים!$A$1:$C$997,3)-VLOOKUP(D36,סגמנטים!$A$1:$C$997,3)+1,0))))","v":0},0,0,0,0,0,0,0,0,0,0,0,0,0,0,0,0,0,0,0,0,0,0,null,0,0,0,0,0,0,0,0,0,0,0,0,0,0,0,0,0,0,0,0,0,0,0,0,null,0,0,0,0,0,0,0,0,0,0,0,0,0,0,0,0,0,0,0,0,0,0,0,0,null,0,0,0,0,0,0,0,0,0,0,0,0,0,0,0,0,0,0,0,0,0,0,0,0,null,0,0,0,0,0,0,0,0,0,0,0,0,0,0,0,0,0,0,0,0,0,0,0,0,null,0,0,0,0,0,0,0,0,0,0,0,0,0,0,0,0,0,0,0,0,0,0,0,0,null,0,0,0,0,0,0,0,0,0,0,0,0,0,0,0,0,0,0,0,0,0,0,0,0,null,0,0,0,0,0,0,0,0,0,0,0,0,0,0,0,0,0,0,0,0,0,0,0,0,null,0,0,0,0,0,0,0,0,0,0,0,0,0,0,0,0,0,0,0,0,0,0,0,0,null,0,0,0,0,0,0,0,0,0,0,0,0,0,0,0,0,0,0,0,0,0,0,0,0]
[null,{"$f":"IFERROR(VLOOKUP('הזנת אירועים'!C37,סגמנטים!$D$2:$E$3,2,0),0)","v":0},{"$f":"'הזנת אירועים'!B37","v":0},{"$f":"'הזנת אירועים'!D37","v":"00:00:00"},{"$f":"IF('הזנת אירועים'!E37=סגמנטים!$F$2,1,IF('הזנת אירועים'!E37=סגמנטים!$F$3,999,'הזנת אירועים'!E37))","v":0},{"$f":"'הזנת אירועים'!F37","v":0},0,null,0,{"$f":"IF(I$4=D37,1,IF($I$4<D37,0,(IFERROR(VLOOKUP($I$4,סגמנטים!$A$1:$C$997,3)-VLOOKUP(D37,סגמנטים!$A$1:$C$997,3)+1,0))))","v":0},0,0,0,0,0,0,0,0,0,0,0,0,0,0,0,0,0,0,0,0,0,0,null,0,0,0,0,0,0,0,0,0,0,0,0,0,0,0,0,0,0,0,0,0,0,0,0,null,0,0,0,0,0,0,0,0,0,0,0,0,0,0,0,0,0,0,0,0,0,0,0,0,null,0,0,0,0,0,0,0,0,0,0,0,0,0,0,0,0,0,0,0,0,0,0,0,0,null,0,0,0,0,0,0,0,0,0,0,0,0,0,0,0,0,0,0,0,0,0,0,0,0,null,0,0,0,0,0,0,0,0,0,0,0,0,0,0,0,0,0,0,0,0,0,0,0,0,null,0,0,0,0,0,0,0,0,0,0,0,0,0,0,0,0,0,0,0,0,0,0,0,0,null,0,0,0,0,0,0,0,0,0,0,0,0,0,0,0,0,0,0,0,0,0,0,0,0,null,0,0,0,0,0,0,0,0,0,0,0,0,0,0,0,0,0,0,0,0,0,0,0,0,null,0,0,0,0,0,0,0,0,0,0,0,0,0,0,0,0,0,0,0,0,0,0,0,0]
[null,{"$f":"IFERROR(VLOOKUP('הזנת אירועים'!C38,סגמנטים!$D$2:$E$3,2,0),0)","v":0},{"$f":"'הזנת אירועים'!B38","v":0},{"$f":"'הזנת אירועים'!D38","v":"00:00:00"},{"$f":"IF('הזנת אירועים'!E38=סגמנטים!$F$2,1,IF('הזנת אירועים'!E38=סגמנטים!$F$3,999,'הזנת אירועים'!E38))","v":0},{"$f":"'הזנת אירועים'!F38","v":0},0,null,0,{"$f":"IF(I$4=D38,1,IF($I$4<D38,0,(IFERROR(VLOOKUP($I$4,סגמנטים!$A$1:$C$997,3)-VLOOKUP(D38,סגמנטים!$A$1:$C$997,3)+1,0))))","v":0},0,0,0,0,0,0,0,0,0,0,0,0,0,0,0,0,0,0,0,0,0,0,null,0,0,0,0,0,0,0,0,0,0,0,0,0,0,0,0,0,0,0,0,0,0,0,0,null,0,0,0,0,0,0,0,0,0,0,0,0,0,0,0,0,0,0,0,0,0,0,0,0,null,0,0,0,0,0,0,0,0,0,0,0,0,0,0,0,0,0,0,0,0,0,0,0,0,null,0,0,0,0,0,0,0,0,0,0,0,0,0,0,0,0,0,0,0,0,0,0,0,0,null,0,0,0,0,0,0,0,0,0,0,0,0,0,0,0,0,0,0,0,0,0,0,0,0,null,0,0,0,0,0,0,0,0,0,0,0,0,0,0,0,0,0,0,0,0,0,0,0,0,null,0,0,0,0,0,0,0,0,0,0,0,0,0,0,0,0,0,0,0,0,0,0,0,0,null,0,0,0,0,0,0,0,0,0,0,0,0,0,0,0,0,0,0,0,0,0,0,0,0,null,0,0,0,0,0,0,0,0,0,0,0,0,0,0,0,0,0,0,0,0,0,0,0,0]
[null,{"$f":"IFERROR(VLOOKUP('הזנת אירועים'!C39,סגמנטים!$D$2:$E$3,2,0),0)","v":0},{"$f":"'הזנת אירועים'!B39","v":0},{"$f":"'הזנת אירועים'!D39","v":"00:00:00"},{"$f":"IF('הזנת אירועים'!E39=סגמנטים!$F$2,1,IF('הזנת אירועים'!E39=סגמנטים!$F$3,999,'הזנת אירועים'!E39))","v":0},{"$f":"'הזנת אירועים'!F39","v":0},0,null,0,{"$f":"IF(I$4=D39,1,IF($I$4<D39,0,(IFERROR(VLOOKUP($I$4,סגמנטים!$A$1:$C$997,3)-VLOOKUP(D39,סגמנטים!$A$1:$C$997,3)+1,0))))","v":0},0,0,0,0,0,0,0,0,0,0,0,0,0,0,0,0,0,0,0,0,0,0,null,0,0,0,0,0,0,0,0,0,0,0,0,0,0,0,0,0,0,0,0,0,0,0,0,null,0,0,0,0,0,0,0,0,0,0,0,0,0,0,0,0,0,0,0,0,0,0,0,0,null,0,0,0,0,0,0,0,0,0,0,0,0,0,0,0,0,0,0,0,0,0,0,0,0,null,0,0,0,0,0,0,0,0,0,0,0,0,0,0,0,0,0,0,0,0,0,0,0,0,null,0,0,0,0,0,0,0,0,0,0,0,0,0,0,0,0,0,0,0,0,0,0,0,0,null,0,0,0,0,0,0,0,0,0,0,0,0,0,0,0,0,0,0,0,0,0,0,0,0,null,0,0,0,0,0,0,0,0,0,0,0,0,0,0,0,0,0,0,0,0,0,0,0,0,null,0,0,0,0,0,0,0,0,0,0,0,0,0,0,0,0,0,0,0,0,0,0,0,0,null,0,0,0,0,0,0,0,0,0,0,0,0,0,0,0,0,0,0,0,0,0,0,0,0]
[null,{"$f":"IFERROR(VLOOKUP('הזנת אירועים'!C40,סגמנטים!$D$2:$E$3,2,0),0)","v":0},{"$f":"'הזנת אירועים'!B40","v":0},{"$f":"'הזנת אירועים'!D40","v":"00:00:00"},{"$f":"IF('הזנת אירועים'!E40=סגמנטים!$F$2,1,IF('הזנת אירועים'!E40=סגמנטים!$F$3,999,'הזנת אירועים'!E40))","v":0},{"$f":"'הזנת אירועים'!F40","v":0},0,null,0,{"$f":"IF(I$4=D40,1,IF($I$4<D40,0,(IFERROR(VLOOKUP($I$4,סגמנטים!$A$1:$C$997,3)-VLOOKUP(D40,סגמנטים!$A$1:$C$997,3)+1,0))))","v":0},0,0,0,0,0,0,0,0,0,0,0,0,0,0,0,0,0,0,0,0,0,0,null,0,0,0,0,0,0,0,0,0,0,0,0,0,0,0,0,0,0,0,0,0,0,0,0,null,0,0,0,0,0,0,0,0,0,0,0,0,0,0,0,0,0,0,0,0,0,0,0,0,null,0,0,0,0,0,0,0,0,0,0,0,0,0,0,0,0,0,0,0,0,0,0,0,0,null,0,0,0,0,0,0,0,0,0,0,0,0,0,0,0,0,0,0,0,0,0,0,0,0,null,0,0,0,0,0,0,0,0,0,0,0,0,0,0,0,0,0,0,0,0,0,0,0,0,null,0,0,0,0,0,0,0,0,0,0,0,0,0,0,0,0,0,0,0,0,0,0,0,0,null,0,0,0,0,0,0,0,0,0,0,0,0,0,0,0,0,0,0,0,0,0,0,0,0,null,0,0,0,0,0,0,0,0,0,0,0,0,0,0,0,0,0,0,0,0,0,0,0,0,null,0,0,0,0,0,0,0,0,0,0,0,0,0,0,0,0,0,0,0,0,0,0,0,0]
[null,{"$f":"IFERROR(VLOOKUP('הזנת אירועים'!C41,סגמנטים!$D$2:$E$3,2,0),0)","v":0},{"$f":"'הזנת אירועים'!B41","v":0},{"$f":"'הזנת אירועים'!D41","v":"00:00:00"},{"$f":"IF('הזנת אירועים'!E41=סגמנטים!$F$2,1,IF('הזנת אירועים'!E41=סגמנטים!$F$3,999,'הזנת אירועים'!E41))","v":0},{"$f":"'הזנת אירועים'!F41","v":0},0,null,0,{"$f":"IF(I$4=D41,1,IF($I$4<D41,0,(IFERROR(VLOOKUP($I$4,סגמנטים!$A$1:$C$997,3)-VLOOKUP(D41,סגמנטים!$A$1:$C$997,3)+1,0))))","v":0},0,0,{"$f":"IF(OR(N41=0,N41=$E41+1),0,$F41*$B41)","v":0},0,{"$f":"IF(OR(P41=0,P41=$E41+1),0,$F41*$B41)","v":0},0,{"$f":"IF(OR(R41=0,R41=$E41+1),0,$F41*$B41)","v":0},0,{"$f":"IF(OR(T41=0,T41=$E41+1),0,$F41*$B41)","v":0},0,{"$f":"IF(OR(V41=0,V41=$E41+1),0,$F41*$B41)","v":0},0,{"$f":"IF(OR(X41=0,X41=$E41+1),0,$F41*$B41)","v":0},0,{"$f":"IF(OR(Z41=0,Z41=$E41+1),0,$F41*$B41)","v":0},0,{"$f":"IF(OR(AB41=0,AB41=$E41+1),0,$F41*$B41)","v":0},0,{"$f":"IF(OR(AD41=0,AD41=$E41+1),0,$F41*$B41)","v":0},0,{"$f":"IF(OR(AF41=0,AF41=$E41+1),0,$F41*$B41)","v":0},0,null,{"$f":"IF(OR(AI41=0,AI41=$E41+1),0,$F41*$B41)","v":0},0,{"$f":"IF(OR(AK41=0,AK41=$E41+1),0,$F41*$B41)","v":0},0,{"$f":"IF(OR(AM41=0,AM41=$E41+1),0,$F41*$B41)","v":0},0,{"$f":"IF(OR(AO41=0,AO41=$E41+1),0,$F41*$B41)","v":0},0,{"$f":"IF(OR(AQ41=0,AQ41=$E41+1),0,$F41*$B41)","v":0},0,{"$f":"IF(OR(AS41=0,AS41=$E41+1),0,$F41*$B41)","v":0},0,{"$f":"IF(OR(AU41=0,AU41=$E41+1),0,$F41*$B41)","v":0},0,{"$f":"IF(OR(AW41=0,AW41=$E41+1),0,$F41*$B41)","v":0},0,{"$f":"IF(OR(AY41=0,AY41=$E41+1),0,$F41*$B41)","v":0},0,{"$f":"IF(OR(BA41=0,BA41=$E41+1),0,$F41*$B41)","v":0},0,{"$f":"IF(OR(BC41=0,BC41=$E41+1),0,$F41*$B41)","v":0},0,{"$f":"IF(OR(BE41=0,BE41=$E41+1),0,$F41*$B41)","v":0},0,null,{"$f":"IF(OR(BH41=0,BH41=$E41+1),0,$F41*$B41)","v":0},0,{"$f":"IF(OR(BJ41=0,BJ41=$E41+1),0,$F41*$B41)","v":0},0,{"$f":"IF(OR(BL41=0,BL41=$E41+1),0,$F41*$B41)","v":0},0,{"$f":"IF(OR(BN41=0,BN41=$E41+1),0,$F41*$B41)","v":0},0,{"$f":"IF(OR(BP41=0,BP41=$E41+1),0,$F41*$B41)","v":0},0,{"$f":"IF(OR(BR41=0,BR41=$E41+1),0,$F41*$B41)","v":0},0,{"$f":"IF(OR(BT41=0,BT41=$E41+1),0,$F41*$B41)","v":0},0,{"$f":"IF(OR(BV41=0,BV41=$E41+1),0,$F41*$B41)","v":0},0,{"$f":"IF(OR(BX41=0,BX41=$E41+1),0,$F41*$B41)","v":0},0,{"$f":"IF(OR(BZ41=0,BZ41=$E41+1),0,$F41*$B41)","v":0},0,{"$f":"IF(OR(CB41=0,CB41=$E41+1),0,$F41*$B41)","v":0},0,{"$f":"IF(OR(CD41=0,CD41=$E41+1),0,$F41*$B41)","v":0},0,null,{"$f":"IF(OR(CG41=0,CG41=$E41+1),0,$F41*$B41)","v":0},{"$f":"IF($CF$4=$D41,1,IF(CD41=0,0,IF(CD41=$E41+1,CD41,CD41+1)))","v":0},{"$f":"IF(OR(CI41=0,CI41=$E41+1),0,$F41*$B41)","v":0},{"$f":"IF($CH$4=$D41,1,IF(CG41=0,0,IF(CG41=$E41+1,CG41,CG41+1)))","v":0},{"$f":"IF(OR(CK41=0,CK41=$E41+1),0,$F41*$B41)","v":0},{"$f":"IF($CJ$4=$D41,1,IF(CI41=0,0,IF(CI41=$E41+1,CI41,CI41+1)))","v":0},{"$f":"IF(OR(CM41=0,CM41=$E41+1),0,$F41*$B41)","v":0},{"$f":"IF($CL$4=$D41,1,IF(CK41=0,0,IF(CK41=$E41+1,CK41,CK41+1)))","v":0},{"$f":"IF(OR(CO41=0,CO41=$E41+1),0,$F41*$B41)","v":0},{"$f":"IF($CN$4=$D41,1,IF(CM41=0,0,IF(CM41=$E41+1,CM41,CM41+1)))","v":0},{"$f":"IF(OR(CQ41=0,CQ41=$E41+1),0,$F41*$B41)","v":0},{"$f":"IF($CP$4=$D41,1,IF(CO41=0,0,IF(CO41=$E41+1,CO41,CO41+1)))","v":0},{"$f":"IF(OR(CS41=0,CS41=$E41+1),0,$F41*$B41)","v":0},{"$f":"IF($CR$4=$D41,1,IF(CQ41=0,0,IF(CQ41=$E41+1,CQ41,CQ41+1)))","v":0},{"$f":"IF(OR(CU41=0,CU41=$E41+1),0,$F41*$B41)","v":0},{"$f":"IF($CT$4=$D41,1,IF(CS41=0,0,IF(CS41=$E41+1,CS41,CS41+1)))","v":0},{"$f":"IF(OR(CW41=0,CW41=$E41+1),0,$F41*$B41)","v":0},{"$f":"IF($CV$4=$D41,1,IF(CU41=0,0,IF(CU41=$E41+1,CU41,CU41+1)))","v":0},{"$f":"IF(OR(CY41=0,CY41=$E41+1),0,$F41*$B41)","v":0},{"$f":"IF($CX$4=$D41,1,IF(CW41=0,0,IF(CW41=$E41+1,CW41,CW41+1)))","v":0},{"$f":"IF(OR(DA41=0,DA41=$E41+1),0,$F41*$B41)","v":0},{"$f":"IF($CZ$4=$D41,1,IF(CY41=0,0,IF(CY41=$E41+1,CY41,CY41+1)))","v":0},{"$f":"IF(OR(DC41=0,DC41=$E41+1),0,$F41*$B41)","v":0},{"$f":"IF($DB$4=$D41,1,IF(DA41=0,0,IF(DA41=$E41+1,DA41,DA41+1)))","v":0},null,{"$f":"IF(OR(DF41=0,DF41=$E41+1),0,$F41*$B41)","v":0},{"$f":"IF($DE$4=$D41,1,IF(DC41=0,0,IF(DC41=$E41+1,DC41,DC41+1)))","v":0},{"$f":"IF(OR(DH41=0,DH41=$E41+1),0,$F41*$B41)","v":0},{"$f":"IF($DG$4=$D41,1,IF(DF41=0,0,IF(DF41=$E41+1,DF41,DF41+1)))","v":0},{"$f":"IF(OR(DJ41=0,DJ41=$E41+1),0,$F41*$B41)","v":0},{"$f":"IF($DI$4=$D41,1,IF(DH41=0,0,IF(DH41=$E41+1,DH41,DH41+1)))","v":0},{"$f":"IF(OR(DL41=0,DL41=$E41+1),0,$F41*$B41)","v":0},{"$f":"IF($DK$4=$D41,1,IF(DJ41=0,0,IF(DJ41=$E41+1,DJ41,DJ41+1)))","v":0},{"$f":"IF(OR(DN41=0,DN41=$E41+1),0,$F41*$B41)","v":0},{"$f":"IF($DM$4=$D41,1,IF(DL41=0,0,IF(DL41=$E41+1,DL41,DL41+1)))","v":0},{"$f":"IF(OR(DP41=0,DP41=$E41+1),0,$F41*$B41)","v":0},{"$f":"IF($DO$4=$D41,1,IF(DN41=0,0,IF(DN41=$E41+1,DN41,DN41+1)))","v":0},{"$f":"IF(OR(DR41=0,DR41=$E41+1),0,$F41*$B41)","v":0},{"$f":"IF($DQ$4=$D41,1,IF(DP41=0,0,IF(DP41=$E41+1,DP41,DP41+1)))","v":0},{"$f":"IF(OR(DT41=0,DT41=$E41+1),0,$F41*$B41)","v":0},{"$f":"IF($DS$4=$D41,1,IF(DR41=0,0,IF(DR41=$E41+1,DR41,DR41+1)))","v":0},{"$f":"IF(OR(DV41=0,DV41=$E41+1),0,$F41*$B41)","v":0},{"$f":"IF($DU$4=$D41,1,IF(DT41=0,0,IF(DT41=$E41+1,DT41,DT41+1)))","v":0},{"$f":"IF(OR(DX41=0,DX41=$E41+1),0,$F41*$B41)","v":0},{"$f":"IF($DW$4=$D41,1,IF(DV41=0,0,IF(DV41=$E41+1,DV41,DV41+1)))","v":0},{"$f":"IF(OR(DZ41=0,DZ41=$E41+1),0,$F41*$B41)","v":0},{"$f":"IF($DY$4=$D41,1,IF(DX41=0,0,IF(DX41=$E41+1,DX41,DX41+1)))","v":0},{"$f":"IF(OR(EB41=0,EB41=$E41+1),0,$F41*$B41)","v":0},{"$f":"IF($EA$4=$D41,1,IF(DZ41=0,0,IF(DZ41=$E41+1,DZ41,DZ41+1)))","v":0},null,{"$f":"IF(OR(EE41=0,EE41=$E41+1),0,$F41*$B41)","v":0},0,{"$f":"IF(OR(EG41=0,EG41=$E41+1),0,$F41*$B41)","v":0},0,{"$f":"IF(OR(EI41=0,EI41=$E41+1),0,$F41*$B41)","v":0},0,{"$f":"IF(OR(EK41=0,EK41=$E41+1),0,$F41*$B41)","v":0},0,{"$f":"IF(OR(EM41=0,EM41=$E41+1),0,$F41*$B41)","v":0},0,{"$f":"IF(OR(EO41=0,EO41=$E41+1),0,$F41*$B41)","v":0},0,{"$f":"IF(OR(EQ41=0,EQ41=$E41+1),0,$F41*$B41)","v":0},0,{"$f":"IF(OR(ES41=0,ES41=$E41+1),0,$F41*$B41)","v":0},0,{"$f":"IF(OR(EU41=0,EU41=$E41+1),0,$F41*$B41)","v":0},0,{"$f":"IF(OR(EW41=0,EW41=$E41+1),0,$F41*$B41)","v":0},0,{"$f":"IF(OR(EY41=0,EY41=$E41+1),0,$F41*$B41)","v":0},0,{"$f":"IF(OR(FA41=0,FA41=$E41+1),0,$F41*$B41)","v":0},0,null,{"$f":"IF(OR(FD41=0,FD41=$E41+1),0,$F41*$B41)","v":0},0,{"$f":"IF(OR(FF41=0,FF41=$E41+1),0,$F41*$B41)","v":0},0,{"$f":"IF(OR(FH41=0,FH41=$E41+1),0,$F41*$B41)","v":0},0,{"$f":"IF(OR(FJ41=0,FJ41=$E41+1),0,$F41*$B41)","v":0},0,{"$f":"IF(OR(FL41=0,FL41=$E41+1),0,$F41*$B41)","v":0},0,{"$f":"IF(OR(FN41=0,FN41=$E41+1),0,$F41*$B41)","v":0},0,{"$f":"IF(OR(FP41=0,FP41=$E41+1),0,$F41*$B41)","v":0},0,{"$f":"IF(OR(FR41=0,FR41=$E41+1),0,$F41*$B41)","v":0},0,{"$f":"IF(OR(FT41=0,FT41=$E41+1),0,$F41*$B41)","v":0},0,{"$f":"IF(OR(FV41=0,FV41=$E41+1),0,$F41*$B41)","v":0},0,{"$f":"IF(OR(FX41=0,FX41=$E41+1),0,$F41*$B41)","v":0},0,{"$f":"IF(OR(FZ41=0,FZ41=$E41+1),0,$F41*$B41)","v":0},0,null,{"$f":"IF(OR(GC41=0,GC41=$E41+1),0,$F41*$B41)","v":0},0,{"$f":"IF(OR(GE41=0,GE41=$E41+1),0,$F41*$B41)","v":0},0,{"$f":"IF(OR(GG41=0,GG41=$E41+1),0,$F41*$B41)","v":0},0,{"$f":"IF(OR(GI41=0,GI41=$E41+1),0,$F41*$B41)","v":0},0,{"$f":"IF(OR(GK41=0,GK41=$E41+1),0,$F41*$B41)","v":0},0,{"$f":"IF(OR(GM41=0,GM41=$E41+1),0,$F41*$B41)","v":0},0,{"$f":"IF(OR(GO41=0,GO41=$E41+1),0,$F41*$B41)","v":0},0,{"$f":"IF(OR(GQ41=0,GQ41=$E41+1),0,$F41*$B41)","v":0},0,{"$f":"IF(OR(GS41=0,GS41=$E41+1),0,$F41*$B41)","v":0},0,{"$f":"IF(OR(GU41=0,GU41=$E41+1),0,$F41*$B41)","v":0},0,{"$f":"IF(OR(GW41=0,GW41=$E41+1),0,$F41*$B41)","v":0},0,{"$f":"IF(OR(GY41=0,GY41=$E41+1),0,$F41*$B41)","v":0},0,null,{"$f":"IF(OR(HB41=0,HB41=$E41+1),0,$F41*$B41)","v":0},0,{"$f":"IF(OR(HD41=0,HD41=$E41+1),0,$F41*$B41)","v":0},0,{"$f":"IF(OR(HF41=0,HF41=$E41+1),0,$F41*$B41)","v":0},0,{"$f":"IF(OR(HH41=0,HH41=$E41+1),0,$F41*$B41)","v":0},0,{"$f":"IF(OR(HJ41=0,HJ41=$E41+1),0,$F41*$B41)","v":0},0,{"$f":"IF(OR(HL41=0,HL41=$E41+1),0,$F41*$B41)","v":0},0,{"$f":"IF(OR(HN41=0,HN41=$E41+1),0,$F41*$B41)","v":0},0,{"$f":"IF(OR(HP41=0,HP41=$E41+1),0,$F41*$B41)","v":0},0,{"$f":"IF(OR(HR41=0,HR41=$E41+1),0,$F41*$B41)","v":0},0,{"$f":"IF(OR(HT41=0,HT41=$E41+1),0,$F41*$B41)","v":0},0,{"$f":"IF(OR(HV41=0,HV41=$E41+1),0,$F41*$B41)","v":0},0,{"$f":"IF(OR(HX41=0,HX41=$E41+1),0,$F41*$B41)","v":0},0,null,{"$f":"IF(OR(IA41=0,IA41=$E41+1),0,$F41*$B41)","v":0},0,{"$f":"IF(OR(IC41=0,IC41=$E41+1),0,$F41*$B41)","v":0},0,{"$f":"IF(OR(IE41=0,IE41=$E41+1),0,$F41*$B41)","v":0},0,{"$f":"IF(OR(IG41=0,IG41=$E41+1),0,$F41*$B41)","v":0},0,{"$f":"IF(OR(II41=0,II41=$E41+1),0,$F41*$B41)","v":0},0,{"$f":"IF(OR(IK41=0,IK41=$E41+1),0,$F41*$B41)","v":0},0,{"$f":"IF(OR(IM41=0,IM41=$E41+1),0,$F41*$B41)","v":0},0,{"$f":"IF(OR(IO41=0,IO41=$E41+1),0,$F41*$B41)","v":0},0,{"$f":"IF(OR(IQ41=0,IQ41=$E41+1),0,$F41*$B41)","v":0},0,{"$f":"IF(OR(IS41=0,IS41=$E41+1),0,$F41*$B41)","v":0},0,{"$f":"IF(OR(IU41=0,IU41=$E41+1),0,$F41*$B41)","v":0},0,{"$f":"IF(OR(IW41=0,IW41=$E41+1),0,$F41*$B41)","v":0},0]
[null,{"$f":"IFERROR(VLOOKUP('הזנת אירועים'!C42,סגמנטים!$D$2:$E$3,2,0),0)","v":0},{"$f":"'הזנת אירועים'!B42","v":0},{"$f":"'הזנת אירועים'!D42","v":"00:00:00"},{"$f":"IF('הזנת אירועים'!E42=סגמנטים!$F$2,1,IF('הזנת אירועים'!E42=סגמנטים!$F$3,999,'הזנת אירועים'!E42))","v":0},{"$f":"'הזנת אירועים'!F42","v":0},0,null,0,{"$f":"IF(I$4=D42,1,IF($I$4<D42,0,(IFERROR(VLOOKUP($I$4,סגמנטים!$A$1:$C$997,3)-VLOOKUP(D42,סגמנטים!$A$1:$C$997,3)+1,0))))","v":0},0,0,0,0,0,0,0,0,0,0,0,0,0,0,0,0,0,0,0,0,0,0,null,0,0,0,0,0,0,0,0,0,0,0,0,0,0,0,0,0,0,0,0,0,0,0,0,null,0,0,0,0,0,0,0,0,0,0,0,0,0,0,0,0,0,0,0,0,0,0,0,0,null,0,0,0,0,0,0,0,0,0,0,0,0,0,0,0,0,0,0,0,0,0,0,0,0,null,0,0,0,0,0,0,0,0,0,0,0,0,0,0,0,0,0,0,0,0,0,0,0,0,null,0,0,0,0,0,0,0,0,0,0,0,0,0,0,0,0,0,0,0,0,0,0,0,0,null,0,0,0,0,0,0,0,0,0,0,0,0,0,0,0,0,0,0,0,0,0,0,0,0,null,0,0,0,0,0,0,0,0,0,0,0,0,0,0,0,0,0,0,0,0,0,0,0,0,null,0,0,0,0,0,0,0,0,0,0,0,0,0,0,0,0,0,0,0,0,0,0,0,0,null,0,0,0,0,0,0,0,0,0,0,0,0,0,0,0,0,0,0,0,0,0,0,0,0]
[null,{"$f":"IFERROR(VLOOKUP('הזנת אירועים'!C43,סגמנטים!$D$2:$E$3,2,0),0)","v":0},{"$f":"'הזנת אירועים'!B43","v":0},{"$f":"'הזנת אירועים'!D43","v":"00:00:00"},{"$f":"IF('הזנת אירועים'!E43=סגמנטים!$F$2,1,IF('הזנת אירועים'!E43=סגמנטים!$F$3,999,'הזנת אירועים'!E43))","v":0},{"$f":"'הזנת אירועים'!F43","v":0},0,null,0,{"$f":"IF(I$4=D43,1,IF($I$4<D43,0,(IFERROR(VLOOKUP($I$4,סגמנטים!$A$1:$C$997,3)-VLOOKUP(D43,סגמנטים!$A$1:$C$997,3)+1,0))))","v":0},0,0,0,0,0,0,0,0,0,0,0,0,0,0,0,0,0,0,0,0,0,0,null,0,0,0,0,0,0,0,0,0,0,0,0,0,0,0,0,0,0,0,0,0,0,0,0,null,0,0,0,0,0,0,0,0,0,0,0,0,0,0,0,0,0,0,0,0,0,0,0,0,null,0,0,0,0,0,0,0,0,0,0,0,0,0,0,0,0,0,0,0,0,0,0,0,0,null,0,0,0,0,0,0,0,0,0,0,0,0,0,0,0,0,0,0,0,0,0,0,0,0,null,0,0,0,0,0,0,0,0,0,0,0,0,0,0,0,0,0,0,0,0,0,0,0,0,null,0,0,0,0,0,0,0,0,0,0,0,0,0,0,0,0,0,0,0,0,0,0,0,0,null,0,0,0,0,0,0,0,0,0,0,0,0,0,0,0,0,0,0,0,0,0,0,0,0,null,0,0,0,0,0,0,0,0,0,0,0,0,0,0,0,0,0,0,0,0,0,0,0,0,null,0,0,0,0,0,0,0,0,0,0,0,0,0,0,0,0,0,0,0,0,0,0,0,0]
[null,{"$f":"IFERROR(VLOOKUP('הזנת אירועים'!C44,סגמנטים!$D$2:$E$3,2,0),0)","v":0},{"$f":"'הזנת אירועים'!B44","v":0},{"$f":"'הזנת אירועים'!D44","v":"00:00:00"},{"$f":"IF('הזנת אירועים'!E44=סגמנטים!$F$2,1,IF('הזנת אירועים'!E44=סגמנטים!$F$3,999,'הזנת אירועים'!E44))","v":0},{"$f":"'הזנת אירועים'!F44","v":0},0,null,0,{"$f":"IF(I$4=D44,1,IF($I$4<D44,0,(IFERROR(VLOOKUP($I$4,סגמנטים!$A$1:$C$997,3)-VLOOKUP(D44,סגמנטים!$A$1:$C$997,3)+1,0))))","v":0},0,0,0,0,0,0,0,0,0,0,0,0,0,0,0,0,0,0,0,0,0,0,null,0,0,0,0,0,0,0,0,0,0,0,0,0,0,0,0,0,0,0,0,0,0,0,0,null,0,0,0,0,0,0,0,0,0,0,0,0,0,0,0,0,0,0,0,0,0,0,0,0,null,0,0,0,0,0,0,0,0,0,0,0,0,0,0,0,0,0,0,0,0,0,0,0,0,null,0,0,0,0,0,0,0,0,0,0,0,0,0,0,0,0,0,0,0,0,0,0,0,0,null,0,0,0,0,0,0,0,0,0,0,0,0,0,0,0,0,0,0,0,0,0,0,0,0,null,0,0,0,0,0,0,0,0,0,0,0,0,0,0,0,0,0,0,0,0,0,0,0,0,null,0,0,0,0,0,0,0,0,0,0,0,0,0,0,0,0,0,0,0,0,0,0,0,0,null,0,0,0,0,0,0,0,0,0,0,0,0,0,0,0,0,0,0,0,0,0,0,0,0,null,0,0,0,0,0,0,0,0,0,0,0,0,0,0,0,0,0,0,0,0,0,0,0,0]
[null,{"$f":"IFERROR(VLOOKUP('הזנת אירועים'!C45,סגמנטים!$D$2:$E$3,2,0),0)","v":0},{"$f":"'הזנת אירועים'!B45","v":0},{"$f":"'הזנת אירועים'!D45","v":"00:00:00"},{"$f":"IF('הזנת אירועים'!E45=סגמנטים!$F$2,1,IF('הזנת אירועים'!E45=סגמנטים!$F$3,999,'הזנת אירועים'!E45))","v":0},{"$f":"'הזנת אירועים'!F45","v":0},0,null,0,{"$f":"IF(I$4=D45,1,IF($I$4<D45,0,(IFERROR(VLOOKUP($I$4,סגמנטים!$A$1:$C$997,3)-VLOOKUP(D45,סגמנטים!$A$1:$C$997,3)+1,0))))","v":0},0,0,0,0,0,0,0,0,0,0,0,0,0,0,0,0,0,0,0,0,0,0,null,0,0,0,0,0,0,0,0,0,0,0,0,0,0,0,0,0,0,0,0,0,0,0,0,null,0,0,0,0,0,0,0,0,0,0,0,0,0,0,0,0,0,0,0,0,0,0,0,0,null,0,0,0,0,0,0,0,0,0,0,0,0,0,0,0,0,0,0,0,0,0,0,0,0,null,0,0,0,0,0,0,0,0,0,0,0,0,0,0,0,0,0,0,0,0,0,0,0,0,null,0,0,0,0,0,0,0,0,0,0,0,0,0,0,0,0,0,0,0,0,0,0,0,0,null,0,0,0,0,0,0,0,0,0,0,0,0,0,0,0,0,0,0,0,0,0,0,0,0,null,0,0,0,0,0,0,0,0,0,0,0,0,0,0,0,0,0,0,0,0,0,0,0,0,null,0,0,0,0,0,0,0,0,0,0,0,0,0,0,0,0,0,0,0,0,0,0,0,0,null,0,0,0,0,0,0,0,0,0,0,0,0,0,0,0,0,0,0,0,0,0,0,0,0]
[null,{"$f":"IFERROR(VLOOKUP('הזנת אירועים'!C46,סגמנטים!$D$2:$E$3,2,0),0)","v":0},{"$f":"'הזנת אירועים'!B46","v":0},{"$f":"'הזנת אירועים'!D46","v":"00:00:00"},{"$f":"IF('הזנת אירועים'!E46=סגמנטים!$F$2,1,IF('הזנת אירועים'!E46=סגמנטים!$F$3,999,'הזנת אירועים'!E46))","v":0},{"$f":"'הזנת אירועים'!F46","v":0},0,null,0,{"$f":"IF(I$4=D46,1,IF($I$4<D46,0,(IFERROR(VLOOKUP($I$4,סגמנטים!$A$1:$C$997,3)-VLOOKUP(D46,סגמנטים!$A$1:$C$997,3)+1,0))))","v":0},0,0,0,0,0,0,0,0,0,0,0,0,0,0,0,0,0,0,0,0,0,0,null,0,0,0,0,0,0,0,0,0,0,0,0,0,0,0,0,0,0,0,0,0,0,0,0,null,0,0,0,0,0,0,0,0,0,0,0,0,0,0,0,0,0,0,0,0,0,0,0,0,null,0,0,0,0,0,0,0,0,0,0,0,0,0,0,0,0,0,0,0,0,0,0,0,0,null,0,0,0,0,0,0,0,0,0,0,0,0,0,0,0,0,0,0,0,0,0,0,0,0,null,0,0,0,0,0,0,0,0,0,0,0,0,0,0,0,0,0,0,0,0,0,0,0,0,null,0,0,0,0,0,0,0,0,0,0,0,0,0,0,0,0,0,0,0,0,0,0,0,0,null,0,0,0,0,0,0,0,0,0,0,0,0,0,0,0,0,0,0,0,0,0,0,0,0,null,0,0,0,0,0,0,0,0,0,0,0,0,0,0,0,0,0,0,0,0,0,0,0,0,null,0,0,0,0,0,0,0,0,0,0,0,0,0,0,0,0,0,0,0,0,0,0,0,0]
[null,{"$f":"IFERROR(VLOOKUP('הזנת אירועים'!C47,סגמנטים!$D$2:$E$3,2,0),0)","v":0},{"$f":"'הזנת אירועים'!B47","v":0},{"$f":"'הזנת אירועים'!D47","v":"00:00:00"},{"$f":"IF('הזנת אירועים'!E47=סגמנטים!$F$2,1,IF('הזנת אירועים'!E47=סגמנטים!$F$3,999,'הזנת אירועים'!E47))","v":0},{"$f":"'הזנת אירועים'!F47","v":0},0,null,0,{"$f":"IF(I$4=D47,1,IF($I$4<D47,0,(IFERROR(VLOOKUP($I$4,סגמנטים!$A$1:$C$997,3)-VLOOKUP(D47,סגמנטים!$A$1:$C$997,3)+1,0))))","v":0},0,0,0,0,0,0,0,0,0,0,0,0,0,0,0,0,0,0,0,0,0,0,null,0,0,0,0,0,0,0,0,0,0,0,0,0,0,0,0,0,0,0,0,0,0,0,0,null,0,0,0,0,0,0,0,0,0,0,0,0,0,0,0,0,0,0,0,0,0,0,0,0,null,0,0,0,0,0,0,0,0,0,0,0,0,0,0,0,0,0,0,0,0,0,0,0,0,null,0,0,0,0,0,0,0,0,0,0,0,0,0,0,0,0,0,0,0,0,0,0,0,0,null,0,0,0,0,0,0,0,0,0,0,0,0,0,0,0,0,0,0,0,0,0,0,0,0,null,0,0,0,0,0,0,0,0,0,0,0,0,0,0,0,0,0,0,0,0,0,0,0,0,null,0,0,0,0,0,0,0,0,0,0,0,0,0,0,0,0,0,0,0,0,0,0,0,0,null,0,0,0,0,0,0,0,0,0,0,0,0,0,0,0,0,0,0,0,0,0,0,0,0,null,0,0,0,0,0,0,0,0,0,0,0,0,0,0,0,0,0,0,0,0,0,0,0,0]
[null,{"$f":"IFERROR(VLOOKUP('הזנת אירועים'!C48,סגמנטים!$D$2:$E$3,2,0),0)","v":0},{"$f":"'הזנת אירועים'!B48","v":0},{"$f":"'הזנת אירועים'!D48","v":"00:00:00"},{"$f":"IF('הזנת אירועים'!E48=סגמנטים!$F$2,1,IF('הזנת אירועים'!E48=סגמנטים!$F$3,999,'הזנת אירועים'!E48))","v":0},{"$f":"'הזנת אירועים'!F48","v":0},0,null,0,{"$f":"IF(I$4=D48,1,IF($I$4<D48,0,(IFERROR(VLOOKUP($I$4,סגמנטים!$A$1:$C$997,3)-VLOOKUP(D48,סגמנטים!$A$1:$C$997,3)+1,0))))","v":0},0,0,0,0,0,0,0,0,0,0,0,0,0,0,0,0,0,0,0,0,0,0,null,0,0,0,0,0,0,0,0,0,0,0,0,0,0,0,0,0,0,0,0,0,0,0,0,null,0,0,0,0,0,0,0,0,0,0,0,0,0,0,0,0,0,0,0,0,0,0,0,0,null,0,0,0,0,0,0,0,0,0,0,0,0,0,0,0,0,0,0,0,0,0,0,0,0,null,0,0,0,0,0,0,0,0,0,0,0,0,0,0,0,0,0,0,0,0,0,0,0,0,null,0,0,0,0,0,0,0,0,0,0,0,0,0,0,0,0,0,0,0,0,0,0,0,0,null,0,0,0,0,0,0,0,0,0,0,0,0,0,0,0,0,0,0,0,0,0,0,0,0,null,0,0,0,0,0,0,0,0,0,0,0,0,0,0,0,0,0,0,0,0,0,0,0,0,null,0,0,0,0,0,0,0,0,0,0,0,0,0,0,0,0,0,0,0,0,0,0,0,0,null,0,0,0,0,0,0,0,0,0,0,0,0,0,0,0,0,0,0,0,0,0,0,0,0]
[null,{"$f":"IFERROR(VLOOKUP('הזנת אירועים'!C49,סגמנטים!$D$2:$E$3,2,0),0)","v":0},{"$f":"'הזנת אירועים'!B49","v":0},{"$f":"'הזנת אירועים'!D49","v":"00:00:00"},{"$f":"IF('הזנת אירועים'!E49=סגמנטים!$F$2,1,IF('הזנת אירועים'!E49=סגמנטים!$F$3,999,'הזנת אירועים'!E49))","v":0},{"$f":"'הזנת אירועים'!F49","v":0},0,null,0,{"$f":"IF(I$4=D49,1,IF($I$4<D49,0,(IFERROR(VLOOKUP($I$4,סגמנטים!$A$1:$C$997,3)-VLOOKUP(D49,סגמנטים!$A$1:$C$997,3)+1,0))))","v":0},0,0,0,0,0,0,0,0,0,0,0,0,0,0,0,0,0,0,0,0,0,0,null,0,0,0,0,0,0,0,0,0,0,0,0,0,0,0,0,0,0,0,0,0,0,0,0,null,0,0,0,0,0,0,0,0,0,0,0,0,0,0,0,0,0,0,0,0,0,0,0,0,null,0,0,0,0,0,0,0,0,0,0,0,0,0,0,0,0,0,0,0,0,0,0,0,0,null,0,0,0,0,0,0,0,0,0,0,0,0,0,0,0,0,0,0,0,0,0,0,0,0,null,0,0,0,0,0,0,0,0,0,0,0,0,0,0,0,0,0,0,0,0,0,0,0,0,null,0,0,0,0,0,0,0,0,0,0,0,0,0,0,0,0,0,0,0,0,0,0,0,0,null,0,0,0,0,0,0,0,0,0,0,0,0,0,0,0,0,0,0,0,0,0,0,0,0,null,0,0,0,0,0,0,0,0,0,0,0,0,0,0,0,0,0,0,0,0,0,0,0,0,null,0,0,0,0,0,0,0,0,0,0,0,0,0,0,0,0,0,0,0,0,0,0,0,0]
[null,{"$f":"IFERROR(VLOOKUP('הזנת אירועים'!C50,סגמנטים!$D$2:$E$3,2,0),0)","v":0},{"$f":"'הזנת אירועים'!B50","v":0},{"$f":"'הזנת אירועים'!D50","v":"00:00:00"},{"$f":"IF('הזנת אירועים'!E50=סגמנטים!$F$2,1,IF('הזנת אירועים'!E50=סגמנטים!$F$3,999,'הזנת אירועים'!E50))","v":0},{"$f":"'הזנת אירועים'!F50","v":0},0,null,0,{"$f":"IF(I$4=D50,1,IF($I$4<D50,0,(IFERROR(VLOOKUP($I$4,סגמנטים!$A$1:$C$997,3)-VLOOKUP(D50,סגמנטים!$A$1:$C$997,3)+1,0))))","v":0},0,0,0,0,0,0,0,0,0,0,0,0,0,0,0,0,0,0,0,0,0,0,null,0,0,0,0,0,0,0,0,0,0,0,0,0,0,0,0,0,0,0,0,0,0,0,0,null,0,0,0,0,0,0,0,0,0,0,0,0,0,0,0,0,0,0,0,0,0,0,0,0,null,0,0,0,0,0,0,0,0,0,0,0,0,0,0,0,0,0,0,0,0,0,0,0,0,null,0,0,0,0,0,0,0,0,0,0,0,0,0,0,0,0,0,0,0,0,0,0,0,0,null,0,0,0,0,0,0,0,0,0,0,0,0,0,0,0,0,0,0,0,0,0,0,0,0,null,0,0,0,0,0,0,0,0,0,0,0,0,0,0,0,0,0,0,0,0,0,0,0,0,null,0,0,0,0,0,0,0,0,0,0,0,0,0,0,0,0,0,0,0,0,0,0,0,0,null,0,0,0,0,0,0,0,0,0,0,0,0,0,0,0,0,0,0,0,0,0,0,0,0,null,0,0,0,0,0,0,0,0,0,0,0,0,0,0,0,0,0,0,0,0,0,0,0,0]
[null,{"$f":"IFERROR(VLOOKUP('הזנת אירועים'!C51,סגמנטים!$D$2:$E$3,2,0),0)","v":0},{"$f":"'הזנת אירועים'!B51","v":0},{"$f":"'הזנת אירועים'!D51","v":"00:00:00"},{"$f":"IF('הזנת אירועים'!E51=סגמנטים!$F$2,1,IF('הזנת אירועים'!E51=סגמנטים!$F$3,999,'הזנת אירועים'!E51))","v":0},{"$f":"'הזנת אירועים'!F51","v":0},0,null,0,{"$f":"IF(I$4=D51,1,IF($I$4<D51,0,(IFERROR(VLOOKUP($I$4,סגמנטים!$A$1:$C$997,3)-VLOOKUP(D51,סגמנטים!$A$1:$C$997,3)+1,0))))","v":0},0,0,0,0,0,0,0,0,0,0,0,0,0,0,0,0,0,0,0,0,0,0,null,0,0,0,0,0,0,0,0,0,0,0,0,0,0,0,0,0,0,0,0,0,0,0,0,null,0,0,0,0,0,0,0,0,0,0,0,0,0,0,0,0,0,0,0,0,0,0,0,0,null,0,0,0,0,0,0,0,0,0,0,0,0,0,0,0,0,0,0,0,0,0,0,0,0,null,0,0,0,0,0,0,0,0,0,0,0,0,0,0,0,0,0,0,0,0,0,0,0,0,null,0,0,0,0,0,0,0,0,0,0,0,0,0,0,0,0,0,0,0,0,0,0,0,0,null,0,0,0,0,0,0,0,0,0,0,0,0,0,0,0,0,0,0,0,0,0,0,0,0,null,0,0,0,0,0,0,0,0,0,0,0,0,0,0,0,0,0,0,0,0,0,0,0,0,null,0,0,0,0,0,0,0,0,0,0,0,0,0,0,0,0,0,0,0,0,0,0,0,0,null,0,0,0,0,0,0,0,0,0,0,0,0,0,0,0,0,0,0,0,0,0,0,0,0]
[null,{"$f":"IFERROR(VLOOKUP('הזנת אירועים'!C52,סגמנטים!$D$2:$E$3,2,0),0)","v":0},{"$f":"'הזנת אירועים'!B52","v":0},{"$f":"'הזנת אירועים'!D52","v":"00:00:00"},{"$f":"IF('הזנת אירועים'!E52=סגמנטים!$F$2,1,IF('הזנת אירועים'!E52=סגמנטים!$F$3,999,'הזנת אירועים'!E52))","v":0},{"$f":"'הזנת אירועים'!F52","v":0},0,null,0,{"$f":"IF(I$4=D52,1,IF($I$4<D52,0,(IFERROR(VLOOKUP($I$4,סגמנטים!$A$1:$C$997,3)-VLOOKUP(D52,סגמנטים!$A$1:$C$997,3)+1,0))))","v":0},0,0,0,0,0,0,0,0,0,0,0,0,0,0,0,0,0,0,0,0,0,0,null,0,0,0,0,0,0,0,0,0,0,0,0,0,0,0,0,0,0,0,0,0,0,0,0,null,0,0,0,0,0,0,0,0,0,0,0,0,0,0,0,0,0,0,0,0,0,0,0,0,null,0,0,0,0,0,0,0,0,0,0,0,0,0,0,0,0,0,0,0,0,0,0,0,0,null,0,0,0,0,0,0,0,0,0,0,0,0,0,0,0,0,0,0,0,0,0,0,0,0,null,0,0,0,0,0,0,0,0,0,0,0,0,0,0,0,0,0,0,0,0,0,0,0,0,null,0,0,0,0,0,0,0,0,0,0,0,0,0,0,0,0,0,0,0,0,0,0,0,0,null,0,0,0,0,0,0,0,0,0,0,0,0,0,0,0,0,0,0,0,0,0,0,0,0,null,0,0,0,0,0,0,0,0,0,0,0,0,0,0,0,0,0,0,0,0,0,0,0,0,null,0,0,0,0,0,0,0,0,0,0,0,0,0,0,0,0,0,0,0,0,0,0,0,0]
[null,{"$f":"IFERROR(VLOOKUP('הזנת אירועים'!C53,סגמנטים!$D$2:$E$3,2,0),0)","v":0},{"$f":"'הזנת אירועים'!B53","v":0},{"$f":"'הזנת אירועים'!D53","v":"00:00:00"},{"$f":"IF('הזנת אירועים'!E53=סגמנטים!$F$2,1,IF('הזנת אירועים'!E53=סגמנטים!$F$3,999,'הזנת אירועים'!E53))","v":0},{"$f":"'הזנת אירועים'!F53","v":0},0,null,0,{"$f":"IF(I$4=D53,1,IF($I$4<D53,0,(IFERROR(VLOOKUP($I$4,סגמנטים!$A$1:$C$997,3)-VLOOKUP(D53,סגמנטים!$A$1:$C$997,3)+1,0))))","v":0},0,0,0,0,0,0,0,0,0,0,0,0,0,0,0,0,0,0,0,0,0,0,null,0,0,0,0,0,0,0,0,0,0,0,0,0,0,0,0,0,0,0,0,0,0,0,0,null,0,0,0,0,0,0,0,0,0,0,0,0,0,0,0,0,0,0,0,0,0,0,0,0,null,0,0,0,0,0,0,0,0,0,0,0,0,0,0,0,0,0,0,0,0,0,0,0,0,null,0,0,0,0,0,0,0,0,0,0,0,0,0,0,0,0,0,0,0,0,0,0,0,0,null,0,0,0,0,0,0,0,0,0,0,0,0,0,0,0,0,0,0,0,0,0,0,0,0,null,0,0,0,0,0,0,0,0,0,0,0,0,0,0,0,0,0,0,0,0,0,0,0,0,null,0,0,0,0,0,0,0,0,0,0,0,0,0,0,0,0,0,0,0,0,0,0,0,0,null,0,0,0,0,0,0,0,0,0,0,0,0,0,0,0,0,0,0,0,0,0,0,0,0,null,0,0,0,0,0,0,0,0,0,0,0,0,0,0,0,0,0,0,0,0,0,0,0,0]
[null,{"$f":"IFERROR(VLOOKUP('הזנת אירועים'!C54,סגמנטים!$D$2:$E$3,2,0),0)","v":0},{"$f":"'הזנת אירועים'!B54","v":0},{"$f":"'הזנת אירועים'!D54","v":"00:00:00"},{"$f":"IF('הזנת אירועים'!E54=סגמנטים!$F$2,1,IF('הזנת אירועים'!E54=סגמנטים!$F$3,999,'הזנת אירועים'!E54))","v":0},{"$f":"'הזנת אירועים'!F54","v":0},0,null,0,{"$f":"IF(I$4=D54,1,IF($I$4<D54,0,(IFERROR(VLOOKUP($I$4,סגמנטים!$A$1:$C$997,3)-VLOOKUP(D54,סגמנטים!$A$1:$C$997,3)+1,0))))","v":0},0,0,0,0,0,0,0,0,0,0,0,0,0,0,0,0,0,0,0,0,0,0,null,0,0,0,0,0,0,0,0,0,0,0,0,0,0,0,0,0,0,0,0,0,0,0,0,null,0,0,0,0,0,0,0,0,0,0,0,0,0,0,0,0,0,0,0,0,0,0,0,0,null,0,0,0,0,0,0,0,0,0,0,0,0,0,0,0,0,0,0,0,0,0,0,0,0,null,0,0,0,0,0,0,0,0,0,0,0,0,0,0,0,0,0,0,0,0,0,0,0,0,null,0,0,0,0,0,0,0,0,0,0,0,0,0,0,0,0,0,0,0,0,0,0,0,0,null,0,0,0,0,0,0,0,0,0,0,0,0,0,0,0,0,0,0,0,0,0,0,0,0,null,0,0,0,0,0,0,0,0,0,0,0,0,0,0,0,0,0,0,0,0,0,0,0,0,null,0,0,0,0,0,0,0,0,0,0,0,0,0,0,0,0,0,0,0,0,0,0,0,0,null,0,0,0,0,0,0,0,0,0,0,0,0,0,0,0,0,0,0,0,0,0,0,0,0]
[null,{"$f":"IFERROR(VLOOKUP('הזנת אירועים'!C55,סגמנטים!$D$2:$E$3,2,0),0)","v":0},{"$f":"'הזנת אירועים'!B55","v":0},{"$f":"'הזנת אירועים'!D55","v":"00:00:00"},{"$f":"IF('הזנת אירועים'!E55=סגמנטים!$F$2,1,IF('הזנת אירועים'!E55=סגמנטים!$F$3,999,'הזנת אירועים'!E55))","v":0},{"$f":"'הזנת אירועים'!F55","v":0},0,null,0,{"$f":"IF(I$4=D55,1,IF($I$4<D55,0,(IFERROR(VLOOKUP($I$4,סגמנטים!$A$1:$C$997,3)-VLOOKUP(D55,סגמנטים!$A$1:$C$997,3)+1,0))))","v":0},0,0,0,0,0,0,0,0,0,0,0,0,0,0,0,0,0,0,0,0,0,0,null,0,0,0,0,0,0,0,0,0,0,0,0,0,0,0,0,0,0,0,0,0,0,0,0,null,0,0,0,0,0,0,0,0,0,0,0,0,0,0,0,0,0,0,0,0,0,0,0,0,null,0,0,0,0,0,0,0,0,0,0,0,0,0,0,0,0,0,0,0,0,0,0,0,0,null,0,0,0,0,0,0,0,0,0,0,0,0,0,0,0,0,0,0,0,0,0,0,0,0,null,0,0,0,0,0,0,0,0,0,0,0,0,0,0,0,0,0,0,0,0,0,0,0,0,null,0,0,0,0,0,0,0,0,0,0,0,0,0,0,0,0,0,0,0,0,0,0,0,0,null,0,0,0,0,0,0,0,0,0,0,0,0,0,0,0,0,0,0,0,0,0,0,0,0,null,0,0,0,0,0,0,0,0,0,0,0,0,0,0,0,0,0,0,0,0,0,0,0,0,null,0,0,0,0,0,0,0,0,0,0,0,0,0,0,0,0,0,0,0,0,0,0,0,0]
[null,{"$f":"IFERROR(VLOOKUP('הזנת אירועים'!C56,סגמנטים!$D$2:$E$3,2,0),0)","v":0},{"$f":"'הזנת אירועים'!B56","v":0},{"$f":"'הזנת אירועים'!D56","v":"00:00:00"},{"$f":"IF('הזנת אירועים'!E56=סגמנטים!$F$2,1,IF('הזנת אירועים'!E56=סגמנטים!$F$3,999,'הזנת אירועים'!E56))","v":0},{"$f":"'הזנת אירועים'!F56","v":0},0,null,0,{"$f":"IF(I$4=D56,1,IF($I$4<D56,0,(IFERROR(VLOOKUP($I$4,סגמנטים!$A$1:$C$997,3)-VLOOKUP(D56,סגמנטים!$A$1:$C$997,3)+1,0))))","v":0},0,0,0,0,0,0,0,0,0,0,0,0,0,0,0,0,0,0,0,0,0,0,null,0,0,0,0,0,0,0,0,0,0,0,0,0,0,0,0,0,0,0,0,0,0,0,0,null,0,0,0,0,0,0,0,0,0,0,0,0,0,0,0,0,0,0,0,0,0,0,0,0,null,0,0,0,0,0,0,0,0,0,0,0,0,0,0,0,0,0,0,0,0,0,0,0,0,null,0,0,0,0,0,0,0,0,0,0,0,0,0,0,0,0,0,0,0,0,0,0,0,0,null,0,0,0,0,0,0,0,0,0,0,0,0,0,0,0,0,0,0,0,0,0,0,0,0,null,0,0,0,0,0,0,0,0,0,0,0,0,0,0,0,0,0,0,0,0,0,0,0,0,null,0,0,0,0,0,0,0,0,0,0,0,0,0,0,0,0,0,0,0,0,0,0,0,0,null,0,0,0,0,0,0,0,0,0,0,0,0,0,0,0,0,0,0,0,0,0,0,0,0,null,0,0,0,0,0,0,0,0,0,0,0,0,0,0,0,0,0,0,0,0,0,0,0,0]
[null,{"$f":"IFERROR(VLOOKUP('הזנת אירועים'!C57,סגמנטים!$D$2:$E$3,2,0),0)","v":0},{"$f":"'הזנת אירועים'!B57","v":0},{"$f":"'הזנת אירועים'!D57","v":"00:00:00"},{"$f":"IF('הזנת אירועים'!E57=סגמנטים!$F$2,1,IF('הזנת אירועים'!E57=סגמנטים!$F$3,999,'הזנת אירועים'!E57))","v":0},{"$f":"'הזנת אירועים'!F57","v":0},0,null,0,{"$f":"IF(I$4=D57,1,IF($I$4<D57,0,(IFERROR(VLOOKUP($I$4,סגמנטים!$A$1:$C$997,3)-VLOOKUP(D57,סגמנטים!$A$1:$C$997,3)+1,0))))","v":0},0,0,0,0,0,0,0,0,0,0,0,0,0,0,0,0,0,0,0,0,0,0,null,0,0,0,0,0,0,0,0,0,0,0,0,0,0,0,0,0,0,0,0,0,0,0,0,null,0,0,0,0,0,0,0,0,0,0,0,0,0,0,0,0,0,0,0,0,0,0,0,0,null,0,0,0,0,0,0,0,0,0,0,0,0,0,0,0,0,0,0,0,0,0,0,0,0,null,0,0,0,0,0,0,0,0,0,0,0,0,0,0,0,0,0,0,0,0,0,0,0,0,null,0,0,0,0,0,0,0,0,0,0,0,0,0,0,0,0,0,0,0,0,0,0,0,0,null,0,0,0,0,0,0,0,0,0,0,0,0,0,0,0,0,0,0,0,0,0,0,0,0,null,0,0,0,0,0,0,0,0,0,0,0,0,0,0,0,0,0,0,0,0,0,0,0,0,null,0,0,0,0,0,0,0,0,0,0,0,0,0,0,0,0,0,0,0,0,0,0,0,0,null,0,0,0,0,0,0,0,0,0,0,0,0,0,0,0,0,0,0,0,0,0,0,0,0]
[null,{"$f":"IFERROR(VLOOKUP('הזנת אירועים'!C58,סגמנטים!$D$2:$E$3,2,0),0)","v":0},{"$f":"'הזנת אירועים'!B58","v":0},{"$f":"'הזנת אירועים'!D58","v":"00:00:00"},{"$f":"IF('הזנת אירועים'!E58=סגמנטים!$F$2,1,IF('הזנת אירועים'!E58=סגמנטים!$F$3,999,'הזנת אירועים'!E58))","v":0},{"$f":"'הזנת אירועים'!F58","v":0},0,null,0,{"$f":"IF(I$4=D58,1,IF($I$4<D58,0,(IFERROR(VLOOKUP($I$4,סגמנטים!$A$1:$C$997,3)-VLOOKUP(D58,סגמנטים!$A$1:$C$997,3)+1,0))))","v":0},0,0,0,0,0,0,0,0,0,0,0,0,0,0,0,0,0,0,0,0,0,0,null,0,0,0,0,0,0,0,0,0,0,0,0,0,0,0,0,0,0,0,0,0,0,0,0,null,0,0,0,0,0,0,0,0,0,0,0,0,0,0,0,0,0,0,0,0,0,0,0,0,null,0,0,0,0,0,0,0,0,0,0,0,0,0,0,0,0,0,0,0,0,0,0,0,0,null,0,0,0,0,0,0,0,0,0,0,0,0,0,0,0,0,0,0,0,0,0,0,0,0,null,0,0,0,0,0,0,0,0,0,0,0,0,0,0,0,0,0,0,0,0,0,0,0,0,null,0,0,0,0,0,0,0,0,0,0,0,0,0,0,0,0,0,0,0,0,0,0,0,0,null,0,0,0,0,0,0,0,0,0,0,0,0,0,0,0,0,0,0,0,0,0,0,0,0,null,0,0,0,0,0,0,0,0,0,0,0,0,0,0,0,0,0,0,0,0,0,0,0,0,null,0,0,0,0,0,0,0,0,0,0,0,0,0,0,0,0,0,0,0,0,0,0,0,0]
[null,{"$f":"IFERROR(VLOOKUP('הזנת אירועים'!C59,סגמנטים!$D$2:$E$3,2,0),0)","v":0},{"$f":"'הזנת אירועים'!B59","v":0},{"$f":"'הזנת אירועים'!D59","v":"00:00:00"},{"$f":"IF('הזנת אירועים'!E59=סגמנטים!$F$2,1,IF('הזנת אירועים'!E59=סגמנטים!$F$3,999,'הזנת אירועים'!E59))","v":0},{"$f":"'הזנת אירועים'!F59","v":0},0,null,0,{"$f":"IF(I$4=D59,1,IF($I$4<D59,0,(IFERROR(VLOOKUP($I$4,סגמנטים!$A$1:$C$997,3)-VLOOKUP(D59,סגמנטים!$A$1:$C$997,3)+1,0))))","v":0},0,0,0,0,0,0,0,0,0,0,0,0,0,0,0,0,0,0,0,0,0,0,null,0,0,0,0,0,0,0,0,0,0,0,0,0,0,0,0,0,0,0,0,0,0,0,0,null,0,0,0,0,0,0,0,0,0,0,0,0,0,0,0,0,0,0,0,0,0,0,0,0,null,0,0,0,0,0,0,0,0,0,0,0,0,0,0,0,0,0,0,0,0,0,0,0,0,null,0,0,0,0,0,0,0,0,0,0,0,0,0,0,0,0,0,0,0,0,0,0,0,0,null,0,0,0,0,0,0,0,0,0,0,0,0,0,0,0,0,0,0,0,0,0,0,0,0,null,0,0,0,0,0,0,0,0,0,0,0,0,0,0,0,0,0,0,0,0,0,0,0,0,null,0,0,0,0,0,0,0,0,0,0,0,0,0,0,0,0,0,0,0,0,0,0,0,0,null,0,0,0,0,0,0,0,0,0,0,0,0,0,0,0,0,0,0,0,0,0,0,0,0,null,0,0,0,0,0,0,0,0,0,0,0,0,0,0,0,0,0,0,0,0,0,0,0,0]
[null,{"$f":"IFERROR(VLOOKUP('הזנת אירועים'!C60,סגמנטים!$D$2:$E$3,2,0),0)","v":0},{"$f":"'הזנת אירועים'!B60","v":0},{"$f":"'הזנת אירועים'!D60","v":"00:00:00"},{"$f":"IF('הזנת אירועים'!E60=סגמנטים!$F$2,1,IF('הזנת אירועים'!E60=סגמנטים!$F$3,999,'הזנת אירועים'!E60))","v":0},{"$f":"'הזנת אירועים'!F60","v":0},0,null,0,{"$f":"IF(I$4=D60,1,IF($I$4<D60,0,(IFERROR(VLOOKUP($I$4,סגמנטים!$A$1:$C$997,3)-VLOOKUP(D60,סגמנטים!$A$1:$C$997,3)+1,0))))","v":0},0,0,0,0,0,0,0,0,0,0,0,0,0,0,0,0,0,0,0,0,0,0,null,0,0,0,0,0,0,0,0,0,0,0,0,0,0,0,0,0,0,0,0,0,0,0,0,null,0,0,0,0,0,0,0,0,0,0,0,0,0,0,0,0,0,0,0,0,0,0,0,0,null,0,0,0,0,0,0,0,0,0,0,0,0,0,0,0,0,0,0,0,0,0,0,0,0,null,0,0,0,0,0,0,0,0,0,0,0,0,0,0,0,0,0,0,0,0,0,0,0,0,null,0,0,0,0,0,0,0,0,0,0,0,0,0,0,0,0,0,0,0,0,0,0,0,0,null,0,0,0,0,0,0,0,0,0,0,0,0,0,0,0,0,0,0,0,0,0,0,0,0,null,0,0,0,0,0,0,0,0,0,0,0,0,0,0,0,0,0,0,0,0,0,0,0,0,null,0,0,0,0,0,0,0,0,0,0,0,0,0,0,0,0,0,0,0,0,0,0,0,0,null,0,0,0,0,0,0,0,0,0,0,0,0,0,0,0,0,0,0,0,0,0,0,0,0]
[null,{"$f":"IFERROR(VLOOKUP('הזנת אירועים'!C61,סגמנטים!$D$2:$E$3,2,0),0)","v":0},{"$f":"'הזנת אירועים'!B61","v":0},{"$f":"'הזנת אירועים'!D61","v":"00:00:00"},{"$f":"IF('הזנת אירועים'!E61=סגמנטים!$F$2,1,IF('הזנת אירועים'!E61=סגמנטים!$F$3,999,'הזנת אירועים'!E61))","v":0},{"$f":"'הזנת אירועים'!F61","v":0},0,null,0,{"$f":"IF(I$4=D61,1,IF($I$4<D61,0,(IFERROR(VLOOKUP($I$4,סגמנטים!$A$1:$C$997,3)-VLOOKUP(D61,סגמנטים!$A$1:$C$997,3)+1,0))))","v":0},0,0,0,0,0,0,0,0,0,0,0,0,0,0,0,0,0,0,0,0,0,0,null,0,0,0,0,0,0,0,0,0,0,0,0,0,0,0,0,0,0,0,0,0,0,0,0,null,0,0,0,0,0,0,0,0,0,0,0,0,0,0,0,0,0,0,0,0,0,0,0,0,null,0,0,0,0,0,0,0,0,0,0,0,0,0,0,0,0,0,0,0,0,0,0,0,0,null,0,0,0,0,0,0,0,0,0,0,0,0,0,0,0,0,0,0,0,0,0,0,0,0,null,0,0,0,0,0,0,0,0,0,0,0,0,0,0,0,0,0,0,0,0,0,0,0,0,null,0,0,0,0,0,0,0,0,0,0,0,0,0,0,0,0,0,0,0,0,0,0,0,0,null,0,0,0,0,0,0,0,0,0,0,0,0,0,0,0,0,0,0,0,0,0,0,0,0,null,0,0,0,0,0,0,0,0,0,0,0,0,0,0,0,0,0,0,0,0,0,0,0,0,null,0,0,0,0,0,0,0,0,0,0,0,0,0,0,0,0,0,0,0,0,0,0,0,0]
[null,{"$f":"IFERROR(VLOOKUP('הזנת אירועים'!C62,סגמנטים!$D$2:$E$3,2,0),0)","v":0},{"$f":"'הזנת אירועים'!B62","v":0},{"$f":"'הזנת אירועים'!D62","v":"00:00:00"},{"$f":"IF('הזנת אירועים'!E62=סגמנטים!$F$2,1,IF('הזנת אירועים'!E62=סגמנטים!$F$3,999,'הזנת אירועים'!E62))","v":0},{"$f":"'הזנת אירועים'!F62","v":0},0,null,0,{"$f":"IF(I$4=D62,1,IF($I$4<D62,0,(IFERROR(VLOOKUP($I$4,סגמנטים!$A$1:$C$997,3)-VLOOKUP(D62,סגמנטים!$A$1:$C$997,3)+1,0))))","v":0},0,0,0,0,0,0,0,0,0,0,0,0,0,0,0,0,0,0,0,0,0,0,null,0,0,0,0,0,0,0,0,0,0,0,0,0,0,0,0,0,0,0,0,0,0,0,0,null,0,0,0,0,0,0,0,0,0,0,0,0,0,0,0,0,0,0,0,0,0,0,0,0,null,0,0,0,0,0,0,0,0,0,0,0,0,0,0,0,0,0,0,0,0,0,0,0,0,null,0,0,0,0,0,0,0,0,0,0,0,0,0,0,0,0,0,0,0,0,0,0,0,0,null,0,0,0,0,0,0,0,0,0,0,0,0,0,0,0,0,0,0,0,0,0,0,0,0,null,0,0,0,0,0,0,0,0,0,0,0,0,0,0,0,0,0,0,0,0,0,0,0,0,null,0,0,0,0,0,0,0,0,0,0,0,0,0,0,0,0,0,0,0,0,0,0,0,0,null,0,0,0,0,0,0,0,0,0,0,0,0,0,0,0,0,0,0,0,0,0,0,0,0,null,0,0,0,0,0,0,0,0,0,0,0,0,0,0,0,0,0,0,0,0,0,0,0,0]
[null,{"$f":"IFERROR(VLOOKUP('הזנת אירועים'!C63,סגמנטים!$D$2:$E$3,2,0),0)","v":0},{"$f":"'הזנת אירועים'!B63","v":0},{"$f":"'הזנת אירועים'!D63","v":"00:00:00"},{"$f":"IF('הזנת אירועים'!E63=סגמנטים!$F$2,1,IF('הזנת אירועים'!E63=סגמנטים!$F$3,999,'הזנת אירועים'!E63))","v":0},{"$f":"'הזנת אירועים'!F63","v":0},0,null,0,{"$f":"IF(I$4=D63,1,IF($I$4<D63,0,(IFERROR(VLOOKUP($I$4,סגמנטים!$A$1:$C$997,3)-VLOOKUP(D63,סגמנטים!$A$1:$C$997,3)+1,0))))","v":0},0,0,0,0,0,0,0,0,0,0,0,0,0,0,0,0,0,0,0,0,0,0,null,0,0,0,0,0,0,0,0,0,0,0,0,0,0,0,0,0,0,0,0,0,0,0,0,null,0,0,0,0,0,0,0,0,0,0,0,0,0,0,0,0,0,0,0,0,0,0,0,0,null,0,0,0,0,0,0,0,0,0,0,0,0,0,0,0,0,0,0,0,0,0,0,0,0,null,0,0,0,0,0,0,0,0,0,0,0,0,0,0,0,0,0,0,0,0,0,0,0,0,null,0,0,0,0,0,0,0,0,0,0,0,0,0,0,0,0,0,0,0,0,0,0,0,0,null,0,0,0,0,0,0,0,0,0,0,0,0,0,0,0,0,0,0,0,0,0,0,0,0,null,0,0,0,0,0,0,0,0,0,0,0,0,0,0,0,0,0,0,0,0,0,0,0,0,null,0,0,0,0,0,0,0,0,0,0,0,0,0,0,0,0,0,0,0,0,0,0,0,0,null,0,0,0,0,0,0,0,0,0,0,0,0,0,0,0,0,0,0,0,0,0,0,0,0]
[null,{"$f":"IFERROR(VLOOKUP('הזנת אירועים'!C64,סגמנטים!$D$2:$E$3,2,0),0)","v":0},{"$f":"'הזנת אירועים'!B64","v":0},{"$f":"'הזנת אירועים'!D64","v":"00:00:00"},{"$f":"IF('הזנת אירועים'!E64=סגמנטים!$F$2,1,IF('הזנת אירועים'!E64=סגמנטים!$F$3,999,'הזנת אירועים'!E64))","v":0},{"$f":"'הזנת אירועים'!F64","v":0},0,null,0,{"$f":"IF(I$4=D64,1,IF($I$4<D64,0,(IFERROR(VLOOKUP($I$4,סגמנטים!$A$1:$C$997,3)-VLOOKUP(D64,סגמנטים!$A$1:$C$997,3)+1,0))))","v":0},0,0,0,0,0,0,0,0,0,0,0,0,0,0,0,0,0,0,0,0,0,0,null,0,0,0,0,0,0,0,0,0,0,0,0,0,0,0,0,0,0,0,0,0,0,0,0,null,0,0,0,0,0,0,0,0,0,0,0,0,0,0,0,0,0,0,0,0,0,0,0,0,null,0,0,0,0,0,0,0,0,0,0,0,0,0,0,0,0,0,0,0,0,0,0,0,0,null,0,0,0,0,0,0,0,0,0,0,0,0,0,0,0,0,0,0,0,0,0,0,0,0,null,0,0,0,0,0,0,0,0,0,0,0,0,0,0,0,0,0,0,0,0,0,0,0,0,null,0,0,0,0,0,0,0,0,0,0,0,0,0,0,0,0,0,0,0,0,0,0,0,0,null,0,0,0,0,0,0,0,0,0,0,0,0,0,0,0,0,0,0,0,0,0,0,0,0,null,0,0,0,0,0,0,0,0,0,0,0,0,0,0,0,0,0,0,0,0,0,0,0,0,null,0,0,0,0,0,0,0,0,0,0,0,0,0,0,0,0,0,0,0,0,0,0,0,0]
[null,{"$f":"IFERROR(VLOOKUP('הזנת אירועים'!C65,סגמנטים!$D$2:$E$3,2,0),0)","v":0},{"$f":"'הזנת אירועים'!B65","v":0},{"$f":"'הזנת אירועים'!D65","v":"00:00:00"},{"$f":"IF('הזנת אירועים'!E65=סגמנטים!$F$2,1,IF('הזנת אירועים'!E65=סגמנטים!$F$3,999,'הזנת אירועים'!E65))","v":0},{"$f":"'הזנת אירועים'!F65","v":0},0,null,0,{"$f":"IF(I$4=D65,1,IF($I$4<D65,0,(IFERROR(VLOOKUP($I$4,סגמנטים!$A$1:$C$997,3)-VLOOKUP(D65,סגמנטים!$A$1:$C$997,3)+1,0))))","v":0},0,0,0,0,0,0,0,0,0,0,0,0,0,0,0,0,0,0,0,0,0,0,null,0,0,0,0,0,0,0,0,0,0,0,0,0,0,0,0,0,0,0,0,0,0,0,0,null,0,0,0,0,0,0,0,0,0,0,0,0,0,0,0,0,0,0,0,0,0,0,0,0,null,0,0,0,0,0,0,0,0,0,0,0,0,0,0,0,0,0,0,0,0,0,0,0,0,null,0,0,0,0,0,0,0,0,0,0,0,0,0,0,0,0,0,0,0,0,0,0,0,0,null,0,0,0,0,0,0,0,0,0,0,0,0,0,0,0,0,0,0,0,0,0,0,0,0,null,0,0,0,0,0,0,0,0,0,0,0,0,0,0,0,0,0,0,0,0,0,0,0,0,null,0,0,0,0,0,0,0,0,0,0,0,0,0,0,0,0,0,0,0,0,0,0,0,0,null,0,0,0,0,0,0,0,0,0,0,0,0,0,0,0,0,0,0,0,0,0,0,0,0,null,0,0,0,0,0,0,0,0,0,0,0,0,0,0,0,0,0,0,0,0,0,0,0,0]
[null,{"$f":"IFERROR(VLOOKUP('הזנת אירועים'!C66,סגמנטים!$D$2:$E$3,2,0),0)","v":0},{"$f":"'הזנת אירועים'!B66","v":0},{"$f":"'הזנת אירועים'!D66","v":"00:00:00"},{"$f":"IF('הזנת אירועים'!E66=סגמנטים!$F$2,1,IF('הזנת אירועים'!E66=סגמנטים!$F$3,999,'הזנת אירועים'!E66))","v":0},{"$f":"'הזנת אירועים'!F66","v":0},0,null,0,{"$f":"IF(I$4=D66,1,IF($I$4<D66,0,(IFERROR(VLOOKUP($I$4,סגמנטים!$A$1:$C$997,3)-VLOOKUP(D66,סגמנטים!$A$1:$C$997,3)+1,0))))","v":0},0,0,0,0,0,0,0,0,0,0,0,0,0,0,0,0,0,0,0,0,0,0,null,0,0,0,0,0,0,0,0,0,0,0,0,0,0,0,0,0,0,0,0,0,0,0,0,null,0,0,0,0,0,0,0,0,0,0,0,0,0,0,0,0,0,0,0,0,0,0,0,0,null,0,0,0,0,0,0,0,0,0,0,0,0,0,0,0,0,0,0,0,0,0,0,0,0,null,0,0,0,0,0,0,0,0,0,0,0,0,0,0,0,0,0,0,0,0,0,0,0,0,null,0,0,0,0,0,0,0,0,0,0,0,0,0,0,0,0,0,0,0,0,0,0,0,0,null,0,0,0,0,0,0,0,0,0,0,0,0,0,0,0,0,0,0,0,0,0,0,0,0,null,0,0,0,0,0,0,0,0,0,0,0,0,0,0,0,0,0,0,0,0,0,0,0,0,null,0,0,0,0,0,0,0,0,0,0,0,0,0,0,0,0,0,0,0,0,0,0,0,0,null,0,0,0,0,0,0,0,0,0,0,0,0,0,0,0,0,0,0,0,0,0,0,0,0]
[null,{"$f":"IFERROR(VLOOKUP('הזנת אירועים'!C67,סגמנטים!$D$2:$E$3,2,0),0)","v":0},{"$f":"'הזנת אירועים'!B67","v":0},{"$f":"'הזנת אירועים'!D67","v":"00:00:00"},{"$f":"IF('הזנת אירועים'!E67=סגמנטים!$F$2,1,IF('הזנת אירועים'!E67=סגמנטים!$F$3,999,'הזנת אירועים'!E67))","v":0},{"$f":"'הזנת אירועים'!F67","v":0},0,null,0,{"$f":"IF(I$4=D67,1,IF($I$4<D67,0,(IFERROR(VLOOKUP($I$4,סגמנטים!$A$1:$C$997,3)-VLOOKUP(D67,סגמנטים!$A$1:$C$997,3)+1,0))))","v":0},0,0,0,0,0,0,0,0,0,0,0,0,0,0,0,0,0,0,0,0,0,0,null,0,0,0,0,0,0,0,0,0,0,0,0,0,0,0,0,0,0,0,0,0,0,0,0,null,0,0,0,0,0,0,0,0,0,0,0,0,0,0,0,0,0,0,0,0,0,0,0,0,null,0,0,0,0,0,0,0,0,0,0,0,0,0,0,0,0,0,0,0,0,0,0,0,0,null,0,0,0,0,0,0,0,0,0,0,0,0,0,0,0,0,0,0,0,0,0,0,0,0,null,0,0,0,0,0,0,0,0,0,0,0,0,0,0,0,0,0,0,0,0,0,0,0,0,null,0,0,0,0,0,0,0,0,0,0,0,0,0,0,0,0,0,0,0,0,0,0,0,0,null,0,0,0,0,0,0,0,0,0,0,0,0,0,0,0,0,0,0,0,0,0,0,0,0,null,0,0,0,0,0,0,0,0,0,0,0,0,0,0,0,0,0,0,0,0,0,0,0,0,null,0,0,0,0,0,0,0,0,0,0,0,0,0,0,0,0,0,0,0,0,0,0,0,0]
[null,{"$f":"IFERROR(VLOOKUP('הזנת אירועים'!C68,סגמנטים!$D$2:$E$3,2,0),0)","v":0},{"$f":"'הזנת אירועים'!B68","v":0},{"$f":"'הזנת אירועים'!D68","v":"00:00:00"},{"$f":"IF('הזנת אירועים'!E68=סגמנטים!$F$2,1,IF('הזנת אירועים'!E68=סגמנטים!$F$3,999,'הזנת אירועים'!E68))","v":0},{"$f":"'הזנת אירועים'!F68","v":0},0,null,0,{"$f":"IF(I$4=D68,1,IF($I$4<D68,0,(IFERROR(VLOOKUP($I$4,סגמנטים!$A$1:$C$997,3)-VLOOKUP(D68,סגמנטים!$A$1:$C$997,3)+1,0))))","v":0},0,0,0,0,0,0,0,0,0,0,0,0,0,0,0,0,0,0,0,0,0,0,null,0,0,0,0,0,0,0,0,0,0,0,0,0,0,0,0,0,0,0,0,0,0,0,0,null,0,0,0,0,0,0,0,0,0,0,0,0,0,0,0,0,0,0,0,0,0,0,0,0,null,0,0,0,0,0,0,0,0,0,0,0,0,0,0,0,0,0,0,0,0,0,0,0,0,null,0,0,0,0,0,0,0,0,0,0,0,0,0,0,0,0,0,0,0,0,0,0,0,0,null,0,0,0,0,0,0,0,0,0,0,0,0,0,0,0,0,0,0,0,0,0,0,0,0,null,0,0,0,0,0,0,0,0,0,0,0,0,0,0,0,0,0,0,0,0,0,0,0,0,null,0,0,0,0,0,0,0,0,0,0,0,0,0,0,0,0,0,0,0,0,0,0,0,0,null,0,0,0,0,0,0,0,0,0,0,0,0,0,0,0,0,0,0,0,0,0,0,0,0,null,0,0,0,0,0,0,0,0,0,0,0,0,0,0,0,0,0,0,0,0,0,0,0,0]
[null,{"$f":"IFERROR(VLOOKUP('הזנת אירועים'!C69,סגמנטים!$D$2:$E$3,2,0),0)","v":0},{"$f":"'הזנת אירועים'!B69","v":0},{"$f":"'הזנת אירועים'!D69","v":"00:00:00"},{"$f":"IF('הזנת אירועים'!E69=סגמנטים!$F$2,1,IF('הזנת אירועים'!E69=סגמנטים!$F$3,999,'הזנת אירועים'!E69))","v":0},{"$f":"'הזנת אירועים'!F69","v":0},0,null,0,{"$f":"IF(I$4=D69,1,IF($I$4<D69,0,(IFERROR(VLOOKUP($I$4,סגמנטים!$A$1:$C$997,3)-VLOOKUP(D69,סגמנטים!$A$1:$C$997,3)+1,0))))","v":0},0,0,0,0,0,0,0,0,0,0,0,0,0,0,0,0,0,0,0,0,0,0,null,0,0,0,0,0,0,0,0,0,0,0,0,0,0,0,0,0,0,0,0,0,0,0,0,null,0,0,0,0,0,0,0,0,0,0,0,0,0,0,0,0,0,0,0,0,0,0,0,0,null,0,0,0,0,0,0,0,0,0,0,0,0,0,0,0,0,0,0,0,0,0,0,0,0,null,0,0,0,0,0,0,0,0,0,0,0,0,0,0,0,0,0,0,0,0,0,0,0,0,null,0,0,0,0,0,0,0,0,0,0,0,0,0,0,0,0,0,0,0,0,0,0,0,0,null,0,0,0,0,0,0,0,0,0,0,0,0,0,0,0,0,0,0,0,0,0,0,0,0,null,0,0,0,0,0,0,0,0,0,0,0,0,0,0,0,0,0,0,0,0,0,0,0,0,null,0,0,0,0,0,0,0,0,0,0,0,0,0,0,0,0,0,0,0,0,0,0,0,0,null,0,0,0,0,0,0,0,0,0,0,0,0,0,0,0,0,0,0,0,0,0,0,0,0]
[null,{"$f":"IFERROR(VLOOKUP('הזנת אירועים'!C70,סגמנטים!$D$2:$E$3,2,0),0)","v":0},{"$f":"'הזנת אירועים'!B70","v":0},{"$f":"'הזנת אירועים'!D70","v":"00:00:00"},{"$f":"IF('הזנת אירועים'!E70=סגמנטים!$F$2,1,IF('הזנת אירועים'!E70=סגמנטים!$F$3,999,'הזנת אירועים'!E70))","v":0},{"$f":"'הזנת אירועים'!F70","v":0},0,null,0,{"$f":"IF(I$4=D70,1,IF($I$4<D70,0,(IFERROR(VLOOKUP($I$4,סגמנטים!$A$1:$C$997,3)-VLOOKUP(D70,סגמנטים!$A$1:$C$997,3)+1,0))))","v":0},0,0,0,0,0,0,0,0,0,0,0,0,0,0,0,0,0,0,0,0,0,0,null,0,0,0,0,0,0,0,0,0,0,0,0,0,0,0,0,0,0,0,0,0,0,0,0,null,0,0,0,0,0,0,0,0,0,0,0,0,0,0,0,0,0,0,0,0,0,0,0,0,null,0,0,0,0,0,0,0,0,0,0,0,0,0,0,0,0,0,0,0,0,0,0,0,0,null,0,0,0,0,0,0,0,0,0,0,0,0,0,0,0,0,0,0,0,0,0,0,0,0,null,0,0,0,0,0,0,0,0,0,0,0,0,0,0,0,0,0,0,0,0,0,0,0,0,null,0,0,0,0,0,0,0,0,0,0,0,0,0,0,0,0,0,0,0,0,0,0,0,0,null,0,0,0,0,0,0,0,0,0,0,0,0,0,0,0,0,0,0,0,0,0,0,0,0,null,0,0,0,0,0,0,0,0,0,0,0,0,0,0,0,0,0,0,0,0,0,0,0,0,null,0,0,0,0,0,0,0,0,0,0,0,0,0,0,0,0,0,0,0,0,0,0,0,0]
[null,{"$f":"IFERROR(VLOOKUP('הזנת אירועים'!C71,סגמנטים!$D$2:$E$3,2,0),0)","v":0},{"$f":"'הזנת אירועים'!B71","v":0},{"$f":"'הזנת אירועים'!D71","v":"00:00:00"},{"$f":"IF('הזנת אירועים'!E71=סגמנטים!$F$2,1,IF('הזנת אירועים'!E71=סגמנטים!$F$3,999,'הזנת אירועים'!E71))","v":0},{"$f":"'הזנת אירועים'!F71","v":0},0,null,0,{"$f":"IF(I$4=D71,1,IF($I$4<D71,0,(IFERROR(VLOOKUP($I$4,סגמנטים!$A$1:$C$997,3)-VLOOKUP(D71,סגמנטים!$A$1:$C$997,3)+1,0))))","v":0},0,0,0,0,0,0,0,0,0,0,0,0,0,0,0,0,0,0,0,0,0,0,null,0,0,0,0,0,0,0,0,0,0,0,0,0,0,0,0,0,0,0,0,0,0,0,0,null,0,0,0,0,0,0,0,0,0,0,0,0,0,0,0,0,0,0,0,0,0,0,0,0,null,0,0,0,0,0,0,0,0,0,0,0,0,0,0,0,0,0,0,0,0,0,0,0,0,null,0,0,0,0,0,0,0,0,0,0,0,0,0,0,0,0,0,0,0,0,0,0,0,0,null,0,0,0,0,0,0,0,0,0,0,0,0,0,0,0,0,0,0,0,0,0,0,0,0,null,0,0,0,0,0,0,0,0,0,0,0,0,0,0,0,0,0,0,0,0,0,0,0,0,null,0,0,0,0,0,0,0,0,0,0,0,0,0,0,0,0,0,0,0,0,0,0,0,0,null,0,0,0,0,0,0,0,0,0,0,0,0,0,0,0,0,0,0,0,0,0,0,0,0,null,0,0,0,0,0,0,0,0,0,0,0,0,0,0,0,0,0,0,0,0,0,0,0,0]
[null,{"$f":"IFERROR(VLOOKUP('הזנת אירועים'!C72,סגמנטים!$D$2:$E$3,2,0),0)","v":0},{"$f":"'הזנת אירועים'!B72","v":0},{"$f":"'הזנת אירועים'!D72","v":"00:00:00"},{"$f":"IF('הזנת אירועים'!E72=סגמנטים!$F$2,1,IF('הזנת אירועים'!E72=סגמנטים!$F$3,999,'הזנת אירועים'!E72))","v":0},{"$f":"'הזנת אירועים'!F72","v":0},0,null,0,{"$f":"IF(I$4=D72,1,IF($I$4<D72,0,(IFERROR(VLOOKUP($I$4,סגמנטים!$A$1:$C$997,3)-VLOOKUP(D72,סגמנטים!$A$1:$C$997,3)+1,0))))","v":0},0,0,0,0,0,0,0,0,0,0,0,0,0,0,0,0,0,0,0,0,0,0,null,0,0,0,0,0,0,0,0,0,0,0,0,0,0,0,0,0,0,0,0,0,0,0,0,null,0,0,0,0,0,0,0,0,0,0,0,0,0,0,0,0,0,0,0,0,0,0,0,0,null,0,0,0,0,0,0,0,0,0,0,0,0,0,0,0,0,0,0,0,0,0,0,0,0,null,0,0,0,0,0,0,0,0,0,0,0,0,0,0,0,0,0,0,0,0,0,0,0,0,null,0,0,0,0,0,0,0,0,0,0,0,0,0,0,0,0,0,0,0,0,0,0,0,0,null,0,0,0,0,0,0,0,0,0,0,0,0,0,0,0,0,0,0,0,0,0,0,0,0,null,0,0,0,0,0,0,0,0,0,0,0,0,0,0,0,0,0,0,0,0,0,0,0,0,null,0,0,0,0,0,0,0,0,0,0,0,0,0,0,0,0,0,0,0,0,0,0,0,0,null,0,0,0,0,0,0,0,0,0,0,0,0,0,0,0,0,0,0,0,0,0,0,0,0]
[null,{"$f":"IFERROR(VLOOKUP('הזנת אירועים'!C73,סגמנטים!$D$2:$E$3,2,0),0)","v":0},{"$f":"'הזנת אירועים'!B73","v":0},{"$f":"'הזנת אירועים'!D73","v":"00:00:00"},{"$f":"IF('הזנת אירועים'!E73=סגמנטים!$F$2,1,IF('הזנת אירועים'!E73=סגמנטים!$F$3,999,'הזנת אירועים'!E73))","v":0},{"$f":"'הזנת אירועים'!F73","v":0},0,null,0,{"$f":"IF(I$4=D73,1,IF($I$4<D73,0,(IFERROR(VLOOKUP($I$4,סגמנטים!$A$1:$C$997,3)-VLOOKUP(D73,סגמנטים!$A$1:$C$997,3)+1,0))))","v":0},0,0,{"$f":"IF(OR(N73=0,N73=$E73+1),0,$F73*$B73)","v":0},0,{"$f":"IF(OR(P73=0,P73=$E73+1),0,$F73*$B73)","v":0},0,{"$f":"IF(OR(R73=0,R73=$E73+1),0,$F73*$B73)","v":0},0,{"$f":"IF(OR(T73=0,T73=$E73+1),0,$F73*$B73)","v":0},0,{"$f":"IF(OR(V73=0,V73=$E73+1),0,$F73*$B73)","v":0},0,{"$f":"IF(OR(X73=0,X73=$E73+1),0,$F73*$B73)","v":0},0,{"$f":"IF(OR(Z73=0,Z73=$E73+1),0,$F73*$B73)","v":0},0,{"$f":"IF(OR(AB73=0,AB73=$E73+1),0,$F73*$B73)","v":0},0,{"$f":"IF(OR(AD73=0,AD73=$E73+1),0,$F73*$B73)","v":0},0,{"$f":"IF(OR(AF73=0,AF73=$E73+1),0,$F73*$B73)","v":0},0,null,{"$f":"IF(OR(AI73=0,AI73=$E73+1),0,$F73*$B73)","v":0},0,{"$f":"IF(OR(AK73=0,AK73=$E73+1),0,$F73*$B73)","v":0},0,{"$f":"IF(OR(AM73=0,AM73=$E73+1),0,$F73*$B73)","v":0},0,{"$f":"IF(OR(AO73=0,AO73=$E73+1),0,$F73*$B73)","v":0},0,{"$f":"IF(OR(AQ73=0,AQ73=$E73+1),0,$F73*$B73)","v":0},0,{"$f":"IF(OR(AS73=0,AS73=$E73+1),0,$F73*$B73)","v":0},0,{"$f":"IF(OR(AU73=0,AU73=$E73+1),0,$F73*$B73)","v":0},0,{"$f":"IF(OR(AW73=0,AW73=$E73+1),0,$F73*$B73)","v":0},0,{"$f":"IF(OR(AY73=0,AY73=$E73+1),0,$F73*$B73)","v":0},0,{"$f":"IF(OR(BA73=0,BA73=$E73+1),0,$F73*$B73)","v":0},0,{"$f":"IF(OR(BC73=0,BC73=$E73+1),0,$F73*$B73)","v":0},0,{"$f":"IF(OR(BE73=0,BE73=$E73+1),0,$F73*$B73)","v":0},0,null,{"$f":"IF(OR(BH73=0,BH73=$E73+1),0,$F73*$B73)","v":0},0,{"$f":"IF(OR(BJ73=0,BJ73=$E73+1),0,$F73*$B73)","v":0},0,{"$f":"IF(OR(BL73=0,BL73=$E73+1),0,$F73*$B73)","v":0},0,{"$f":"IF(OR(BN73=0,BN73=$E73+1),0,$F73*$B73)","v":0},0,{"$f":"IF(OR(BP73=0,BP73=$E73+1),0,$F73*$B73)","v":0},0,{"$f":"IF(OR(BR73=0,BR73=$E73+1),0,$F73*$B73)","v":0},0,{"$f":"IF(OR(BT73=0,BT73=$E73+1),0,$F73*$B73)","v":0},0,{"$f":"IF(OR(BV73=0,BV73=$E73+1),0,$F73*$B73)","v":0},0,{"$f":"IF(OR(BX73=0,BX73=$E73+1),0,$F73*$B73)","v":0},0,{"$f":"IF(OR(BZ73=0,BZ73=$E73+1),0,$F73*$B73)","v":0},0,{"$f":"IF(OR(CB73=0,CB73=$E73+1),0,$F73*$B73)","v":0},0,{"$f":"IF(OR(CD73=0,CD73=$E73+1),0,$F73*$B73)","v":0},0,null,{"$f":"IF(OR(CG73=0,CG73=$E73+1),0,$F73*$B73)","v":0},{"$f":"IF($CF$4=$D73,1,IF(CD73=0,0,IF(CD73=$E73+1,CD73,CD73+1)))","v":0},{"$f":"IF(OR(CI73=0,CI73=$E73+1),0,$F73*$B73)","v":0},{"$f":"IF($CH$4=$D73,1,IF(CG73=0,0,IF(CG73=$E73+1,CG73,CG73+1)))","v":0},{"$f":"IF(OR(CK73=0,CK73=$E73+1),0,$F73*$B73)","v":0},{"$f":"IF($CJ$4=$D73,1,IF(CI73=0,0,IF(CI73=$E73+1,CI73,CI73+1)))","v":0},{"$f":"IF(OR(CM73=0,CM73=$E73+1),0,$F73*$B73)","v":0},{"$f":"IF($CL$4=$D73,1,IF(CK73=0,0,IF(CK73=$E73+1,CK73,CK73+1)))","v":0},{"$f":"IF(OR(CO73=0,CO73=$E73+1),0,$F73*$B73)","v":0},{"$f":"IF($CN$4=$D73,1,IF(CM73=0,0,IF(CM73=$E73+1,CM73,CM73+1)))","v":0},{"$f":"IF(OR(CQ73=0,CQ73=$E73+1),0,$F73*$B73)","v":0},{"$f":"IF($CP$4=$D73,1,IF(CO73=0,0,IF(CO73=$E73+1,CO73,CO73+1)))","v":0},{"$f":"IF(OR(CS73=0,CS73=$E73+1),0,$F73*$B73)","v":0},{"$f":"IF($CR$4=$D73,1,IF(CQ73=0,0,IF(CQ73=$E73+1,CQ73,CQ73+1)))","v":0},{"$f":"IF(OR(CU73=0,CU73=$E73+1),0,$F73*$B73)","v":0},{"$f":"IF($CT$4=$D73,1,IF(CS73=0,0,IF(CS73=$E73+1,CS73,CS73+1)))","v":0},{"$f":"IF(OR(CW73=0,CW73=$E73+1),0,$F73*$B73)","v":0},{"$f":"IF($CV$4=$D73,1,IF(CU73=0,0,IF(CU73=$E73+1,CU73,CU73+1)))","v":0},{"$f":"IF(OR(CY73=0,CY73=$E73+1),0,$F73*$B73)","v":0},{"$f":"IF($CX$4=$D73,1,IF(CW73=0,0,IF(CW73=$E73+1,CW73,CW73+1)))","v":0},{"$f":"IF(OR(DA73=0,DA73=$E73+1),0,$F73*$B73)","v":0},{"$f":"IF($CZ$4=$D73,1,IF(CY73=0,0,IF(CY73=$E73+1,CY73,CY73+1)))","v":0},{"$f":"IF(OR(DC73=0,DC73=$E73+1),0,$F73*$B73)","v":0},{"$f":"IF($DB$4=$D73,1,IF(DA73=0,0,IF(DA73=$E73+1,DA73,DA73+1)))","v":0},null,{"$f":"IF(OR(DF73=0,DF73=$E73+1),0,$F73*$B73)","v":0},{"$f":"IF($DE$4=$D73,1,IF(DC73=0,0,IF(DC73=$E73+1,DC73,DC73+1)))","v":0},{"$f":"IF(OR(DH73=0,DH73=$E73+1),0,$F73*$B73)","v":0},{"$f":"IF($DG$4=$D73,1,IF(DF73=0,0,IF(DF73=$E73+1,DF73,DF73+1)))","v":0},{"$f":"IF(OR(DJ73=0,DJ73=$E73+1),0,$F73*$B73)","v":0},{"$f":"IF($DI$4=$D73,1,IF(DH73=0,0,IF(DH73=$E73+1,DH73,DH73+1)))","v":0},{"$f":"IF(OR(DL73=0,DL73=$E73+1),0,$F73*$B73)","v":0},{"$f":"IF($DK$4=$D73,1,IF(DJ73=0,0,IF(DJ73=$E73+1,DJ73,DJ73+1)))","v":0},{"$f":"IF(OR(DN73=0,DN73=$E73+1),0,$F73*$B73)","v":0},{"$f":"IF($DM$4=$D73,1,IF(DL73=0,0,IF(DL73=$E73+1,DL73,DL73+1)))","v":0},{"$f":"IF(OR(DP73=0,DP73=$E73+1),0,$F73*$B73)","v":0},{"$f":"IF($DO$4=$D73,1,IF(DN73=0,0,IF(DN73=$E73+1,DN73,DN73+1)))","v":0},{"$f":"IF(OR(DR73=0,DR73=$E73+1),0,$F73*$B73)","v":0},{"$f":"IF($DQ$4=$D73,1,IF(DP73=0,0,IF(DP73=$E73+1,DP73,DP73+1)))","v":0},{"$f":"IF(OR(DT73=0,DT73=$E73+1),0,$F73*$B73)","v":0},{"$f":"IF($DS$4=$D73,1,IF(DR73=0,0,IF(DR73=$E73+1,DR73,DR73+1)))","v":0},{"$f":"IF(OR(DV73=0,DV73=$E73+1),0,$F73*$B73)","v":0},{"$f":"IF($DU$4=$D73,1,IF(DT73=0,0,IF(DT73=$E73+1,DT73,DT73+1)))","v":0},{"$f":"IF(OR(DX73=0,DX73=$E73+1),0,$F73*$B73)","v":0},{"$f":"IF($DW$4=$D73,1,IF(DV73=0,0,IF(DV73=$E73+1,DV73,DV73+1)))","v":0},{"$f":"IF(OR(DZ73=0,DZ73=$E73+1),0,$F73*$B73)","v":0},{"$f":"IF($DY$4=$D73,1,IF(DX73=0,0,IF(DX73=$E73+1,DX73,DX73+1)))","v":0},{"$f":"IF(OR(EB73=0,EB73=$E73+1),0,$F73*$B73)","v":0},{"$f":"IF($EA$4=$D73,1,IF(DZ73=0,0,IF(DZ73=$E73+1,DZ73,DZ73+1)))","v":0},null,{"$f":"IF(OR(EE73=0,EE73=$E73+1),0,$F73*$B73)","v":0},0,{"$f":"IF(OR(EG73=0,EG73=$E73+1),0,$F73*$B73)","v":0},0,{"$f":"IF(OR(EI73=0,EI73=$E73+1),0,$F73*$B73)","v":0},0,{"$f":"IF(OR(EK73=0,EK73=$E73+1),0,$F73*$B73)","v":0},0,{"$f":"IF(OR(EM73=0,EM73=$E73+1),0,$F73*$B73)","v":0},0,{"$f":"IF(OR(EO73=0,EO73=$E73+1),0,$F73*$B73)","v":0},0,{"$f":"IF(OR(EQ73=0,EQ73=$E73+1),0,$F73*$B73)","v":0},0,{"$f":"IF(OR(ES73=0,ES73=$E73+1),0,$F73*$B73)","v":0},0,{"$f":"IF(OR(EU73=0,EU73=$E73+1),0,$F73*$B73)","v":0},0,{"$f":"IF(OR(EW73=0,EW73=$E73+1),0,$F73*$B73)","v":0},0,{"$f":"IF(OR(EY73=0,EY73=$E73+1),0,$F73*$B73)","v":0},0,{"$f":"IF(OR(FA73=0,FA73=$E73+1),0,$F73*$B73)","v":0},0,null,{"$f":"IF(OR(FD73=0,FD73=$E73+1),0,$F73*$B73)","v":0},0,{"$f":"IF(OR(FF73=0,FF73=$E73+1),0,$F73*$B73)","v":0},0,{"$f":"IF(OR(FH73=0,FH73=$E73+1),0,$F73*$B73)","v":0},0,{"$f":"IF(OR(FJ73=0,FJ73=$E73+1),0,$F73*$B73)","v":0},0,{"$f":"IF(OR(FL73=0,FL73=$E73+1),0,$F73*$B73)","v":0},0,{"$f":"IF(OR(FN73=0,FN73=$E73+1),0,$F73*$B73)","v":0},0,{"$f":"IF(OR(FP73=0,FP73=$E73+1),0,$F73*$B73)","v":0},0,{"$f":"IF(OR(FR73=0,FR73=$E73+1),0,$F73*$B73)","v":0},0,{"$f":"IF(OR(FT73=0,FT73=$E73+1),0,$F73*$B73)","v":0},0,{"$f":"IF(OR(FV73=0,FV73=$E73+1),0,$F73*$B73)","v":0},0,{"$f":"IF(OR(FX73=0,FX73=$E73+1),0,$F73*$B73)","v":0},0,{"$f":"IF(OR(FZ73=0,FZ73=$E73+1),0,$F73*$B73)","v":0},0,null,{"$f":"IF(OR(GC73=0,GC73=$E73+1),0,$F73*$B73)","v":0},0,{"$f":"IF(OR(GE73=0,GE73=$E73+1),0,$F73*$B73)","v":0},0,{"$f":"IF(OR(GG73=0,GG73=$E73+1),0,$F73*$B73)","v":0},0,{"$f":"IF(OR(GI73=0,GI73=$E73+1),0,$F73*$B73)","v":0},0,{"$f":"IF(OR(GK73=0,GK73=$E73+1),0,$F73*$B73)","v":0},0,{"$f":"IF(OR(GM73=0,GM73=$E73+1),0,$F73*$B73)","v":0},0,{"$f":"IF(OR(GO73=0,GO73=$E73+1),0,$F73*$B73)","v":0},0,{"$f":"IF(OR(GQ73=0,GQ73=$E73+1),0,$F73*$B73)","v":0},0,{"$f":"IF(OR(GS73=0,GS73=$E73+1),0,$F73*$B73)","v":0},0,{"$f":"IF(OR(GU73=0,GU73=$E73+1),0,$F73*$B73)","v":0},0,{"$f":"IF(OR(GW73=0,GW73=$E73+1),0,$F73*$B73)","v":0},0,{"$f":"IF(OR(GY73=0,GY73=$E73+1),0,$F73*$B73)","v":0},0,null,{"$f":"IF(OR(HB73=0,HB73=$E73+1),0,$F73*$B73)","v":0},0,{"$f":"IF(OR(HD73=0,HD73=$E73+1),0,$F73*$B73)","v":0},0,{"$f":"IF(OR(HF73=0,HF73=$E73+1),0,$F73*$B73)","v":0},0,{"$f":"IF(OR(HH73=0,HH73=$E73+1),0,$F73*$B73)","v":0},0,{"$f":"IF(OR(HJ73=0,HJ73=$E73+1),0,$F73*$B73)","v":0},0,{"$f":"IF(OR(HL73=0,HL73=$E73+1),0,$F73*$B73)","v":0},0,{"$f":"IF(OR(HN73=0,HN73=$E73+1),0,$F73*$B73)","v":0},0,{"$f":"IF(OR(HP73=0,HP73=$E73+1),0,$F73*$B73)","v":0},0,{"$f":"IF(OR(HR73=0,HR73=$E73+1),0,$F73*$B73)","v":0},0,{"$f":"IF(OR(HT73=0,HT73=$E73+1),0,$F73*$B73)","v":0},0,{"$f":"IF(OR(HV73=0,HV73=$E73+1),0,$F73*$B73)","v":0},0,{"$f":"IF(OR(HX73=0,HX73=$E73+1),0,$F73*$B73)","v":0},0,null,{"$f":"IF(OR(IA73=0,IA73=$E73+1),0,$F73*$B73)","v":0},0,{"$f":"IF(OR(IC73=0,IC73=$E73+1),0,$F73*$B73)","v":0},0,{"$f":"IF(OR(IE73=0,IE73=$E73+1),0,$F73*$B73)","v":0},0,{"$f":"IF(OR(IG73=0,IG73=$E73+1),0,$F73*$B73)","v":0},0,{"$f":"IF(OR(II73=0,II73=$E73+1),0,$F73*$B73)","v":0},0,{"$f":"IF(OR(IK73=0,IK73=$E73+1),0,$F73*$B73)","v":0},0,{"$f":"IF(OR(IM73=0,IM73=$E73+1),0,$F73*$B73)","v":0},0,{"$f":"IF(OR(IO73=0,IO73=$E73+1),0,$F73*$B73)","v":0},0,{"$f":"IF(OR(IQ73=0,IQ73=$E73+1),0,$F73*$B73)","v":0},0,{"$f":"IF(OR(IS73=0,IS73=$E73+1),0,$F73*$B73)","v":0},0,{"$f":"IF(OR(IU73=0,IU73=$E73+1),0,$F73*$B73)","v":0},0,{"$f":"IF(OR(IW73=0,IW73=$E73+1),0,$F73*$B73)","v":0},0]
[null,{"$f":"IFERROR(VLOOKUP('הזנת אירועים'!C74,סגמנטים!$D$2:$E$3,2,0),0)","v":0},{"$f":"'הזנת אירועים'!B74","v":0},{"$f":"'הזנת אירועים'!D74","v":"00:00:00"},{"$f":"IF('הזנת אירועים'!E74=סגמנטים!$F$2,1,IF('הזנת אירועים'!E74=סגמנטים!$F$3,999,'הזנת אירועים'!E74))","v":0},{"$f":"'הזנת אירועים'!F74","v":0},{"$f":"IF(E74<999,F74*E74,\"\")","v":0},null,{"$f":"IF(OR(J74=0,J74=E74+1),0,F74*$B74)","v":0},{"$f":"IF(I$4=D74,1,IF($I$4<D74,0,(IFERROR(VLOOKUP($I$4,סגמנטים!$A$1:$C$997,3)-VLOOKUP(D74,סגמנטים!$A$1:$C$997,3)+1,0))))","v":0},{"$f":"IF(OR(L74=0,L74=E74+1),0,F74*$B74)","v":0},{"$f":"IF($K$4=D74,1,IF(J74=0,0,IF(J74=E74+1,J74,J74+1)))","v":0},0,{"$f":"IF($M$4=D74,1,IF(L74=0,0,IF(L74=E74+1,L74,L74+1)))","v":0},0,{"$f":"IF($O$4=$D74,1,IF(N74=0,0,IF(N74=$E74+1,N74,N74+1)))","v":0},0,{"$f":"IF($Q$4=$D74,1,IF(P74=0,0,IF(P74=$E74+1,P74,P74+1)))","v":0},0,{"$f":"IF($S$4=$D74,1,IF(R74=0,0,IF(R74=$E74+1,R74,R74+1)))","v":0},0,{"$f":"IF($U$4=$D74,1,IF(T74=0,0,IF(T74=$E74+1,T74,T74+1)))","v":0},0,{"$f":"IF($W$4=$D74,1,IF(V74=0,0,IF(V74=$E74+1,V74,V74+1)))","v":0},0,{"$f":"IF($Y$4=$D74,1,IF(X74=0,0,IF(X74=$E74+1,X74,X74+1)))","v":0},0,{"$f":"IF($AA$4=$D74,1,IF(Z74=0,0,IF(Z74=$E74+1,Z74,Z74+1)))","v":0},0,{"$f":"IF($AC$4=$D74,1,IF(AB74=0,0,IF(AB74=$E74+1,AB74,AB74+1)))","v":0},0,{"$f":"IF($AE$4=$D74,1,IF(AD74=0,0,IF(AD74=$E74+1,AD74,AD74+1)))","v":0},null,0,{"$f":"IF($AH$4=D74,1,IF(AF74=0,0,IF(AF74=E74+1,AF74,AF74+1)))","v":0},0,{"$f":"IF($AJ$4=$D74,1,IF(AI74=0,0,IF(AI74=$E74+1,AI74,AI74+1)))","v":0},0,{"$f":"IF($AL$4=$D74,1,IF(AK74=0,0,IF(AK74=$E74+1,AK74,AK74+1)))","v":0},0,{"$f":"IF($AN$4=$D74,1,IF(AM74=0,0,IF(AM74=$E74+1,AM74,AM74+1)))","v":0},0,{"$f":"IF($AP$4=$D74,1,IF(AO74=0,0,IF(AO74=$E74+1,AO74,AO74+1)))","v":0},0,{"$f":"IF($AR$4=$D74,1,IF(AQ74=0,0,IF(AQ74=$E74+1,AQ74,AQ74+1)))","v":0},0,{"$f":"IF($AT$4=$D74,1,IF(AS74=0,0,IF(AS74=$E74+1,AS74,AS74+1)))","v":0},0,{"$f":"IF($AV$4=$D74,1,IF(AU74=0,0,IF(AU74=$E74+1,AU74,AU74+1)))","v":0},0,{"$f":"IF($AX$4=$D74,1,IF(AW74=0,0,IF(AW74=$E74+1,AW74,AW74+1)))","v":0},0,{"$f":"IF($AZ$4=$D74,1,IF(AY74=0,0,IF(AY74=$E74+1,AY74,AY74+1)))","v":0},0,{"$f":"IF($BB$4=$D74,1,IF(BA74=0,0,IF(BA74=$E74+1,BA74,BA74+1)))","v":0},0,{"$f":"IF($BD$4=$D74,1,IF(BC74=0,0,IF(BC74=$E74+1,BC74,BC74+1)))","v":0},null,0,{"$f":"IF($BG$4=$D74,1,IF(BE74=0,0,IF(BE74=$E74+1,BE74,BE74+1)))","v":0},0,{"$f":"IF($BI$4=$D74,1,IF(BH74=0,0,IF(BH74=$E74+1,BH74,BH74+1)))","v":0},0,{"$f":"IF($BK$4=$D74,1,IF(BJ74=0,0,IF(BJ74=$E74+1,BJ74,BJ74+1)))","v":0},0,{"$f":"IF($BM$4=$D74,1,IF(BL74=0,0,IF(BL74=$E74+1,BL74,BL74+1)))","v":0},0,{"$f":"IF($BO$4=$D74,1,IF(BN74=0,0,IF(BN74=$E74+1,BN74,BN74+1)))","v":0},0,{"$f":"IF($BQ$4=$D74,1,IF(BP74=0,0,IF(BP74=$E74+1,BP74,BP74+1)))","v":0},0,{"$f":"IF($BS$4=$D74,1,IF(BR74=0,0,IF(BR74=$E74+1,BR74,BR74+1)))","v":0},0,{"$f":"IF($BU$4=$D74,1,IF(BT74=0,0,IF(BT74=$E74+1,BT74,BT74+1)))","v":0},0,{"$f":"IF($BW$4=$D74,1,IF(BV74=0,0,IF(BV74=$E74+1,BV74,BV74+1)))","v":0},0,{"$f":"IF($BY$4=$D74,1,IF(BX74=0,0,IF(BX74=$E74+1,BX74,BX74+1)))","v":0},0,{"$f":"IF($CA$4=$D74,1,IF(BZ74=0,0,IF(BZ74=$E74+1,BZ74,BZ74+1)))","v":0},0,{"$f":"IF($CC$4=$D74,1,IF(CB74=0,0,IF(CB74=$E74+1,CB74,CB74+1)))","v":0},null,0,0,0,0,0,0,0,0,0,0,0,0,0,0,0,0,0,0,0,0,0,0,0,0,null,0,0,0,0,0,0,0,0,0,0,0,0,0,0,0,0,0,0,0,0,0,0,0,0,null,0,{"$f":"IF(ED$4=$D74,1,IF(EB74=0,0,IF(EB74=$E74+1,EB74,EB74+1)))","v":0},0,{"$f":"IF(EF$4=$D74,1,IF(EE74=0,0,IF(EE74=$E74+1,EE74,EE74+1)))","v":0},0,{"$f":"IF(EH$4=$D74,1,IF(EG74=0,0,IF(EG74=$E74+1,EG74,EG74+1)))","v":0},0,{"$f":"IF(EJ$4=$D74,1,IF(EI74=0,0,IF(EI74=$E74+1,EI74,EI74+1)))","v":0},0,{"$f":"IF(EL$4=$D74,1,IF(EK74=0,0,IF(EK74=$E74+1,EK74,EK74+1)))","v":0},0,{"$f":"IF(EN$4=$D74,1,IF(EM74=0,0,IF(EM74=$E74+1,EM74,EM74+1)))","v":0},0,{"$f":"IF(EP$4=$D74,1,IF(EO74=0,0,IF(EO74=$E74+1,EO74,EO74+1)))","v":0},0,{"$f":"IF(ER$4=$D74,1,IF(EQ74=0,0,IF(EQ74=$E74+1,EQ74,EQ74+1)))","v":0},0,{"$f":"IF(ET$4=$D74,1,IF(ES74=0,0,IF(ES74=$E74+1,ES74,ES74+1)))","v":0},0,{"$f":"IF(EV$4=$D74,1,IF(EU74=0,0,IF(EU74=$E74+1,EU74,EU74+1)))","v":0},0,{"$f":"IF(EX$4=$D74,1,IF(EW74=0,0,IF(EW74=$E74+1,EW74,EW74+1)))","v":0},0,{"$f":"IF(EZ$4=$D74,1,IF(EY74=0,0,IF(EY74=$E74+1,EY74,EY74+1)))","v":0},null,0,{"$f":"IF(FC$4=$D74,1,IF(FA74=0,0,IF(FA74=$E74+1,FA74,FA74+1)))","v":0},0,{"$f":"IF(FE$4=$D74,1,IF(FD74=0,0,IF(FD74=$E74+1,FD74,FD74+1)))","v":0},0,{"$f":"IF(FG$4=$D74,1,IF(FF74=0,0,IF(FF74=$E74+1,FF74,FF74+1)))","v":0},0,{"$f":"IF(FI$4=$D74,1,IF(FH74=0,0,IF(FH74=$E74+1,FH74,FH74+1)))","v":0},0,{"$f":"IF(FK$4=$D74,1,IF(FJ74=0,0,IF(FJ74=$E74+1,FJ74,FJ74+1)))","v":0},0,{"$f":"IF(FM$4=$D74,1,IF(FL74=0,0,IF(FL74=$E74+1,FL74,FL74+1)))","v":0},0,{"$f":"IF(FO$4=$D74,1,IF(FN74=0,0,IF(FN74=$E74+1,FN74,FN74+1)))","v":0},0,{"$f":"IF(FQ$4=$D74,1,IF(FP74=0,0,IF(FP74=$E74+1,FP74,FP74+1)))","v":0},0,{"$f":"IF(FS$4=$D74,1,IF(FR74=0,0,IF(FR74=$E74+1,FR74,FR74+1)))","v":0},0,{"$f":"IF(FU$4=$D74,1,IF(FT74=0,0,IF(FT74=$E74+1,FT74,FT74+1)))","v":0},0,{"$f":"IF(FW$4=$D74,1,IF(FV74=0,0,IF(FV74=$E74+1,FV74,FV74+1)))","v":0},0,{"$f":"IF(FY$4=$D74,1,IF(FX74=0,0,IF(FX74=$E74+1,FX74,FX74+1)))","v":0},null,0,{"$f":"IF(GB$4=$D74,1,IF(FZ74=0,0,IF(FZ74=$E74+1,FZ74,FZ74+1)))","v":0},0,{"$f":"IF(GD$4=$D74,1,IF(GC74=0,0,IF(GC74=$E74+1,GC74,GC74+1)))","v":0},0,{"$f":"IF(GF$4=$D74,1,IF(GE74=0,0,IF(GE74=$E74+1,GE74,GE74+1)))","v":0},0,{"$f":"IF(GH$4=$D74,1,IF(GG74=0,0,IF(GG74=$E74+1,GG74,GG74+1)))","v":0},0,{"$f":"IF(GJ$4=$D74,1,IF(GI74=0,0,IF(GI74=$E74+1,GI74,GI74+1)))","v":0},0,{"$f":"IF(GL$4=$D74,1,IF(GK74=0,0,IF(GK74=$E74+1,GK74,GK74+1)))","v":0},0,{"$f":"IF(GN$4=$D74,1,IF(GM74=0,0,IF(GM74=$E74+1,GM74,GM74+1)))","v":0},0,{"$f":"IF(GP$4=$D74,1,IF(GO74=0,0,IF(GO74=$E74+1,GO74,GO74+1)))","v":0},0,{"$f":"IF(GR$4=$D74,1,IF(GQ74=0,0,IF(GQ74=$E74+1,GQ74,GQ74+1)))","v":0},0,{"$f":"IF(GT$4=$D74,1,IF(GS74=0,0,IF(GS74=$E74+1,GS74,GS74+1)))","v":0},0,{"$f":"IF(GV$4=$D74,1,IF(GU74=0,0,IF(GU74=$E74+1,GU74,GU74+1)))","v":0},0,{"$f":"IF(GX$4=$D74,1,IF(GW74=0,0,IF(GW74=$E74+1,GW74,GW74+1)))","v":0},null,0,{"$f":"IF(HA$4=$D74,1,IF(GY74=0,0,IF(GY74=$E74+1,GY74,GY74+1)))","v":0},0,{"$f":"IF(HC$4=$D74,1,IF(HB74=0,0,IF(HB74=$E74+1,HB74,HB74+1)))","v":0},0,{"$f":"IF(HE$4=$D74,1,IF(HD74=0,0,IF(HD74=$E74+1,HD74,HD74+1)))","v":0},0,{"$f":"IF(HG$4=$D74,1,IF(HF74=0,0,IF(HF74=$E74+1,HF74,HF74+1)))","v":0},0,{"$f":"IF(HI$4=$D74,1,IF(HH74=0,0,IF(HH74=$E74+1,HH74,HH74+1)))","v":0},0,{"$f":"IF(HK$4=$D74,1,IF(HJ74=0,0,IF(HJ74=$E74+1,HJ74,HJ74+1)))","v":0},0,{"$f":"IF(HM$4=$D74,1,IF(HL74=0,0,IF(HL74=$E74+1,HL74,HL74+1)))","v":0},0,{"$f":"IF(HO$4=$D74,1,IF(HN74=0,0,IF(HN74=$E74+1,HN74,HN74+1)))","v":0},0,{"$f":"IF(HQ$4=$D74,1,IF(HP74=0,0,IF(HP74=$E74+1,HP74,HP74+1)))","v":0},0,{"$f":"IF(HS$4=$D74,1,IF(HR74=0,0,IF(HR74=$E74+1,HR74,HR74+1)))","v":0},0,{"$f":"IF(HU$4=$D74,1,IF(HT74=0,0,IF(HT74=$E74+1,HT74,HT74+1)))","v":0},0,{"$f":"IF(HW$4=$D74,1,IF(HV74=0,0,IF(HV74=$E74+1,HV74,HV74+1)))","v":0},null,0,{"$f":"IF(HZ$4=$D74,1,IF(HX74=0,0,IF(HX74=$E74+1,HX74,HX74+1)))","v":0},0,{"$f":"IF(IB$4=$D74,1,IF(IA74=0,0,IF(IA74=$E74+1,IA74,IA74+1)))","v":0},0,{"$f":"IF(ID$4=$D74,1,IF(IC74=0,0,IF(IC74=$E74+1,IC74,IC74+1)))","v":0},0,{"$f":"IF(IF$4=$D74,1,IF(IE74=0,0,IF(IE74=$E74+1,IE74,IE74+1)))","v":0},0,{"$f":"IF(IH$4=$D74,1,IF(IG74=0,0,IF(IG74=$E74+1,IG74,IG74+1)))","v":0},0,{"$f":"IF(IJ$4=$D74,1,IF(II74=0,0,IF(II74=$E74+1,II74,II74+1)))","v":0},0,{"$f":"IF(IL$4=$D74,1,IF(IK74=0,0,IF(IK74=$E74+1,IK74,IK74+1)))","v":0},0,{"$f":"IF(IN$4=$D74,1,IF(IM74=0,0,IF(IM74=$E74+1,IM74,IM74+1)))","v":0},0,{"$f":"IF(IP$4=$D74,1,IF(IO74=0,0,IF(IO74=$E74+1,IO74,IO74+1)))","v":0},0,{"$f":"IF(IR$4=$D74,1,IF(IQ74=0,0,IF(IQ74=$E74+1,IQ74,IQ74+1)))","v":0},0,{"$f":"IF(IT$4=$D74,1,IF(IS74=0,0,IF(IS74=$E74+1,IS74,IS74+1)))","v":0},0,{"$f":"IF(IV$4=$D74,1,IF(IU74=0,0,IF(IU74=$E74+1,IU74,IU74+1)))","v":0}]
[null,{"$f":"IFERROR(VLOOKUP('הזנת אירועים'!C75,סגמנטים!$D$2:$E$3,2,0),0)","v":0},{"$f":"'הזנת אירועים'!B75","v":0},{"$f":"'הזנת אירועים'!D75","v":"00:00:00"},{"$f":"IF('הזנת אירועים'!E75=סגמנטים!$F$2,1,IF('הזנת אירועים'!E75=סגמנטים!$F$3,999,'הזנת אירועים'!E75))","v":0},{"$f":"'הזנת אירועים'!F75","v":0},0,null,0,{"$f":"IF(I$4=D75,1,IF($I$4<D75,0,(IFERROR(VLOOKUP($I$4,סגמנטים!$A$1:$C$997,3)-VLOOKUP(D75,סגמנטים!$A$1:$C$997,3)+1,0))))","v":0},0,0,0,0,0,0,0,0,0,0,0,0,0,0,0,0,0,0,0,0,0,0,null,0,0,0,0,0,0,0,0,0,0,0,0,0,0,0,0,0,0,0,0,0,0,0,0,null,0,0,0,0,0,0,0,0,0,0,0,0,0,0,0,0,0,0,0,0,0,0,0,0,null,0,0,0,0,0,0,0,0,0,0,0,0,0,0,0,0,0,0,0,0,0,0,0,0,null,0,0,0,0,0,0,0,0,0,0,0,0,0,0,0,0,0,0,0,0,0,0,0,0,null,0,0,0,0,0,0,0,0,0,0,0,0,0,0,0,0,0,0,0,0,0,0,0,0,null,0,0,0,0,0,0,0,0,0,0,0,0,0,0,0,0,0,0,0,0,0,0,0,0,null,0,0,0,0,0,0,0,0,0,0,0,0,0,0,0,0,0,0,0,0,0,0,0,0,null,0,0,0,0,0,0,0,0,0,0,0,0,0,0,0,0,0,0,0,0,0,0,0,0,null,0,0,0,0,0,0,0,0,0,0,0,0,0,0,0,0,0,0,0,0,0,0,0,0]
[null,{"$f":"IFERROR(VLOOKUP('הזנת אירועים'!C76,סגמנטים!$D$2:$E$3,2,0),0)","v":0},{"$f":"'הזנת אירועים'!B76","v":0},{"$f":"'הזנת אירועים'!D76","v":"00:00:00"},{"$f":"IF('הזנת אירועים'!E76=סגמנטים!$F$2,1,IF('הזנת אירועים'!E76=סגמנטים!$F$3,999,'הזנת אירועים'!E76))","v":0},{"$f":"'הזנת אירועים'!F76","v":0},0,null,0,{"$f":"IF(I$4=D76,1,IF($I$4<D76,0,(IFERROR(VLOOKUP($I$4,סגמנטים!$A$1:$C$997,3)-VLOOKUP(D76,סגמנטים!$A$1:$C$997,3)+1,0))))","v":0},0,0,0,0,0,0,0,0,0,0,0,0,0,0,0,0,0,0,0,0,0,0,null,0,0,0,0,0,0,0,0,0,0,0,0,0,0,0,0,0,0,0,0,0,0,0,0,null,0,0,0,0,0,0,0,0,0,0,0,0,0,0,0,0,0,0,0,0,0,0,0,0,null,0,0,0,0,0,0,0,0,0,0,0,0,0,0,0,0,0,0,0,0,0,0,0,0,null,0,0,0,0,0,0,0,0,0,0,0,0,0,0,0,0,0,0,0,0,0,0,0,0,null,0,0,0,0,0,0,0,0,0,0,0,0,0,0,0,0,0,0,0,0,0,0,0,0,null,0,0,0,0,0,0,0,0,0,0,0,0,0,0,0,0,0,0,0,0,0,0,0,0,null,0,0,0,0,0,0,0,0,0,0,0,0,0,0,0,0,0,0,0,0,0,0,0,0,null,0,0,0,0,0,0,0,0,0,0,0,0,0,0,0,0,0,0,0,0,0,0,0,0,null,0,0,0,0,0,0,0,0,0,0,0,0,0,0,0,0,0,0,0,0,0,0,0,0]
[null,{"$f":"IFERROR(VLOOKUP('הזנת אירועים'!C77,סגמנטים!$D$2:$E$3,2,0),0)","v":0},{"$f":"'הזנת אירועים'!B77","v":0},{"$f":"'הזנת אירועים'!D77","v":"00:00:00"},{"$f":"IF('הזנת אירועים'!E77=סגמנטים!$F$2,1,IF('הזנת אירועים'!E77=סגמנטים!$F$3,999,'הזנת אירועים'!E77))","v":0},{"$f":"'הזנת אירועים'!F77","v":0},0,null,0,{"$f":"IF(I$4=D77,1,IF($I$4<D77,0,(IFERROR(VLOOKUP($I$4,סגמנטים!$A$1:$C$997,3)-VLOOKUP(D77,סגמנטים!$A$1:$C$997,3)+1,0))))","v":0},0,0,0,0,0,0,0,0,0,0,0,0,0,0,0,0,0,0,0,0,0,0,null,0,0,0,0,0,0,0,0,0,0,0,0,0,0,0,0,0,0,0,0,0,0,0,0,null,0,0,0,0,0,0,0,0,0,0,0,0,0,0,0,0,0,0,0,0,0,0,0,0,null,0,0,0,0,0,0,0,0,0,0,0,0,0,0,0,0,0,0,0,0,0,0,0,0,null,0,0,0,0,0,0,0,0,0,0,0,0,0,0,0,0,0,0,0,0,0,0,0,0,null,0,0,0,0,0,0,0,0,0,0,0,0,0,0,0,0,0,0,0,0,0,0,0,0,null,0,0,0,0,0,0,0,0,0,0,0,0,0,0,0,0,0,0,0,0,0,0,0,0,null,0,0,0,0,0,0,0,0,0,0,0,0,0,0,0,0,0,0,0,0,0,0,0,0,null,0,0,0,0,0,0,0,0,0,0,0,0,0,0,0,0,0,0,0,0,0,0,0,0,null,0,0,0,0,0,0,0,0,0,0,0,0,0,0,0,0,0,0,0,0,0,0,0,0]
[null,{"$f":"IFERROR(VLOOKUP('הזנת אירועים'!C78,סגמנטים!$D$2:$E$3,2,0),0)","v":0},{"$f":"'הזנת אירועים'!B78","v":0},{"$f":"'הזנת אירועים'!D78","v":"00:00:00"},{"$f":"IF('הזנת אירועים'!E78=סגמנטים!$F$2,1,IF('הזנת אירועים'!E78=סגמנטים!$F$3,999,'הזנת אירועים'!E78))","v":0},{"$f":"'הזנת אירועים'!F78","v":0},0,null,0,{"$f":"IF(I$4=D78,1,IF($I$4<D78,0,(IFERROR(VLOOKUP($I$4,סגמנטים!$A$1:$C$997,3)-VLOOKUP(D78,סגמנטים!$A$1:$C$997,3)+1,0))))","v":0},0,0,0,0,0,0,0,0,0,0,0,0,0,0,0,0,0,0,0,0,0,0,null,0,0,0,0,0,0,0,0,0,0,0,0,0,0,0,0,0,0,0,0,0,0,0,0,null,0,0,0,0,0,0,0,0,0,0,0,0,0,0,0,0,0,0,0,0,0,0,0,0,null,0,0,0,0,0,0,0,0,0,0,0,0,0,0,0,0,0,0,0,0,0,0,0,0,null,0,0,0,0,0,0,0,0,0,0,0,0,0,0,0,0,0,0,0,0,0,0,0,0,null,0,0,0,0,0,0,0,0,0,0,0,0,0,0,0,0,0,0,0,0,0,0,0,0,null,0,0,0,0,0,0,0,0,0,0,0,0,0,0,0,0,0,0,0,0,0,0,0,0,null,0,0,0,0,0,0,0,0,0,0,0,0,0,0,0,0,0,0,0,0,0,0,0,0,null,0,0,0,0,0,0,0,0,0,0,0,0,0,0,0,0,0,0,0,0,0,0,0,0,null,0,0,0,0,0,0,0,0,0,0,0,0,0,0,0,0,0,0,0,0,0,0,0,0]
[null,{"$f":"IFERROR(VLOOKUP('הזנת אירועים'!C79,סגמנטים!$D$2:$E$3,2,0),0)","v":0},{"$f":"'הזנת אירועים'!B79","v":0},{"$f":"'הזנת אירועים'!D79","v":"00:00:00"},{"$f":"IF('הזנת אירועים'!E79=סגמנטים!$F$2,1,IF('הזנת אירועים'!E79=סגמנטים!$F$3,999,'הזנת אירועים'!E79))","v":0},{"$f":"'הזנת אירועים'!F79","v":0},0,null,0,{"$f":"IF(I$4=D79,1,IF($I$4<D79,0,(IFERROR(VLOOKUP($I$4,סגמנטים!$A$1:$C$997,3)-VLOOKUP(D79,סגמנטים!$A$1:$C$997,3)+1,0))))","v":0},0,0,0,0,0,0,0,0,0,0,0,0,0,0,0,0,0,0,0,0,0,0,null,0,0,0,0,0,0,0,0,0,0,0,0,0,0,0,0,0,0,0,0,0,0,0,0,null,0,0,0,0,0,0,0,0,0,0,0,0,0,0,0,0,0,0,0,0,0,0,0,0,null,0,0,0,0,0,0,0,0,0,0,0,0,0,0,0,0,0,0,0,0,0,0,0,0,null,0,0,0,0,0,0,0,0,0,0,0,0,0,0,0,0,0,0,0,0,0,0,0,0,null,0,0,0,0,0,0,0,0,0,0,0,0,0,0,0,0,0,0,0,0,0,0,0,0,null,0,0,0,0,0,0,0,0,0,0,0,0,0,0,0,0,0,0,0,0,0,0,0,0,null,0,0,0,0,0,0,0,0,0,0,0,0,0,0,0,0,0,0,0,0,0,0,0,0,null,0,0,0,0,0,0,0,0,0,0,0,0,0,0,0,0,0,0,0,0,0,0,0,0,null,0,0,0,0,0,0,0,0,0,0,0,0,0,0,0,0,0,0,0,0,0,0,0,0]
[null,{"$f":"IFERROR(VLOOKUP('הזנת אירועים'!C80,סגמנטים!$D$2:$E$3,2,0),0)","v":0},{"$f":"'הזנת אירועים'!B80","v":0},{"$f":"'הזנת אירועים'!D80","v":"00:00:00"},{"$f":"IF('הזנת אירועים'!E80=סגמנטים!$F$2,1,IF('הזנת אירועים'!E80=סגמנטים!$F$3,999,'הזנת אירועים'!E80))","v":0},{"$f":"'הזנת אירועים'!F80","v":0},0,null,0,{"$f":"IF(I$4=D80,1,IF($I$4<D80,0,(IFERROR(VLOOKUP($I$4,סגמנטים!$A$1:$C$997,3)-VLOOKUP(D80,סגמנטים!$A$1:$C$997,3)+1,0))))","v":0},0,0,0,0,0,0,0,0,0,0,0,0,0,0,0,0,0,0,0,0,0,0,null,0,0,0,0,0,0,0,0,0,0,0,0,0,0,0,0,0,0,0,0,0,0,0,0,null,0,0,0,0,0,0,0,0,0,0,0,0,0,0,0,0,0,0,0,0,0,0,0,0,null,0,0,0,0,0,0,0,0,0,0,0,0,0,0,0,0,0,0,0,0,0,0,0,0,null,0,0,0,0,0,0,0,0,0,0,0,0,0,0,0,0,0,0,0,0,0,0,0,0,null,0,0,0,0,0,0,0,0,0,0,0,0,0,0,0,0,0,0,0,0,0,0,0,0,null,0,0,0,0,0,0,0,0,0,0,0,0,0,0,0,0,0,0,0,0,0,0,0,0,null,0,0,0,0,0,0,0,0,0,0,0,0,0,0,0,0,0,0,0,0,0,0,0,0,null,0,0,0,0,0,0,0,0,0,0,0,0,0,0,0,0,0,0,0,0,0,0,0,0,null,0,0,0,0,0,0,0,0,0,0,0,0,0,0,0,0,0,0,0,0,0,0,0,0]
[null,{"$f":"IFERROR(VLOOKUP('הזנת אירועים'!C81,סגמנטים!$D$2:$E$3,2,0),0)","v":0},{"$f":"'הזנת אירועים'!B81","v":0},{"$f":"'הזנת אירועים'!D81","v":"00:00:00"},{"$f":"IF('הזנת אירועים'!E81=סגמנטים!$F$2,1,IF('הזנת אירועים'!E81=סגמנטים!$F$3,999,'הזנת אירועים'!E81))","v":0},{"$f":"'הזנת אירועים'!F81","v":0},0,null,0,{"$f":"IF(I$4=D81,1,IF($I$4<D81,0,(IFERROR(VLOOKUP($I$4,סגמנטים!$A$1:$C$997,3)-VLOOKUP(D81,סגמנטים!$A$1:$C$997,3)+1,0))))","v":0},0,0,0,0,0,0,0,0,0,0,0,0,0,0,0,0,0,0,0,0,0,0,null,0,0,0,0,0,0,0,0,0,0,0,0,0,0,0,0,0,0,0,0,0,0,0,0,null,0,0,0,0,0,0,0,0,0,0,0,0,0,0,0,0,0,0,0,0,0,0,0,0,null,0,0,0,0,0,0,0,0,0,0,0,0,0,0,0,0,0,0,0,0,0,0,0,0,null,0,0,0,0,0,0,0,0,0,0,0,0,0,0,0,0,0,0,0,0,0,0,0,0,null,0,0,0,0,0,0,0,0,0,0,0,0,0,0,0,0,0,0,0,0,0,0,0,0,null,0,0,0,0,0,0,0,0,0,0,0,0,0,0,0,0,0,0,0,0,0,0,0,0,null,0,0,0,0,0,0,0,0,0,0,0,0,0,0,0,0,0,0,0,0,0,0,0,0,null,0,0,0,0,0,0,0,0,0,0,0,0,0,0,0,0,0,0,0,0,0,0,0,0,null,0,0,0,0,0,0,0,0,0,0,0,0,0,0,0,0,0,0,0,0,0,0,0,0]
[null,{"$f":"IFERROR(VLOOKUP('הזנת אירועים'!C82,סגמנטים!$D$2:$E$3,2,0),0)","v":0},{"$f":"'הזנת אירועים'!B82","v":0},{"$f":"'הזנת אירועים'!D82","v":"00:00:00"},{"$f":"IF('הזנת אירועים'!E82=סגמנטים!$F$2,1,IF('הזנת אירועים'!E82=סגמנטים!$F$3,999,'הזנת אירועים'!E82))","v":0},{"$f":"'הזנת אירועים'!F82","v":0},0,null,0,{"$f":"IF(I$4=D82,1,IF($I$4<D82,0,(IFERROR(VLOOKUP($I$4,סגמנטים!$A$1:$C$997,3)-VLOOKUP(D82,סגמנטים!$A$1:$C$997,3)+1,0))))","v":0},0,0,0,0,0,0,0,0,0,0,0,0,0,0,0,0,0,0,0,0,0,0,null,0,0,0,0,0,0,0,0,0,0,0,0,0,0,0,0,0,0,0,0,0,0,0,0,null,0,0,0,0,0,0,0,0,0,0,0,0,0,0,0,0,0,0,0,0,0,0,0,0,null,0,0,0,0,0,0,0,0,0,0,0,0,0,0,0,0,0,0,0,0,0,0,0,0,null,0,0,0,0,0,0,0,0,0,0,0,0,0,0,0,0,0,0,0,0,0,0,0,0,null,0,0,0,0,0,0,0,0,0,0,0,0,0,0,0,0,0,0,0,0,0,0,0,0,null,0,0,0,0,0,0,0,0,0,0,0,0,0,0,0,0,0,0,0,0,0,0,0,0,null,0,0,0,0,0,0,0,0,0,0,0,0,0,0,0,0,0,0,0,0,0,0,0,0,null,0,0,0,0,0,0,0,0,0,0,0,0,0,0,0,0,0,0,0,0,0,0,0,0,null,0,0,0,0,0,0,0,0,0,0,0,0,0,0,0,0,0,0,0,0,0,0,0,0]
[null,{"$f":"IFERROR(VLOOKUP('הזנת אירועים'!C83,סגמנטים!$D$2:$E$3,2,0),0)","v":0},{"$f":"'הזנת אירועים'!B83","v":0},{"$f":"'הזנת אירועים'!D83","v":"00:00:00"},{"$f":"IF('הזנת אירועים'!E83=סגמנטים!$F$2,1,IF('הזנת אירועים'!E83=סגמנטים!$F$3,999,'הזנת אירועים'!E83))","v":0},{"$f":"'הזנת אירועים'!F83","v":0},0,null,0,{"$f":"IF(I$4=D83,1,IF($I$4<D83,0,(IFERROR(VLOOKUP($I$4,סגמנטים!$A$1:$C$997,3)-VLOOKUP(D83,סגמנטים!$A$1:$C$997,3)+1,0))))","v":0},0,0,0,0,0,0,0,0,0,0,0,0,0,0,0,0,0,0,0,0,0,0,null,0,0,0,0,0,0,0,0,0,0,0,0,0,0,0,0,0,0,0,0,0,0,0,0,null,0,0,0,0,0,0,0,0,0,0,0,0,0,0,0,0,0,0,0,0,0,0,0,0,null,0,0,0,0,0,0,0,0,0,0,0,0,0,0,0,0,0,0,0,0,0,0,0,0,null,0,0,0,0,0,0,0,0,0,0,0,0,0,0,0,0,0,0,0,0,0,0,0,0,null,0,0,0,0,0,0,0,0,0,0,0,0,0,0,0,0,0,0,0,0,0,0,0,0,null,0,0,0,0,0,0,0,0,0,0,0,0,0,0,0,0,0,0,0,0,0,0,0,0,null,0,0,0,0,0,0,0,0,0,0,0,0,0,0,0,0,0,0,0,0,0,0,0,0,null,0,0,0,0,0,0,0,0,0,0,0,0,0,0,0,0,0,0,0,0,0,0,0,0,null,0,0,0,0,0,0,0,0,0,0,0,0,0,0,0,0,0,0,0,0,0,0,0,0]
[null,{"$f":"IFERROR(VLOOKUP('הזנת אירועים'!C84,סגמנטים!$D$2:$E$3,2,0),0)","v":0},{"$f":"'הזנת אירועים'!B84","v":0},{"$f":"'הזנת אירועים'!D84","v":"00:00:00"},{"$f":"IF('הזנת אירועים'!E84=סגמנטים!$F$2,1,IF('הזנת אירועים'!E84=סגמנטים!$F$3,999,'הזנת אירועים'!E84))","v":0},{"$f":"'הזנת אירועים'!F84","v":0},0,null,0,{"$f":"IF(I$4=D84,1,IF($I$4<D84,0,(IFERROR(VLOOKUP($I$4,סגמנטים!$A$1:$C$997,3)-VLOOKUP(D84,סגמנטים!$A$1:$C$997,3)+1,0))))","v":0},0,0,0,0,0,0,0,0,0,0,0,0,0,0,0,0,0,0,0,0,0,0,null,0,0,0,0,0,0,0,0,0,0,0,0,0,0,0,0,0,0,0,0,0,0,0,0,null,0,0,0,0,0,0,0,0,0,0,0,0,0,0,0,0,0,0,0,0,0,0,0,0,null,0,0,0,0,0,0,0,0,0,0,0,0,0,0,0,0,0,0,0,0,0,0,0,0,null,0,0,0,0,0,0,0,0,0,0,0,0,0,0,0,0,0,0,0,0,0,0,0,0,null,0,0,0,0,0,0,0,0,0,0,0,0,0,0,0,0,0,0,0,0,0,0,0,0,null,0,0,0,0,0,0,0,0,0,0,0,0,0,0,0,0,0,0,0,0,0,0,0,0,null,0,0,0,0,0,0,0,0,0,0,0,0,0,0,0,0,0,0,0,0,0,0,0,0,null,0,0,0,0,0,0,0,0,0,0,0,0,0,0,0,0,0,0,0,0,0,0,0,0,null,0,0,0,0,0,0,0,0,0,0,0,0,0,0,0,0,0,0,0,0,0,0,0,0]
[null,{"$f":"IFERROR(VLOOKUP('הזנת אירועים'!C85,סגמנטים!$D$2:$E$3,2,0),0)","v":0},{"$f":"'הזנת אירועים'!B85","v":0},{"$f":"'הזנת אירועים'!D85","v":"00:00:00"},{"$f":"IF('הזנת אירועים'!E85=סגמנטים!$F$2,1,IF('הזנת אירועים'!E85=סגמנטים!$F$3,999,'הזנת אירועים'!E85))","v":0},{"$f":"'הזנת אירועים'!F85","v":0},0,null,0,{"$f":"IF(I$4=D85,1,IF($I$4<D85,0,(IFERROR(VLOOKUP($I$4,סגמנטים!$A$1:$C$997,3)-VLOOKUP(D85,סגמנטים!$A$1:$C$997,3)+1,0))))","v":0},0,0,0,0,0,0,0,0,0,0,0,0,0,0,0,0,0,0,0,0,0,0,null,0,0,0,0,0,0,0,0,0,0,0,0,0,0,0,0,0,0,0,0,0,0,0,0,null,0,0,0,0,0,0,0,0,0,0,0,0,0,0,0,0,0,0,0,0,0,0,0,0,null,0,0,0,0,0,0,0,0,0,0,0,0,0,0,0,0,0,0,0,0,0,0,0,0,null,0,0,0,0,0,0,0,0,0,0,0,0,0,0,0,0,0,0,0,0,0,0,0,0,null,0,0,0,0,0,0,0,0,0,0,0,0,0,0,0,0,0,0,0,0,0,0,0,0,null,0,0,0,0,0,0,0,0,0,0,0,0,0,0,0,0,0,0,0,0,0,0,0,0,null,0,0,0,0,0,0,0,0,0,0,0,0,0,0,0,0,0,0,0,0,0,0,0,0,null,0,0,0,0,0,0,0,0,0,0,0,0,0,0,0,0,0,0,0,0,0,0,0,0,null,0,0,0,0,0,0,0,0,0,0,0,0,0,0,0,0,0,0,0,0,0,0,0,0]
[null,{"$f":"IFERROR(VLOOKUP('הזנת אירועים'!C86,סגמנטים!$D$2:$E$3,2,0),0)","v":0},{"$f":"'הזנת אירועים'!B86","v":0},{"$f":"'הזנת אירועים'!D86","v":"00:00:00"},{"$f":"IF('הזנת אירועים'!E86=סגמנטים!$F$2,1,IF('הזנת אירועים'!E86=סגמנטים!$F$3,999,'הזנת אירועים'!E86))","v":0},{"$f":"'הזנת אירועים'!F86","v":0},0,null,0,{"$f":"IF(I$4=D86,1,IF($I$4<D86,0,(IFERROR(VLOOKUP($I$4,סגמנטים!$A$1:$C$997,3)-VLOOKUP(D86,סגמנטים!$A$1:$C$997,3)+1,0))))","v":0},0,0,0,0,0,0,0,0,0,0,0,0,0,0,0,0,0,0,0,0,0,0,null,0,0,0,0,0,0,0,0,0,0,0,0,0,0,0,0,0,0,0,0,0,0,0,0,null,0,0,0,0,0,0,0,0,0,0,0,0,0,0,0,0,0,0,0,0,0,0,0,0,null,0,0,0,0,0,0,0,0,0,0,0,0,0,0,0,0,0,0,0,0,0,0,0,0,null,0,0,0,0,0,0,0,0,0,0,0,0,0,0,0,0,0,0,0,0,0,0,0,0,null,0,0,0,0,0,0,0,0,0,0,0,0,0,0,0,0,0,0,0,0,0,0,0,0,null,0,0,0,0,0,0,0,0,0,0,0,0,0,0,0,0,0,0,0,0,0,0,0,0,null,0,0,0,0,0,0,0,0,0,0,0,0,0,0,0,0,0,0,0,0,0,0,0,0,null,0,0,0,0,0,0,0,0,0,0,0,0,0,0,0,0,0,0,0,0,0,0,0,0,null,0,0,0,0,0,0,0,0,0,0,0,0,0,0,0,0,0,0,0,0,0,0,0,0]
[null,{"$f":"IFERROR(VLOOKUP('הזנת אירועים'!C87,סגמנטים!$D$2:$E$3,2,0),0)","v":0},{"$f":"'הזנת אירועים'!B87","v":0},{"$f":"'הזנת אירועים'!D87","v":"00:00:00"},{"$f":"IF('הזנת אירועים'!E87=סגמנטים!$F$2,1,IF('הזנת אירועים'!E87=סגמנטים!$F$3,999,'הזנת אירועים'!E87))","v":0},{"$f":"'הזנת אירועים'!F87","v":0},0,null,0,{"$f":"IF(I$4=D87,1,IF($I$4<D87,0,(IFERROR(VLOOKUP($I$4,סגמנטים!$A$1:$C$997,3)-VLOOKUP(D87,סגמנטים!$A$1:$C$997,3)+1,0))))","v":0},0,0,0,0,0,0,0,0,0,0,0,0,0,0,0,0,0,0,0,0,0,0,null,0,0,0,0,0,0,0,0,0,0,0,0,0,0,0,0,0,0,0,0,0,0,0,0,null,0,0,0,0,0,0,0,0,0,0,0,0,0,0,0,0,0,0,0,0,0,0,0,0,null,0,0,0,0,0,0,0,0,0,0,0,0,0,0,0,0,0,0,0,0,0,0,0,0,null,0,0,0,0,0,0,0,0,0,0,0,0,0,0,0,0,0,0,0,0,0,0,0,0,null,0,0,0,0,0,0,0,0,0,0,0,0,0,0,0,0,0,0,0,0,0,0,0,0,null,0,0,0,0,0,0,0,0,0,0,0,0,0,0,0,0,0,0,0,0,0,0,0,0,null,0,0,0,0,0,0,0,0,0,0,0,0,0,0,0,0,0,0,0,0,0,0,0,0,null,0,0,0,0,0,0,0,0,0,0,0,0,0,0,0,0,0,0,0,0,0,0,0,0,null,0,0,0,0,0,0,0,0,0,0,0,0,0,0,0,0,0,0,0,0,0,0,0,0]
[null,{"$f":"IFERROR(VLOOKUP('הזנת אירועים'!C88,סגמנטים!$D$2:$E$3,2,0),0)","v":0},{"$f":"'הזנת אירועים'!B88","v":0},{"$f":"'הזנת אירועים'!D88","v":"00:00:00"},{"$f":"IF('הזנת אירועים'!E88=סגמנטים!$F$2,1,IF('הזנת אירועים'!E88=סגמנטים!$F$3,999,'הזנת אירועים'!E88))","v":0},{"$f":"'הזנת אירועים'!F88","v":0},0,null,0,{"$f":"IF(I$4=D88,1,IF($I$4<D88,0,(IFERROR(VLOOKUP($I$4,סגמנטים!$A$1:$C$997,3)-VLOOKUP(D88,סגמנטים!$A$1:$C$997,3)+1,0))))","v":0},0,0,0,0,0,0,0,0,0,0,0,0,0,0,0,0,0,0,0,0,0,0,null,0,0,0,0,0,0,0,0,0,0,0,0,0,0,0,0,0,0,0,0,0,0,0,0,null,0,0,0,0,0,0,0,0,0,0,0,0,0,0,0,0,0,0,0,0,0,0,0,0,null,0,0,0,0,0,0,0,0,0,0,0,0,0,0,0,0,0,0,0,0,0,0,0,0,null,0,0,0,0,0,0,0,0,0,0,0,0,0,0,0,0,0,0,0,0,0,0,0,0,null,0,0,0,0,0,0,0,0,0,0,0,0,0,0,0,0,0,0,0,0,0,0,0,0,null,0,0,0,0,0,0,0,0,0,0,0,0,0,0,0,0,0,0,0,0,0,0,0,0,null,0,0,0,0,0,0,0,0,0,0,0,0,0,0,0,0,0,0,0,0,0,0,0,0,null,0,0,0,0,0,0,0,0,0,0,0,0,0,0,0,0,0,0,0,0,0,0,0,0,null,0,0,0,0,0,0,0,0,0,0,0,0,0,0,0,0,0,0,0,0,0,0,0,0]
[null,{"$f":"IFERROR(VLOOKUP('הזנת אירועים'!C89,סגמנטים!$D$2:$E$3,2,0),0)","v":0},{"$f":"'הזנת אירועים'!B89","v":0},{"$f":"'הזנת אירועים'!D89","v":"00:00:00"},{"$f":"IF('הזנת אירועים'!E89=סגמנטים!$F$2,1,IF('הזנת אירועים'!E89=סגמנטים!$F$3,999,'הזנת אירועים'!E89))","v":0},{"$f":"'הזנת אירועים'!F89","v":0},0,null,0,{"$f":"IF(I$4=D89,1,IF($I$4<D89,0,(IFERROR(VLOOKUP($I$4,סגמנטים!$A$1:$C$997,3)-VLOOKUP(D89,סגמנטים!$A$1:$C$997,3)+1,0))))","v":0},0,0,0,0,0,0,0,0,0,0,0,0,0,0,0,0,0,0,0,0,0,0,null,0,0,0,0,0,0,0,0,0,0,0,0,0,0,0,0,0,0,0,0,0,0,0,0,null,0,0,0,0,0,0,0,0,0,0,0,0,0,0,0,0,0,0,0,0,0,0,0,0,null,0,0,0,0,0,0,0,0,0,0,0,0,0,0,0,0,0,0,0,0,0,0,0,0,null,0,0,0,0,0,0,0,0,0,0,0,0,0,0,0,0,0,0,0,0,0,0,0,0,null,0,0,0,0,0,0,0,0,0,0,0,0,0,0,0,0,0,0,0,0,0,0,0,0,null,0,0,0,0,0,0,0,0,0,0,0,0,0,0,0,0,0,0,0,0,0,0,0,0,null,0,0,0,0,0,0,0,0,0,0,0,0,0,0,0,0,0,0,0,0,0,0,0,0,null,0,0,0,0,0,0,0,0,0,0,0,0,0,0,0,0,0,0,0,0,0,0,0,0,null,0,0,0,0,0,0,0,0,0,0,0,0,0,0,0,0,0,0,0,0,0,0,0,0]
[null,{"$f":"IFERROR(VLOOKUP('הזנת אירועים'!C90,סגמנטים!$D$2:$E$3,2,0),0)","v":0},{"$f":"'הזנת אירועים'!B90","v":0},{"$f":"'הזנת אירועים'!D90","v":"00:00:00"},{"$f":"IF('הזנת אירועים'!E90=סגמנטים!$F$2,1,IF('הזנת אירועים'!E90=סגמנטים!$F$3,999,'הזנת אירועים'!E90))","v":0},{"$f":"'הזנת אירועים'!F90","v":0},0,null,0,{"$f":"IF(I$4=D90,1,IF($I$4<D90,0,(IFERROR(VLOOKUP($I$4,סגמנטים!$A$1:$C$997,3)-VLOOKUP(D90,סגמנטים!$A$1:$C$997,3)+1,0))))","v":0},0,0,0,0,0,0,0,0,0,0,0,0,0,0,0,0,0,0,0,0,0,0,null,0,0,0,0,0,0,0,0,0,0,0,0,0,0,0,0,0,0,0,0,0,0,0,0,null,0,0,0,0,0,0,0,0,0,0,0,0,0,0,0,0,0,0,0,0,0,0,0,0,null,0,0,0,0,0,0,0,0,0,0,0,0,0,0,0,0,0,0,0,0,0,0,0,0,null,0,0,0,0,0,0,0,0,0,0,0,0,0,0,0,0,0,0,0,0,0,0,0,0,null,0,0,0,0,0,0,0,0,0,0,0,0,0,0,0,0,0,0,0,0,0,0,0,0,null,0,0,0,0,0,0,0,0,0,0,0,0,0,0,0,0,0,0,0,0,0,0,0,0,null,0,0,0,0,0,0,0,0,0,0,0,0,0,0,0,0,0,0,0,0,0,0,0,0,null,0,0,0,0,0,0,0,0,0,0,0,0,0,0,0,0,0,0,0,0,0,0,0,0,null,0,0,0,0,0,0,0,0,0,0,0,0,0,0,0,0,0,0,0,0,0,0,0,0]
[null,{"$f":"IFERROR(VLOOKUP('הזנת אירועים'!C91,סגמנטים!$D$2:$E$3,2,0),0)","v":0},{"$f":"'הזנת אירועים'!B91","v":0},{"$f":"'הזנת אירועים'!D91","v":"00:00:00"},{"$f":"IF('הזנת אירועים'!E91=סגמנטים!$F$2,1,IF('הזנת אירועים'!E91=סגמנטים!$F$3,999,'הזנת אירועים'!E91))","v":0},{"$f":"'הזנת אירועים'!F91","v":0},0,null,0,{"$f":"IF(I$4=D91,1,IF($I$4<D91,0,(IFERROR(VLOOKUP($I$4,סגמנטים!$A$1:$C$997,3)-VLOOKUP(D91,סגמנטים!$A$1:$C$997,3)+1,0))))","v":0},0,0,0,0,0,0,0,0,0,0,0,0,0,0,0,0,0,0,0,0,0,0,null,0,0,0,0,0,0,0,0,0,0,0,0,0,0,0,0,0,0,0,0,0,0,0,0,null,0,0,0,0,0,0,0,0,0,0,0,0,0,0,0,0,0,0,0,0,0,0,0,0,null,0,0,0,0,0,0,0,0,0,0,0,0,0,0,0,0,0,0,0,0,0,0,0,0,null,0,0,0,0,0,0,0,0,0,0,0,0,0,0,0,0,0,0,0,0,0,0,0,0,null,0,0,0,0,0,0,0,0,0,0,0,0,0,0,0,0,0,0,0,0,0,0,0,0,null,0,0,0,0,0,0,0,0,0,0,0,0,0,0,0,0,0,0,0,0,0,0,0,0,null,0,0,0,0,0,0,0,0,0,0,0,0,0,0,0,0,0,0,0,0,0,0,0,0,null,0,0,0,0,0,0,0,0,0,0,0,0,0,0,0,0,0,0,0,0,0,0,0,0,null,0,0,0,0,0,0,0,0,0,0,0,0,0,0,0,0,0,0,0,0,0,0,0,0]
[null,{"$f":"IFERROR(VLOOKUP('הזנת אירועים'!C92,סגמנטים!$D$2:$E$3,2,0),0)","v":0},{"$f":"'הזנת אירועים'!B92","v":0},{"$f":"'הזנת אירועים'!D92","v":"00:00:00"},{"$f":"IF('הזנת אירועים'!E92=סגמנטים!$F$2,1,IF('הזנת אירועים'!E92=סגמנטים!$F$3,999,'הזנת אירועים'!E92))","v":0},{"$f":"'הזנת אירועים'!F92","v":0},0,null,0,{"$f":"IF(I$4=D92,1,IF($I$4<D92,0,(IFERROR(VLOOKUP($I$4,סגמנטים!$A$1:$C$997,3)-VLOOKUP(D92,סגמנטים!$A$1:$C$997,3)+1,0))))","v":0},0,0,0,0,0,0,0,0,0,0,0,0,0,0,0,0,0,0,0,0,0,0,null,0,0,0,0,0,0,0,0,0,0,0,0,0,0,0,0,0,0,0,0,0,0,0,0,null,0,0,0,0,0,0,0,0,0,0,0,0,0,0,0,0,0,0,0,0,0,0,0,0,null,0,0,0,0,0,0,0,0,0,0,0,0,0,0,0,0,0,0,0,0,0,0,0,0,null,0,0,0,0,0,0,0,0,0,0,0,0,0,0,0,0,0,0,0,0,0,0,0,0,null,0,0,0,0,0,0,0,0,0,0,0,0,0,0,0,0,0,0,0,0,0,0,0,0,null,0,0,0,0,0,0,0,0,0,0,0,0,0,0,0,0,0,0,0,0,0,0,0,0,null,0,0,0,0,0,0,0,0,0,0,0,0,0,0,0,0,0,0,0,0,0,0,0,0,null,0,0,0,0,0,0,0,0,0,0,0,0,0,0,0,0,0,0,0,0,0,0,0,0,null,0,0,0,0,0,0,0,0,0,0,0,0,0,0,0,0,0,0,0,0,0,0,0,0]
[null,{"$f":"IFERROR(VLOOKUP('הזנת אירועים'!C93,סגמנטים!$D$2:$E$3,2,0),0)","v":0},{"$f":"'הזנת אירועים'!B93","v":0},{"$f":"'הזנת אירועים'!D93","v":"00:00:00"},{"$f":"IF('הזנת אירועים'!E93=סגמנטים!$F$2,1,IF('הזנת אירועים'!E93=סגמנטים!$F$3,999,'הזנת אירועים'!E93))","v":0},{"$f":"'הזנת אירועים'!F93","v":0},0,null,0,{"$f":"IF(I$4=D93,1,IF($I$4<D93,0,(IFERROR(VLOOKUP($I$4,סגמנטים!$A$1:$C$997,3)-VLOOKUP(D93,סגמנטים!$A$1:$C$997,3)+1,0))))","v":0},0,0,0,0,0,0,0,0,0,0,0,0,0,0,0,0,0,0,0,0,0,0,null,0,0,0,0,0,0,0,0,0,0,0,0,0,0,0,0,0,0,0,0,0,0,0,0,null,0,0,0,0,0,0,0,0,0,0,0,0,0,0,0,0,0,0,0,0,0,0,0,0,null,0,0,0,0,0,0,0,0,0,0,0,0,0,0,0,0,0,0,0,0,0,0,0,0,null,0,0,0,0,0,0,0,0,0,0,0,0,0,0,0,0,0,0,0,0,0,0,0,0,null,0,0,0,0,0,0,0,0,0,0,0,0,0,0,0,0,0,0,0,0,0,0,0,0,null,0,0,0,0,0,0,0,0,0,0,0,0,0,0,0,0,0,0,0,0,0,0,0,0,null,0,0,0,0,0,0,0,0,0,0,0,0,0,0,0,0,0,0,0,0,0,0,0,0,null,0,0,0,0,0,0,0,0,0,0,0,0,0,0,0,0,0,0,0,0,0,0,0,0,null,0,0,0,0,0,0,0,0,0,0,0,0,0,0,0,0,0,0,0,0,0,0,0,0]
[null,{"$f":"IFERROR(VLOOKUP('הזנת אירועים'!C94,סגמנטים!$D$2:$E$3,2,0),0)","v":0},{"$f":"'הזנת אירועים'!B94","v":0},{"$f":"'הזנת אירועים'!D94","v":"00:00:00"},{"$f":"IF('הזנת אירועים'!E94=סגמנטים!$F$2,1,IF('הזנת אירועים'!E94=סגמנטים!$F$3,999,'הזנת אירועים'!E94))","v":0},{"$f":"'הזנת אירועים'!F94","v":0},0,null,0,{"$f":"IF(I$4=D94,1,IF($I$4<D94,0,(IFERROR(VLOOKUP($I$4,סגמנטים!$A$1:$C$997,3)-VLOOKUP(D94,סגמנטים!$A$1:$C$997,3)+1,0))))","v":0},0,0,0,0,0,0,0,0,0,0,0,0,0,0,0,0,0,0,0,0,0,0,null,0,0,0,0,0,0,0,0,0,0,0,0,0,0,0,0,0,0,0,0,0,0,0,0,null,0,0,0,0,0,0,0,0,0,0,0,0,0,0,0,0,0,0,0,0,0,0,0,0,null,0,0,0,0,0,0,0,0,0,0,0,0,0,0,0,0,0,0,0,0,0,0,0,0,null,0,0,0,0,0,0,0,0,0,0,0,0,0,0,0,0,0,0,0,0,0,0,0,0,null,0,0,0,0,0,0,0,0,0,0,0,0,0,0,0,0,0,0,0,0,0,0,0,0,null,0,0,0,0,0,0,0,0,0,0,0,0,0,0,0,0,0,0,0,0,0,0,0,0,null,0,0,0,0,0,0,0,0,0,0,0,0,0,0,0,0,0,0,0,0,0,0,0,0,null,0,0,0,0,0,0,0,0,0,0,0,0,0,0,0,0,0,0,0,0,0,0,0,0,null,0,0,0,0,0,0,0,0,0,0,0,0,0,0,0,0,0,0,0,0,0,0,0,0]
[null,{"$f":"IFERROR(VLOOKUP('הזנת אירועים'!C95,סגמנטים!$D$2:$E$3,2,0),0)","v":0},{"$f":"'הזנת אירועים'!B95","v":0},{"$f":"'הזנת אירועים'!D95","v":"00:00:00"},{"$f":"IF('הזנת אירועים'!E95=סגמנטים!$F$2,1,IF('הזנת אירועים'!E95=סגמנטים!$F$3,999,'הזנת אירועים'!E95))","v":0},{"$f":"'הזנת אירועים'!F95","v":0},0,null,0,{"$f":"IF(I$4=D95,1,IF($I$4<D95,0,(IFERROR(VLOOKUP($I$4,סגמנטים!$A$1:$C$997,3)-VLOOKUP(D95,סגמנטים!$A$1:$C$997,3)+1,0))))","v":0},0,0,0,0,0,0,0,0,0,0,0,0,0,0,0,0,0,0,0,0,0,0,null,0,0,0,0,0,0,0,0,0,0,0,0,0,0,0,0,0,0,0,0,0,0,0,0,null,0,0,0,0,0,0,0,0,0,0,0,0,0,0,0,0,0,0,0,0,0,0,0,0,null,0,0,0,0,0,0,0,0,0,0,0,0,0,0,0,0,0,0,0,0,0,0,0,0,null,0,0,0,0,0,0,0,0,0,0,0,0,0,0,0,0,0,0,0,0,0,0,0,0,null,0,0,0,0,0,0,0,0,0,0,0,0,0,0,0,0,0,0,0,0,0,0,0,0,null,0,0,0,0,0,0,0,0,0,0,0,0,0,0,0,0,0,0,0,0,0,0,0,0,null,0,0,0,0,0,0,0,0,0,0,0,0,0,0,0,0,0,0,0,0,0,0,0,0,null,0,0,0,0,0,0,0,0,0,0,0,0,0,0,0,0,0,0,0,0,0,0,0,0,null,0,0,0,0,0,0,0,0,0,0,0,0,0,0,0,0,0,0,0,0,0,0,0,0]
[null,{"$f":"IFERROR(VLOOKUP('הזנת אירועים'!C96,סגמנטים!$D$2:$E$3,2,0),0)","v":0},{"$f":"'הזנת אירועים'!B96","v":0},{"$f":"'הזנת אירועים'!D96","v":"00:00:00"},{"$f":"IF('הזנת אירועים'!E96=סגמנטים!$F$2,1,IF('הזנת אירועים'!E96=סגמנטים!$F$3,999,'הזנת אירועים'!E96))","v":0},{"$f":"'הזנת אירועים'!F96","v":0},0,null,0,{"$f":"IF(I$4=D96,1,IF($I$4<D96,0,(IFERROR(VLOOKUP($I$4,סגמנטים!$A$1:$C$997,3)-VLOOKUP(D96,סגמנטים!$A$1:$C$997,3)+1,0))))","v":0},0,0,0,0,0,0,0,0,0,0,0,0,0,0,0,0,0,0,0,0,0,0,null,0,0,0,0,0,0,0,0,0,0,0,0,0,0,0,0,0,0,0,0,0,0,0,0,null,0,0,0,0,0,0,0,0,0,0,0,0,0,0,0,0,0,0,0,0,0,0,0,0,null,0,0,0,0,0,0,0,0,0,0,0,0,0,0,0,0,0,0,0,0,0,0,0,0,null,0,0,0,0,0,0,0,0,0,0,0,0,0,0,0,0,0,0,0,0,0,0,0,0,null,0,0,0,0,0,0,0,0,0,0,0,0,0,0,0,0,0,0,0,0,0,0,0,0,null,0,0,0,0,0,0,0,0,0,0,0,0,0,0,0,0,0,0,0,0,0,0,0,0,null,0,0,0,0,0,0,0,0,0,0,0,0,0,0,0,0,0,0,0,0,0,0,0,0,null,0,0,0,0,0,0,0,0,0,0,0,0,0,0,0,0,0,0,0,0,0,0,0,0,null,0,0,0,0,0,0,0,0,0,0,0,0,0,0,0,0,0,0,0,0,0,0,0,0]
[null,{"$f":"IFERROR(VLOOKUP('הזנת אירועים'!C97,סגמנטים!$D$2:$E$3,2,0),0)","v":0},{"$f":"'הזנת אירועים'!B97","v":0},{"$f":"'הזנת אירועים'!D97","v":"00:00:00"},{"$f":"IF('הזנת אירועים'!E97=סגמנטים!$F$2,1,IF('הזנת אירועים'!E97=סגמנטים!$F$3,999,'הזנת אירועים'!E97))","v":0},{"$f":"'הזנת אירועים'!F97","v":0},0,null,0,{"$f":"IF(I$4=D97,1,IF($I$4<D97,0,(IFERROR(VLOOKUP($I$4,סגמנטים!$A$1:$C$997,3)-VLOOKUP(D97,סגמנטים!$A$1:$C$997,3)+1,0))))","v":0},0,0,0,0,0,0,0,0,0,0,0,0,0,0,0,0,0,0,0,0,0,0,null,0,0,0,0,0,0,0,0,0,0,0,0,0,0,0,0,0,0,0,0,0,0,0,0,null,0,0,0,0,0,0,0,0,0,0,0,0,0,0,0,0,0,0,0,0,0,0,0,0,null,0,0,0,0,0,0,0,0,0,0,0,0,0,0,0,0,0,0,0,0,0,0,0,0,null,0,0,0,0,0,0,0,0,0,0,0,0,0,0,0,0,0,0,0,0,0,0,0,0,null,0,0,0,0,0,0,0,0,0,0,0,0,0,0,0,0,0,0,0,0,0,0,0,0,null,0,0,0,0,0,0,0,0,0,0,0,0,0,0,0,0,0,0,0,0,0,0,0,0,null,0,0,0,0,0,0,0,0,0,0,0,0,0,0,0,0,0,0,0,0,0,0,0,0,null,0,0,0,0,0,0,0,0,0,0,0,0,0,0,0,0,0,0,0,0,0,0,0,0,null,0,0,0,0,0,0,0,0,0,0,0,0,0,0,0,0,0,0,0,0,0,0,0,0]
[null,{"$f":"IFERROR(VLOOKUP('הזנת אירועים'!C98,סגמנטים!$D$2:$E$3,2,0),0)","v":0},{"$f":"'הזנת אירועים'!B98","v":0},{"$f":"'הזנת אירועים'!D98","v":"00:00:00"},{"$f":"IF('הזנת אירועים'!E98=סגמנטים!$F$2,1,IF('הזנת אירועים'!E98=סגמנטים!$F$3,999,'הזנת אירועים'!E98))","v":0},{"$f":"'הזנת אירועים'!F98","v":0},0,null,0,{"$f":"IF(I$4=D98,1,IF($I$4<D98,0,(IFERROR(VLOOKUP($I$4,סגמנטים!$A$1:$C$997,3)-VLOOKUP(D98,סגמנטים!$A$1:$C$997,3)+1,0))))","v":0},0,0,0,0,0,0,0,0,0,0,0,0,0,0,0,0,0,0,0,0,0,0,null,0,0,0,0,0,0,0,0,0,0,0,0,0,0,0,0,0,0,0,0,0,0,0,0,null,0,0,0,0,0,0,0,0,0,0,0,0,0,0,0,0,0,0,0,0,0,0,0,0,null,0,0,0,0,0,0,0,0,0,0,0,0,0,0,0,0,0,0,0,0,0,0,0,0,null,0,0,0,0,0,0,0,0,0,0,0,0,0,0,0,0,0,0,0,0,0,0,0,0,null,0,0,0,0,0,0,0,0,0,0,0,0,0,0,0,0,0,0,0,0,0,0,0,0,null,0,0,0,0,0,0,0,0,0,0,0,0,0,0,0,0,0,0,0,0,0,0,0,0,null,0,0,0,0,0,0,0,0,0,0,0,0,0,0,0,0,0,0,0,0,0,0,0,0,null,0,0,0,0,0,0,0,0,0,0,0,0,0,0,0,0,0,0,0,0,0,0,0,0,null,0,0,0,0,0,0,0,0,0,0,0,0,0,0,0,0,0,0,0,0,0,0,0,0]
[null,{"$f":"IFERROR(VLOOKUP('הזנת אירועים'!C99,סגמנטים!$D$2:$E$3,2,0),0)","v":0},{"$f":"'הזנת אירועים'!B99","v":0},{"$f":"'הזנת אירועים'!D99","v":"00:00:00"},{"$f":"IF('הזנת אירועים'!E99=סגמנטים!$F$2,1,IF('הזנת אירועים'!E99=סגמנטים!$F$3,999,'הזנת אירועים'!E99))","v":0},{"$f":"'הזנת אירועים'!F99","v":0},0,null,0,{"$f":"IF(I$4=D99,1,IF($I$4<D99,0,(IFERROR(VLOOKUP($I$4,סגמנטים!$A$1:$C$997,3)-VLOOKUP(D99,סגמנטים!$A$1:$C$997,3)+1,0))))","v":0},0,0,0,0,0,0,0,0,0,0,0,0,0,0,0,0,0,0,0,0,0,0,null,0,0,0,0,0,0,0,0,0,0,0,0,0,0,0,0,0,0,0,0,0,0,0,0,null,0,0,0,0,0,0,0,0,0,0,0,0,0,0,0,0,0,0,0,0,0,0,0,0,null,0,0,0,0,0,0,0,0,0,0,0,0,0,0,0,0,0,0,0,0,0,0,0,0,null,0,0,0,0,0,0,0,0,0,0,0,0,0,0,0,0,0,0,0,0,0,0,0,0,null,0,0,0,0,0,0,0,0,0,0,0,0,0,0,0,0,0,0,0,0,0,0,0,0,null,0,0,0,0,0,0,0,0,0,0,0,0,0,0,0,0,0,0,0,0,0,0,0,0,null,0,0,0,0,0,0,0,0,0,0,0,0,0,0,0,0,0,0,0,0,0,0,0,0,null,0,0,0,0,0,0,0,0,0,0,0,0,0,0,0,0,0,0,0,0,0,0,0,0,null,0,0,0,0,0,0,0,0,0,0,0,0,0,0,0,0,0,0,0,0,0,0,0,0]
[null,{"$f":"IFERROR(VLOOKUP('הזנת אירועים'!C100,סגמנטים!$D$2:$E$3,2,0),0)","v":0},{"$f":"'הזנת אירועים'!B100","v":0},{"$f":"'הזנת אירועים'!D100","v":"00:00:00"},{"$f":"IF('הזנת אירועים'!E100=סגמנטים!$F$2,1,IF('הזנת אירועים'!E100=סגמנטים!$F$3,999,'הזנת אירועים'!E100))","v":0},{"$f":"'הזנת אירועים'!F100","v":0},0,null,0,{"$f":"IF(I$4=D100,1,IF($I$4<D100,0,(IFERROR(VLOOKUP($I$4,סגמנטים!$A$1:$C$997,3)-VLOOKUP(D100,סגמנטים!$A$1:$C$997,3)+1,0))))","v":0},0,0,0,0,0,0,0,0,0,0,0,0,0,0,0,0,0,0,0,0,0,0,null,0,0,0,0,0,0,0,0,0,0,0,0,0,0,0,0,0,0,0,0,0,0,0,0,null,0,0,0,0,0,0,0,0,0,0,0,0,0,0,0,0,0,0,0,0,0,0,0,0,null,0,0,0,0,0,0,0,0,0,0,0,0,0,0,0,0,0,0,0,0,0,0,0,0,null,0,0,0,0,0,0,0,0,0,0,0,0,0,0,0,0,0,0,0,0,0,0,0,0,null,0,0,0,0,0,0,0,0,0,0,0,0,0,0,0,0,0,0,0,0,0,0,0,0,null,0,0,0,0,0,0,0,0,0,0,0,0,0,0,0,0,0,0,0,0,0,0,0,0,null,0,0,0,0,0,0,0,0,0,0,0,0,0,0,0,0,0,0,0,0,0,0,0,0,null,0,0,0,0,0,0,0,0,0,0,0,0,0,0,0,0,0,0,0,0,0,0,0,0,null,0,0,0,0,0,0,0,0,0,0,0,0,0,0,0,0,0,0,0,0,0,0,0,0]
[null,{"$f":"IFERROR(VLOOKUP('הזנת אירועים'!C101,סגמנטים!$D$2:$E$3,2,0),0)","v":0},{"$f":"'הזנת אירועים'!B101","v":0},{"$f":"'הזנת אירועים'!D101","v":"00:00:00"},{"$f":"IF('הזנת אירועים'!E101=סגמנטים!$F$2,1,IF('הזנת אירועים'!E101=סגמנטים!$F$3,999,'הזנת אירועים'!E101))","v":0},{"$f":"'הזנת אירועים'!F101","v":0},0,null,0,{"$f":"IF(I$4=D101,1,IF($I$4<D101,0,(IFERROR(VLOOKUP($I$4,סגמנטים!$A$1:$C$997,3)-VLOOKUP(D101,סגמנטים!$A$1:$C$997,3)+1,0))))","v":0},0,0,0,0,0,0,0,0,0,0,0,0,0,0,0,0,0,0,0,0,0,0,null,0,0,0,0,0,0,0,0,0,0,0,0,0,0,0,0,0,0,0,0,0,0,0,0,null,0,0,0,0,0,0,0,0,0,0,0,0,0,0,0,0,0,0,0,0,0,0,0,0,null,0,0,0,0,0,0,0,0,0,0,0,0,0,0,0,0,0,0,0,0,0,0,0,0,null,0,0,0,0,0,0,0,0,0,0,0,0,0,0,0,0,0,0,0,0,0,0,0,0,null,0,0,0,0,0,0,0,0,0,0,0,0,0,0,0,0,0,0,0,0,0,0,0,0,null,0,0,0,0,0,0,0,0,0,0,0,0,0,0,0,0,0,0,0,0,0,0,0,0,null,0,0,0,0,0,0,0,0,0,0,0,0,0,0,0,0,0,0,0,0,0,0,0,0,null,0,0,0,0,0,0,0,0,0,0,0,0,0,0,0,0,0,0,0,0,0,0,0,0,null,0,0,0,0,0,0,0,0,0,0,0,0,0,0,0,0,0,0,0,0,0,0,0,0]

{"sheet":"גרפים","index":2,"n_rows":0,"n_cols":0,"rows_kept":0,"cut":false,"hidden":false,"merged":[]}

{"sheet":"מה אפשר לעשות","index":3,"n_rows":14,"n_cols":4,"rows_kept":14,"cut":false,"hidden":false,"merged":[]}
[]
[null,"מה אפשר לעשות אם יש חודשים בחריגה?"]
[null,"חשוב להבין שחודשים בחריגה, משמעותם שאין באותם חודשים מספיק כסף כדי לבצע את התוכנית של מסלול החיים."]
[null,"לכן נבחן שינויים באירועים שבמסלול החיים, כדי שניתן יהיה לבצע את התכנית ללא חריגה."]
[]
[null,"פתרונות אפשריים:"]
[null,null,"נתייחס אל האירועים לפי סדרי העדיפויות, החל מסדר העדיפות הנמוך, ולגבי כל אחד מהם נבחן עד כמה ניתן  "]
[null,null,"לצמצם בו   ו/או   לדחות אותו   או   לוותר עליו בכלל."]
[null,null,null,"דוגמאות: נבחן באיזו מידה ניתן לדחות את הוצאת רישיון הנהיגה עד שיצטבר מספיק כסף לכך, להחליף את חופשת הסקי בחופשה זולה יותר, לערוך חגיגת בת-מצווה פחות מפוארת"]
[null,null,"נחפש מקורות להגדלת הכנסה שתשלים את הפער החסר. הכניסו שינוי כזה רק אם הוא ודאי. הימנעו משאיפות להגדלת הכנסה שאין להן אחיזה במציאות."]
[null,null,"נשתמש במקור מימון קיים. כגון תוכנית חיסכון קיימת. מתנה שהסבים מוכנים לתת."]
[null,null,"נמצא מקור מימון כדי לגשר על תקופת החריגה. למשל הלוואה מההורים עבור חתונת הבן. החזר ההלוואה ישולם לאחר החתונה במספר תשלומים לפי העודף במאזן החודשי."]
[]
[null,"טיפ: אם מצטברת יתרה חיובית גבוהה, שיקלו לפתוח עבורה חיסכון כדי שלא תתבזבז בעו\"ש. באופן דומה, שיקלו לפתוח חיסכון ייעודי לצבירה עבור אירוע חד-פעמי כדי שהכספים עבורו לא יתבזבזו בעו\"ש."]

{"sheet":"היסטוריית גירסאות","index":4,"n_rows":11,"n_cols":2,"rows_kept":11,"cut":false,"hidden":true,"merged":[]}
[120120,"גרסת ניסיון. הופצה למשתמשים רלוונטים במטה + למדריכים אזוריים לצורך קבלת משוב."]
[220120,"שיפור בהתאם למשובים שניתנו על הגירסה הקודמת"]
[220120,"גירסא רשמית ראשונית"]
[240121,"עבור אירוע 'לתמיד' לא יופיע 'סה\"כ לאירוע' בגיליון מסלול החיים."]
[null,"הבלטת הצעדים 1 ו-2 בגיליון מסלול החיים."]
[null,"הוספת \"נכון לחודש\" עבור נתוני ההתחלה."]
[null,"פתרון לחלק מהמשתמשים שלא הצליחו לפתוח את סימני ה+"]
[null,"הוספת קישור בתוך הכלי להורדת גירסה אחרונה."]
[310121,"עדכון הקישורים למדריך פעמונים ולגרסה האחרונה של הכלי, כך שיפנו לאתר פעמונים (במקום ל-SP)."]
[null,"הוספת קישור לשאלות ותשובות"]
[null,"הרחבת משך הזמן שנתמך בכלי עד 2099"]

{"sheet":"סגמנטים","index":5,"n_rows":998,"n_cols":128,"rows_kept":998,"cut":false,"hidden":true,"merged":[]}
["חודש","מס' ימים","מס' חודשים",null,null,null,null,"נתונ ים לגרף ברמת חודשים"]
["2017-01-01",31,1,"הכבדה",-1,"חד-פעמי",null,"חודש",{"$f":"'מסלול החיים'!I4","v":"2021-01-01"},{"$f":"'מסלול החיים'!K4","v":"2021-02-01"},{"$f":"'מסלול החיים'!M4","v":"2021-03-01"},{"$f":"'מסלול החיים'!O4","v":"2021-04-01"},{"$f":"'מסלול החיים'!Q4","v":"2021-05-01"},{"$f":"'מסלול החיים'!S4","v":"2021-06-01"},{"$f":"'מסלול החיים'!U4","v":"2021-07-01"},{"$f":"'מסלול החיים'!W4","v":"2021-08-01"},{"$f":"'מסלול החיים'!Y4","v":"2021-09-01"},{"$f":"'מסלול החיים'!AA4","v":"2021-10-01"},{"$f":"'מסלול החיים'!AC4","v":"2021-11-01"},{"$f":"'מסלול החיים'!AE4","v":"2021-12-01"},{"$f":"'מסלול החיים'!AH4","v":"2022-01-01"},{"$f":"'מסלול החיים'!AJ4","v":"2022-02-01"},{"$f":"'מסלול החיים'!AL4","v":"2022-03-01"},{"$f":"'מסלול החיים'!AN4","v":"2022-04-01"},{"$f":"'מסלול החיים'!AP4","v":"2022-05-01"},{"$f":"'מסלול החיים'!AR4","v":"2022-06-01"},{"$f":"'מסלול החיים'!AT4","v":"2022-07-01"},{"$f":"'מסלול החיים'!AV4","v":"2022-08-01"},{"$f":"'מסלול החיים'!AX4","v":"2022-09-01"},{"$f":"'מסלול החיים'!AZ4","v":"2022-10-01"},{"$f":"'מסלול החיים'!BB4","v":"2022-11-01"},{"$f":"'מסלול החיים'!BD4","v":"2022-12-01"},{"$f":"'מסלול החיים'!BG4","v":"2023-01-01"},{"$f":"'מסלול החיים'!BI4","v":"2023-02-01"},{"$f":"'מסלול החיים'!BK4","v":"2023-03-01"},{"$f":"'מסלול החיים'!BM4","v":"2023-04-01"},{"$f":"'מסלול החיים'!BO4","v":"2023-05-01"},{"$f":"'מסלול החיים'!BQ4","v":"2023-06-01"},{"$f":"'מסלול החיים'!BS4","v":"2023-07-01"},{"$f":"'מסלול החיים'!BU4","v":"2023-08-01"},{"$f":"'מסלול החיים'!BW4","v":"2023-09-01"},{"$f":"'מסלול החיים'!BY4","v":"2023-10-01"},{"$f":"'מסלול החיים'!CA4","v":"2023-11-01"},{"$f":"'מסלול החיים'!CC4","v":"2023-12-01"},{"$f":"'מסלול החיים'!CF4","v":"2024-01-01"},{"$f":"'מסלול החיים'!CH4","v":"2024-02-01"},{"$f":"'מסלול החיים'!CJ4","v":"2024-03-01"},{"$f":"'מסלול החיים'!CL4","v":"2024-04-01"},{"$f":"'מסלול החיים'!CN4","v":"2024-05-01"},{"$f":"'מסלול החיים'!CP4","v":"2024-06-01"},{"$f":"'מסלול החיים'!CR4","v":"2024-07-01"},{"$f":"'מסלול החיים'!CT4","v":"2024-08-01"},{"$f":"'מסלול החיים'!CV4","v":"2024-09-01"},{"$f":"'מסלול החיים'!CX4","v":"2024-10-01"},{"$f":"'מסלול החיים'!CZ4","v":"2024-11-01"},{"$f":"'מסלול החיים'!DB4","v":"2024-12-01"},{"$f":"'מסלול החיים'!DE4","v":"2025-01-01"},{"$f":"'מסלול החיים'!DG4","v":"2025-02-01"},{"$f":"'מסלול החיים'!DI4","v":"2025-03-01"},{"$f":"'מסלול החיים'!DK4","v":"2025-04-01"},{"$f":"'מסלול החיים'!DM4","v":"2025-05-01"},{"$f":"'מסלול החיים'!DO4","v":"2025-06-01"},{"$f":"'מסלול החיים'!DQ4","v":"2025-07-01"},{"$f":"'מסלול החיים'!DS4","v":"2025-08-01"},{"$f":"'מסלול החיים'!DU4","v":"2025-09-01"},{"$f":"'מסלול החיים'!DW4","v":"2025-10-01"},{"$f":"'מסלול החיים'!DY4","v":"2025-11-01"},{"$f":"'מסלול החיים'!EA4","v":"2025-12-01"},{"$f":"'מסלול החיים'!ED4","v":"2026-01-01"},{"$f":"'מסלול החיים'!EF4","v":"2026-02-01"},{"$f":"'מסלול החיים'!EH4","v":"2026-03-01"},{"$f":"'מסלול החיים'!EJ4","v":"2026-04-01"},{"$f":"'מסלול החיים'!EL4","v":"2026-05-01"},{"$f":"'מסלול החיים'!EN4","v":"2026-06-01"},{"$f":"'מסלול החיים'!EP4","v":"2026-07-01"},{"$f":"'מסלול החיים'!ER4","v":"2026-08-01"},{"$f":"'מסלול החיים'!ET4","v":"2026-09-01"},{"$f":"'מסלול החיים'!EV4","v":"2026-10-01"},{"$f":"'מסלול החיים'!EX4","v":"2026-11-01"},{"$f":"'מסלול החיים'!EZ4","v":"2026-12-01"},{"$f":"'מסלול החיים'!FC4","v":"2027-01-01"},{"$f":"'מסלול החיים'!FE4","v":"2027-02-01"},{"$f":"'מסלול החיים'!FG4","v":"2027-03-01"},{"$f":"'מסלול החיים'!FI4","v":"2027-04-01"},{"$f":"'מסלול החיים'!FK4","v":"2027-05-01"},{"$f":"'מסלול החיים'!FM4","v":"2027-06-01"},{"$f":"'מסלול החיים'!FO4","v":"2027-07-01"},{"$f":"'מסלול החיים'!FQ4","v":"2027-08-01"},{"$f":"'מסלול החיים'!FS4","v":"2027-09-01"},{"$f":"'מסלול החיים'!FU4","v":"2027-10-01"},{"$f":"'מסלול החיים'!FW4","v":"2027-11-01"},{"$f":"'מסלול החיים'!FY4","v":"2027-12-01"},{"$f":"'מסלול החיים'!GB4","v":"2028-01-01"},{"$f":"'מסלול החיים'!GD4","v":"2028-02-01"},{"$f":"'מסלול החיים'!GF4","v":"2028-03-01"},{"$f":"'מסלול החיים'!GH4","v":"2028-04-01"},{"$f":"'מסלול החיים'!GJ4","v":"2028-05-01"},{"$f":"'מסלול החיים'!GL4","v":"2028-06-01"},{"$f":"'מסלול החיים'!GN4","v":"2028-07-01"},{"$f":"'מסלול החיים'!GP4","v":"2028-08-01"},{"$f":"'מסלול החיים'!GR4","v":"2028-09-01"},{"$f":"'מסלול החיים'!GT4","v":"2028-10-01"},{"$f":"'מסלול החיים'!GV4","v":"2028-11-01"},{"$f":"'מסלול החיים'!GX4","v":"2028-12-01"},{"$f":"'מסלול החיים'!HA4","v":"2029-01-01"},{"$f":"'מסלול החיים'!HC4","v":"2029-02-01"},{"$f":"'מסלול החיים'!HE4","v":"2029-03-01"},{"$f":"'מסלול החיים'!HG4","v":"2029-04-01"},{"$f":"'מסלול החיים'!HI4","v":"2029-05-01"},{"$f":"'מסלול החיים'!HK4","v":"2029-06-01"},{"$f":"'מסלול החיים'!HM4","v":"2029-07-01"},{"$f":"'מסלול החיים'!HO4","v":"2029-08-01"},{"$f":"'מסלול החיים'!HQ4","v":"2029-09-01"},{"$f":"'מסלול החיים'!HS4","v":"2029-10-01"},{"$f":"'מסלול החיים'!HU4","v":"2029-11-01"},{"$f":"'מסלול החיים'!HW4","v":"2029-12-01"},{"$f":"'מסלול החיים'!HZ4","v":"2030-01-01"},{"$f":"'מסלול החיים'!IB4","v":"2030-02-01"},{"$f":"'מסלול החיים'!ID4","v":"2030-03-01"},{"$f":"'מסלול החיים'!IF4","v":"2030-04-01"},{"$f":"'מסלול החיים'!IH4","v":"2030-05-01"},{"$f":"'מסלול החיים'!IJ4","v":"2030-06-01"},{"$f":"'מסלול החיים'!IL4","v":"2030-07-01"},{"$f":"'מסלול החיים'!IN4","v":"2030-08-01"},{"$f":"'מסלול החיים'!IP4","v":"2030-09-01"},{"$f":"'מסלול החיים'!IR4","v":"2030-10-01"},{"$f":"'מסלול החיים'!IT4","v":"2030-11-01"},{"$f":"'מסלול החיים'!IV4","v":"2030-12-01"}]
["2017-02-01",{"$f":"A4-A3","v":28},2,"הקלה",1,"לתמיד",null,"יתרה",{"$f":"'מסלול החיים'!I6","v":0},{"$f":"'מסלול החיים'!K6","v":0},{"$f":"'מסלול החיים'!M6","v":0},{"$f":"'מסלול החיים'!O6","v":0},{"$f":"'מסלול החיים'!Q6","v":0},{"$f":"'מסלול החיים'!S6","v":0},{"$f":"'מסלול החיים'!U6","v":0},{"$f":"'מסלול החיים'!W6","v":0},{"$f":"'מסלול החיים'!Y6","v":0},{"$f":"'מסלול החיים'!AA6","v":0},{"$f":"'מסלול החיים'!AC6","v":0},{"$f":"'מסלול החיים'!AE6","v":0},{"$f":"'מסלול החיים'!AH6","v":0},{"$f":"'מסלול החיים'!AJ6","v":0},{"$f":"'מסלול החיים'!AL6","v":0},{"$f":"'מסלול החיים'!AN6","v":0},{"$f":"'מסלול החיים'!AP6","v":0},{"$f":"'מסלול החיים'!AR6","v":0},{"$f":"'מסלול החיים'!AT6","v":0},{"$f":"'מסלול החיים'!AV6","v":0},{"$f":"'מסלול החיים'!AX6","v":0},{"$f":"'מסלול החיים'!AZ6","v":0},{"$f":"'מסלול החיים'!BB6","v":0},{"$f":"'מסלול החיים'!BD6","v":0},{"$f":"'מסלול החיים'!BG6","v":0},{"$f":"'מסלול החיים'!BI6","v":0},{"$f":"'מסלול החיים'!BK6","v":0},{"$f":"'מסלול החיים'!BM6","v":0},{"$f":"'מסלול החיים'!BO6","v":0},{"$f":"'מסלול החיים'!BQ6","v":0},{"$f":"'מסלול החיים'!BS6","v":0},{"$f":"'מסלול החיים'!BU6","v":0},{"$f":"'מסלול החיים'!BW6","v":0},{"$f":"'מסלול החיים'!BY6","v":0},{"$f":"'מסלול החיים'!CA6","v":0},{"$f":"'מסלול החיים'!CC6","v":0},{"$f":"'מסלול החיים'!CF6","v":0},{"$f":"'מסלול החיים'!CH6","v":0},{"$f":"'מסלול החיים'!CJ6","v":0},{"$f":"'מסלול החיים'!CL6","v":0},{"$f":"'מסלול החיים'!CN6","v":0},{"$f":"'מסלול החיים'!CP6","v":0},{"$f":"'מסלול החיים'!CR6","v":0},{"$f":"'מסלול החיים'!CT6","v":0},{"$f":"'מסלול החיים'!CV6","v":0},{"$f":"'מסלול החיים'!CX6","v":0},{"$f":"'מסלול החיים'!CZ6","v":0},{"$f":"'מסלול החיים'!DB6","v":0},{"$f":"'מסלול החיים'!DE6","v":0},{"$f":"'מסלול החיים'!DG6","v":0},{"$f":"'מסלול החיים'!DI6","v":0},{"$f":"'מסלול החיים'!DK6","v":0},{"$f":"'מסלול החיים'!DM6","v":0},{"$f":"'מסלול החיים'!DO6","v":0},{"$f":"'מסלול החיים'!DQ6","v":0},{"$f":"'מסלול החיים'!DS6","v":0},{"$f":"'מסלול החיים'!DU6","v":0},{"$f":"'מסלול החיים'!DW6","v":0},{"$f":"'מסלול החיים'!DY6","v":0},{"$f":"'מסלול החיים'!EA6","v":0},{"$f":"'מסלול החיים'!ED6","v":0},{"$f":"'מסלול החיים'!EF6","v":0},{"$f":"'מסלול החיים'!EH6","v":0},{"$f":"'מסלול החיים'!EJ6","v":0},{"$f":"'מסלול החיים'!EL6","v":0},{"$f":"'מסלול החיים'!EN6","v":0},{"$f":"'מסלול החיים'!EP6","v":0},{"$f":"'מסלול החיים'!ER6","v":0},{"$f":"'מסלול החיים'!ET6","v":0},{"$f":"'מסלול החיים'!EV6","v":0},{"$f":"'מסלול החיים'!EX6","v":0},{"$f":"'מסלול החיים'!EZ6","v":0},{"$f":"'מסלול החיים'!FC6","v":0},{"$f":"'מסלול החיים'!FE6","v":0},{"$f":"'מסלול החיים'!FG6","v":0},{"$f":"'מסלול החיים'!FI6","v":0},{"$f":"'מסלול החיים'!FK6","v":0},{"$f":"'מסלול החיים'!FM6","v":0},{"$f":"'מסלול החיים'!FO6","v":0},{"$f":"'מסלול החיים'!FQ6","v":0},{"$f":"'מסלול החיים'!FS6","v":0},{"$f":"'מסלול החיים'!FU6","v":0},{"$f":"'מסלול החיים'!FW6","v":0},{"$f":"'מסלול החיים'!FY6","v":0},{"$f":"'מסלול החיים'!GB6","v":0},{"$f":"'מסלול החיים'!GD6","v":0},{"$f":"'מסלול החיים'!GF6","v":0},{"$f":"'מסלול החיים'!GH6","v":0},{"$f":"'מסלול החיים'!GJ6","v":0},{"$f":"'מסלול החיים'!GL6","v":0},{"$f":"'מסלול החיים'!GN6","v":0},{"$f":"'מסלול החיים'!GP6","v":0},{"$f":"'מסלול החיים'!GR6","v":0},{"$f":"'מסלול החיים'!GT6","v":0},{"$f":"'מסלול החיים'!GV6","v":0},{"$f":"'מסלול החיים'!GX6","v":0},{"$f":"'מסלול החיים'!HA6","v":0},{"$f":"'מסלול החיים'!HC6","v":0},{"$f":"'מסלול החיים'!HE6","v":0},{"$f":"'מסלול החיים'!HG6","v":0},{"$f":"'מסלול החיים'!HI6","v":0},{"$f":"'מסלול החיים'!HK6","v":0},{"$f":"'מסלול החיים'!HM6","v":0},{"$f":"'מסלול החיים'!HO6","v":0},{"$f":"'מסלול החיים'!HQ6","v":0},{"$f":"'מסלול החיים'!HS6","v":0},{"$f":"'מסלול החיים'!HU6","v":0},{"$f":"'מסלול החיים'!HW6","v":0},{"$f":"'מסלול החיים'!HZ6","v":0},{"$f":"'מסלול החיים'!IB6","v":0},{"$f":"'מסלול החיים'!ID6","v":0},{"$f":"'מסלול החיים'!IF6","v":0},{"$f":"'מסלול החיים'!IH6","v":0},{"$f":"'מסלול החיים'!IJ6","v":0},{"$f":"'מסלול החיים'!IL6","v":0},{"$f":"'מסלול החיים'!IN6","v":0},{"$f":"'מסלול החיים'!IP6","v":0},{"$f":"'מסלול החיים'!IR6","v":0},{"$f":"'מסלול החיים'!IT6","v":0},{"$f":"'מסלול החיים'!IV6","v":0}]
["2017-03-01",{"$f":"A5-A4","v":31},3,null,null,2]
["2017-04-01",30,4,null,null,3]
["2017-05-01",31,5,null,null,4]
["2017-06-01",30,6,"רצוי (3)",null,5]
["2017-07-01",31,7,"חשוב (2)",null,6]
["2017-08-01",31,8,"בלתי נמנע (1)",null,7]
["2017-09-01",30,9,null,null,8,null," אם צריך, הגדירו עוד אירוע/ים לתיאור קבלת המימון והחזרו."]
["2017-10-01",31,10,null,null,9]
["2017-11-01",30,11,null,null,10,null," אין חריגה! כל הכבוד!"]
["2017-12-01",31,12,null,null,11,null,"מה ניתן לעשות?"]
["2018-01-01",31,13,null,null,12]
["2018-02-01",28,14,null,null,13]
["2018-03-01",31,15,null,null,14]
["2018-04-01",30,16,null,null,15]
["2018-05-01",31,17,null,null,16]
["2018-06-01",30,18,null,null,17]
["2018-07-01",31,19,null,null,18]
["2018-08-01",31,20,null,null,19]
["2018-09-01",30,21,null,null,20]
["2018-10-01",31,22,null,null,21]
["2018-11-01",30,23,null,null,22]
["2018-12-01",31,24,null,null,23]
["2019-01-01",31,25,null,null,24]
["2019-02-01",28,26,null,null,25]
["2019-03-01",31,27,null,null,26]
["2019-04-01",30,28,null,null,27]
["2019-05-01",31,29,null,null,28]
["2019-06-01",30,30,null,null,29]
["2019-07-01",31,31,null,null,30]
["2019-08-01",31,32,null,null,31]
["2019-09-01",30,33,null,null,32]
["2019-10-01",31,34,null,null,33]
["2019-11-01",30,35,null,null,34]
["2019-12-01",31,36,null,null,35]
["2020-01-01",31,37,null,null,36]
["2020-02-01",29,38,null,null,37]
["2020-03-01",31,39,null,null,38]
["2020-04-01",30,40,null,null,39]
["2020-05-01",31,41,null,null,40]
["2020-06-01",30,42,null,null,41]
["2020-07-01",31,43,null,null,42]
["2020-08-01",31,44,null,null,43]
["2020-09-01",30,45,null,null,44]
["2020-10-01",31,46,null,null,45]
["2020-11-01",30,47,null,null,46]
["2020-12-01",31,48,null,null,47]
["2021-01-01",31,49,null,null,48]
["2021-02-01",28,50,null,null,49]
["2021-03-01",31,51,null,null,50]
["2021-04-01",30,52,null,null,51]
["2021-05-01",31,53,null,null,52]
["2021-06-01",30,54,null,null,53]
["2021-07-01",31,55,null,null,54]
["2021-08-01",31,56,null,null,55]
["2021-09-01",30,57,null,null,56]
["2021-10-01",31,58,null,null,57]
["2021-11-01",30,59,null,null,58]
["2021-12-01",31,60,null,null,59]
["2022-01-01",31,61,null,null,60]
["2022-02-01",28,62,null,null,61]
["2022-03-01",31,63,null,null,62]
["2022-04-01",30,64,null,null,63]
["2022-05-01",31,65,null,null,64]
["2022-06-01",30,66,null,null,65]
["2022-07-01",{"$f":"A69-A68","v":31},67,null,null,66]
["2022-08-01",31,68,null,null,67]
["2022-09-01",30,69,null,null,68]
["2022-10-01",31,70,null,null,69]
["2022-11-01",30,71,null,null,70]
["2022-12-01",31,72,null,null,71]
["2023-01-01",31,73,null,null,72]
["2023-02-01",28,74,null,null,73]
["2023-03-01",31,75,null,null,74]
["2023-04-01",30,76,null,null,75]
["2023-05-01",31,77,null,null,76]
["2023-06-01",30,78,null,null,77]
["2023-07-01",31,79,null,null,78]
["2023-08-01",31,80,null,null,79]
["2023-09-01",30,81,null,null,80]
["2023-10-01",31,82,null,null,81]
["2023-11-01",30,83,null,null,82]
["2023-12-01",31,84,null,null,83]
["2024-01-01",31,85,null,null,84]
["2024-02-01",29,86,null,null,85]
["2024-03-01",31,87,null,null,86]
["2024-04-01",30,88,null,null,87]
["2024-05-01",31,89,null,null,88]
["2024-06-01",30,90,null,null,89]
["2024-07-01",31,91,null,null,90]
["2024-08-01",31,92,null,null,91]
["2024-09-01",30,93,null,null,92]
["2024-10-01",31,94,null,null,93]
["2024-11-01",30,95,null,null,94]
["2024-12-01",31,96,null,null,95]
["2025-01-01",31,97,null,null,96]
["2025-02-01",28,98,null,null,97]
["2025-03-01",31,99,null,null,98]
["2025-04-01",30,100,null,null,99]
["2025-05-01",31,101,null,null,100]
["2025-06-01",30,102,null,null,101]
["2025-07-01",31,103,null,null,102]
["2025-08-01",31,104,null,null,103]
["2025-09-01",30,105,null,null,104]
["2025-10-01",31,106,null,null,105]
["2025-11-01",30,107,null,null,106]
["2025-12-01",31,108,null,null,107]
["2026-01-01",31,109,null,null,108]
["2026-02-01",28,110,null,null,109]
["2026-03-01",31,111,null,null,110]
["2026-04-01",30,112,null,null,111]
["2026-05-01",31,113,null,null,112]
["2026-06-01",30,114,null,null,113]
["2026-07-01",31,115,null,null,114]
["2026-08-01",31,116,null,null,115]
["2026-09-01",30,117,null,null,116]
["2026-10-01",31,118,null,null,117]
["2026-11-01",30,119,null,null,118]
["2026-12-01",31,120,null,null,119]
["2027-01-01",31,121,null,null,120]
["2027-02-01",28,122,null,null,121]
["2027-03-01",31,123,null,null,122]
["2027-04-01",30,124,null,null,123]
["2027-05-01",31,125,null,null,124]
["2027-06-01",30,126,null,null,125]
["2027-07-01",31,127,null,null,126]
["2027-08-01",31,128,null,null,127]
["2027-09-01",30,129,null,null,128]
["2027-10-01",31,130,null,null,129]
["2027-11-01",{"$f":"A133-A132","v":30},131,null,null,130]
["2027-12-01",31,132,null,null,131]
["2028-01-01",31,133,null,null,132]
["2028-02-01",29,134,null,null,133]
["2028-03-01",31,135,null,null,134]
["2028-04-01",30,136,null,null,135]
["2028-05-01",31,137,null,null,136]
["2028-06-01",30,138,null,null,137]
["2028-07-01",31,139,null,null,138]
["2028-08-01",31,140,null,null,139]
["2028-09-01",30,141,null,null,140]
["2028-10-01",31,142,null,null,141]
["2028-11-01",30,143,null,null,142]
["2028-12-01",31,144,null,null,143]
["2029-01-01",31,145,null,null,144]
["2029-02-01",28,146,null,null,145]
["2029-03-01",31,147,null,null,146]
["2029-04-01",30,148,null,null,147]
["2029-05-01",31,149,null,null,148]
["2029-06-01",30,150,null,null,149]
["2029-07-01",31,151,null,null,150]
["2029-08-01",31,152,null,null,151]
["2029-09-01",30,153,null,null,152]
["2029-10-01",31,154,null,null,153]
["2029-11-01",30,155,null,null,154]
["2029-12-01",31,156,null,null,155]
["2030-01-01",31,157,null,null,156]
["2030-02-01",28,158,null,null,157]
["2030-03-01",31,159,null,null,158]
["2030-04-01",30,160,null,null,159]
["2030-05-01",31,161,null,null,160]
["2030-06-01",30,162,null,null,161]
["2030-07-01",31,163,null,null,162]
["2030-08-01",31,164,null,null,163]
["2030-09-01",30,165,null,null,164]
["2030-10-01",31,166,null,null,165]
["2030-11-01",30,167,null,null,166]
["2030-12-01",31,168,null,null,167]
["2031-01-01",31,169,null,null,168]
["2031-02-01",28,170,null,null,169]
["2031-03-01",31,171,null,null,170]
["2031-04-01",30,172,null,null,171]
["2031-05-01",31,173,null,null,172]
["2031-06-01",30,174,null,null,173]
["2031-07-01",31,175,null,null,174]
["2031-08-01",31,176,null,null,175]
["2031-09-01",30,177,null,null,176]
["2031-10-01",31,178,null,null,177]
["2031-11-01",30,179,null,null,178]
["2031-12-01",31,180,null,null,179]
["2032-01-01",31,181,null,null,180]
["2032-02-01",29,182,null,null,181]
["2032-03-01",31,183,null,null,182]
["2032-04-01",30,184,null,null,183]
["2032-05-01",31,185,null,null,184]
["2032-06-01",30,186,null,null,185]
["2032-07-01",31,187,null,null,186]
["2032-08-01",31,188,null,null,187]
["2032-09-01",30,189,null,null,188]
["2032-10-01",31,190,null,null,189]
["2032-11-01",30,191,null,null,190]
["2032-12-01",31,192,null,null,191]
["2033-01-01",31,193,null,null,192]
["2033-02-01",28,194,null,null,193]
["2033-03-01",{"$f":"A197-A196","v":31},195,null,null,194]
["2033-04-01",30,196,null,null,195]
["2033-05-01",31,197,null,null,196]
["2033-06-01",30,198,null,null,197]
["2033-07-01",31,199,null,null,198]
["2033-08-01",31,200,null,null,199]
["2033-09-01",30,201,null,null,200]
["2033-10-01",31,202,null,null,201]
["2033-11-01",30,203,null,null,202]
["2033-12-01",31,204,null,null,203]
["2034-01-01",31,205,null,null,204]
["2034-02-01",28,206,null,null,205]
["2034-03-01",31,207,null,null,206]
["2034-04-01",30,208,null,null,207]
["2034-05-01",31,209,null,null,208]
["2034-06-01",30,210,null,null,209]
["2034-07-01",31,211,null,null,210]
["2034-08-01",31,212,null,null,211]
["2034-09-01",30,213,null,null,212]
["2034-10-01",31,214,null,null,213]
["2034-11-01",30,215,null,null,214]
["2034-12-01",31,216,null,null,215]
["2035-01-01",31,217,null,null,216]
["2035-02-01",28,218,null,null,217]
["2035-03-01",31,219,null,null,218]
["2035-04-01",30,220,null,null,219]
["2035-05-01",31,221,null,null,220]
["2035-06-01",30,222,null,null,221]
["2035-07-01",31,223,null,null,222]
["2035-08-01",31,224,null,null,223]
["2035-09-01",30,225,null,null,224]
["2035-10-01",31,226,null,null,225]
["2035-11-01",30,227,null,null,226]
["2035-12-01",31,228,null,null,227]
["2036-01-01",31,229,null,null,228]
["2036-02-01",29,230,null,null,229]
["2036-03-01",31,231,null,null,230]
["2036-04-01",30,232,null,null,231]
["2036-05-01",31,233,null,null,232]
["2036-06-01",30,234,null,null,233]
["2036-07-01",31,235,null,null,234]
["2036-08-01",31,236,null,null,235]
["2036-09-01",30,237,null,null,236]
["2036-10-01",31,238,null,null,237]
["2036-11-01",30,239,null,null,238]
["2036-12-01",31,240,null,null,239]
["2037-01-01",31,241,null,null,240]
["2037-02-01",28,242,null,null,241]
["2037-03-01",31,243,null,null,242]
["2037-04-01",30,244,null,null,243]
["2037-05-01",31,245,null,null,244]
["2037-06-01",30,246,null,null,245]
["2037-07-01",31,247,null,null,246]
["2037-08-01",31,248,null,null,247]
["2037-09-01",30,249,null,null,248]
["2037-10-01",31,250,null,null,249]
["2037-11-01",30,251,null,null,250]
["2037-12-01",31,252,null,null,251]
["2038-01-01",31,253,null,null,252]
["2038-02-01",28,254,null,null,253]
["2038-03-01",31,255,null,null,254]
["2038-04-01",30,256,null,null,255]
["2038-05-01",31,257,null,null,256]
["2038-06-01",30,258,null,null,257]
["2038-07-01",{"$f":"A261-A260","v":31},259,null,null,258]
["2038-08-01",31,260,null,null,259]
["2038-09-01",30,261,null,null,260]
["2038-10-01",31,262,null,null,261]
["2038-11-01",30,263,null,null,262]
["2038-12-01",31,264,null,null,263]
["2039-01-01",31,265,null,null,264]
["2039-02-01",28,266,null,null,265]
["2039-03-01",31,267,null,null,266]
["2039-04-01",30,268,null,null,267]
["2039-05-01",31,269,null,null,268]
["2039-06-01",30,270,null,null,269]
["2039-07-01",31,271,null,null,270]
["2039-08-01",31,272,null,null,271]
["2039-09-01",30,273,null,null,272]
["2039-10-01",31,274,null,null,273]
["2039-11-01",30,275,null,null,274]
["2039-12-01",31,276,null,null,275]
["2040-01-01",31,277,null,null,276]
["2040-02-01",29,278,null,null,277]
["2040-03-01",31,279,null,null,278]
["2040-04-01",30,280,null,null,279]
["2040-05-01",31,281,null,null,280]
["2040-06-01",30,282,null,null,281]
["2040-07-01",31,283,null,null,282]
["2040-08-01",31,284,null,null,283]
["2040-09-01",30,285,null,null,284]
["2040-10-01",31,286,null,null,285]
["2040-11-01",30,287,null,null,286]
["2040-12-01",31,288,null,null,287]
["2041-01-01",31,289,null,null,288]
["2041-02-01",28,290,null,null,289]
["2041-03-01",31,291,null,null,290]
["2041-04-01",30,292,null,null,291]
["2041-05-01",31,293,null,null,292]
["2041-06-01",30,294,null,null,293]
["2041-07-01",31,295,null,null,294]
["2041-08-01",31,296,null,null,295]
["2041-09-01",30,297,null,null,296]
["2041-10-01",31,298,null,null,297]
["2041-11-01",30,299,null,null,298]
["2041-12-01",31,300,null,null,299]
["2042-01-01",31,301,null,null,300]
["2042-02-01",28,302,null,null,301]
["2042-03-01",31,303,null,null,302]
["2042-04-01",30,304,null,null,303]
["2042-05-01",31,305,null,null,304]
["2042-06-01",30,306,null,null,305]
["2042-07-01",31,307,null,null,306]
["2042-08-01",31,308,null,null,307]
["2042-09-01",30,309,null,null,308]
["2042-10-01",31,310,null,null,309]
["2042-11-01",30,311,null,null,310]
["2042-12-01",31,312,null,null,311]
["2043-01-01",31,313,null,null,312]
["2043-02-01",28,314,null,null,313]
["2043-03-01",31,315,null,null,314]
["2043-04-01",30,316,null,null,315]
["2043-05-01",31,317,null,null,316]
["2043-06-01",30,318,null,null,317]
["2043-07-01",31,319,null,null,318]
["2043-08-01",31,320,null,null,319]
["2043-09-01",30,321,null,null,320]
["2043-10-01",31,322,null,null,321]
["2043-11-01",{"$f":"A325-A324","v":30},323,null,null,322]
["2043-12-01",31,324,null,null,323]
["2044-01-01",31,325,null,null,324]
["2044-02-01",29,326,null,null,325]
["2044-03-01",31,327,null,null,326]
["2044-04-01",30,328,null,null,327]
["2044-05-01",31,329,null,null,328]
["2044-06-01",30,330,null,null,329]
["2044-07-01",31,331,null,null,330]
["2044-08-01",31,332,null,null,331]
["2044-09-01",30,333,null,null,332]
["2044-10-01",31,334,null,null,333]
["2044-11-01",30,335,null,null,334]
["2044-12-01",31,336,null,null,335]
["2045-01-01",31,337,null,null,336]
["2045-02-01",28,338,null,null,337]
["2045-03-01",31,339,null,null,338]
["2045-04-01",30,340,null,null,339]
["2045-05-01",31,341,null,null,340]
["2045-06-01",30,342,null,null,341]
["2045-07-01",31,343,null,null,342]
["2045-08-01",31,344,null,null,343]
["2045-09-01",30,345,null,null,344]
["2045-10-01",31,346,null,null,345]
["2045-11-01",30,347,null,null,346]
["2045-12-01",31,348,null,null,347]
["2046-01-01",31,349,null,null,348]
["2046-02-01",28,350,null,null,349]
["2046-03-01",31,351,null,null,350]
["2046-04-01",30,352,null,null,351]
["2046-05-01",31,353,null,null,352]
["2046-06-01",30,354,null,null,353]
["2046-07-01",31,355,null,null,354]
["2046-08-01",31,356,null,null,355]
["2046-09-01",30,357,null,null,356]
["2046-10-01",31,358,null,null,357]
["2046-11-01",30,359,null,null,358]
["2046-12-01",31,360,null,null,359]
["2047-01-01",31,361,null,null,360]
["2047-02-01",28,362,null,null,361]
["2047-03-01",31,363,null,null,362]
["2047-04-01",30,364,null,null,363]
["2047-05-01",31,365,null,null,364]
["2047-06-01",30,366,null,null,365]
["2047-07-01",31,367,null,null,366]
["2047-08-01",31,368,null,null,367]
["2047-09-01",30,369,null,null,368]
["2047-10-01",31,370,null,null,369]
["2047-11-01",30,371,null,null,370]
["2047-12-01",31,372,null,null,371]
["2048-01-01",31,373,null,null,372]
["2048-02-01",29,374,null,null,373]
["2048-03-01",31,375,null,null,374]
["2048-04-01",30,376,null,null,375]
["2048-05-01",31,377,null,null,376]
["2048-06-01",30,378,null,null,377]
["2048-07-01",31,379,null,null,378]
["2048-08-01",31,380,null,null,379]
["2048-09-01",30,381,null,null,380]
["2048-10-01",31,382,null,null,381]
["2048-11-01",30,383,null,null,382]
["2048-12-01",31,384,null,null,383]
["2049-01-01",31,385,null,null,384]
["2049-02-01",28,386,null,null,385]
["2049-03-01",{"$f":"A389-A388","v":31},387,null,null,386]
["2049-04-01",30,388,null,null,387]
["2049-05-01",31,389,null,null,388]
["2049-06-01",30,390,null,null,389]
["2049-07-01",31,391,null,null,390]
["2049-08-01",31,392,null,null,391]
["2049-09-01",30,393,null,null,392]
["2049-10-01",31,394,null,null,393]
["2049-11-01",30,395,null,null,394]
["2049-12-01",31,396,null,null,395]
["2050-01-01",31,397,null,null,396]
["2050-02-01",28,398,null,null,397]
["2050-03-01",31,399,null,null,398]
["2050-04-01",30,400,null,null,399]
["2050-05-01",31,401,null,null,400]
["2050-06-01",30,402,null,null,401]
["2050-07-01",31,403,null,null,402]
["2050-08-01",31,404,null,null,403]
["2050-09-01",30,405,null,null,404]
["2050-10-01",31,406,null,null,405]
["2050-11-01",30,407,null,null,406]
["2050-12-01",31,408,null,null,407]
["2051-01-01",31,409,null,null,408]
["2051-02-01",28,410,null,null,409]
["2051-03-01",31,411,null,null,410]
["2051-04-01",30,412,null,null,411]
["2051-05-01",31,413,null,null,412]
["2051-06-01",30,414,null,null,413]
["2051-07-01",31,415,null,null,414]
["2051-08-01",31,416,null,null,415]
["2051-09-01",30,417,null,null,416]
["2051-10-01",31,418,null,null,417]
["2051-11-01",30,419,null,null,418]
["2051-12-01",31,420,null,null,419]
["2052-01-01",31,421,null,null,420]
["2052-02-01",29,422,null,null,421]
["2052-03-01",31,423,null,null,422]
["2052-04-01",30,424,null,null,423]
["2052-05-01",31,425,null,null,424]
["2052-06-01",30,426,null,null,425]
["2052-07-01",31,427,null,null,426]
["2052-08-01",31,428,null,null,427]
["2052-09-01",30,429,null,null,428]
["2052-10-01",31,430,null,null,429]
["2052-11-01",30,431,null,null,430]
["2052-12-01",31,432,null,null,431]
["2053-01-01",31,433,null,null,432]
["2053-02-01",28,434,null,null,433]
["2053-03-01",31,435,null,null,434]
["2053-04-01",30,436,null,null,435]
["2053-05-01",31,437,null,null,436]
["2053-06-01",30,438,null,null,437]
["2053-07-01",31,439,null,null,438]
["2053-08-01",31,440,null,null,439]
["2053-09-01",30,441,null,null,440]
["2053-10-01",31,442,null,null,441]
["2053-11-01",30,443,null,null,442]
["2053-12-01",31,444,null,null,443]
["2054-01-01",31,445,null,null,444]
["2054-02-01",28,446,null,null,445]
["2054-03-01",31,447,null,null,446]
["2054-04-01",30,448,null,null,447]
["2054-05-01",31,449,null,null,448]
["2054-06-01",30,450,null,null,449]
["2054-07-01",{"$f":"A453-A452","v":31},451,null,null,450]
["2054-08-01",31,452,null,null,451]
["2054-09-01",30,453,null,null,452]
["2054-10-01",31,454,null,null,453]
["2054-11-01",30,455,null,null,454]
["2054-12-01",31,456,null,null,455]
["2055-01-01",31,457,null,null,456]
["2055-02-01",28,458,null,null,457]
["2055-03-01",31,459,null,null,458]
["2055-04-01",30,460,null,null,459]
["2055-05-01",31,461,null,null,460]
["2055-06-01",30,462,null,null,461]
["2055-07-01",31,463,null,null,462]
["2055-08-01",31,464,null,null,463]
["2055-09-01",30,465,null,null,464]
["2055-10-01",31,466,null,null,465]
["2055-11-01",30,467,null,null,466]
["2055-12-01",31,468,null,null,467]
["2056-01-01",31,469,null,null,468]
["2056-02-01",29,470,null,null,469]
["2056-03-01",31,471,null,null,470]
["2056-04-01",30,472,null,null,471]
["2056-05-01",31,473,null,null,472]
["2056-06-01",30,474,null,null,473]
["2056-07-01",31,475,null,null,474]
["2056-08-01",31,476,null,null,475]
["2056-09-01",30,477,null,null,476]
["2056-10-01",31,478,null,null,477]
["2056-11-01",30,479,null,null,478]
["2056-12-01",31,480,null,null,479]
["2057-01-01",31,481,null,null,480]
["2057-02-01",28,482,null,null,481]
["2057-03-01",31,483,null,null,482]
["2057-04-01",30,484,null,null,483]
["2057-05-01",31,485,null,null,484]
["2057-06-01",30,486,null,null,485]
["2057-07-01",31,487,null,null,486]
["2057-08-01",31,488,null,null,487]
["2057-09-01",30,489,null,null,488]
["2057-10-01",31,490,null,null,489]
["2057-11-01",30,491,null,null,490]
["2057-12-01",31,492,null,null,491]
["2058-01-01",31,493,null,null,492]
["2058-02-01",28,494,null,null,493]
["2058-03-01",31,495,null,null,494]
["2058-04-01",30,496,null,null,495]
["2058-05-01",31,497,null,null,496]
["2058-06-01",30,498,null,null,497]
["2058-07-01",31,499,null,null,498]
["2058-08-01",31,500,null,null,499]
["2058-09-01",30,501,null,null,500]
["2058-10-01",31,502,null,null,501]
["2058-11-01",30,503,null,null,502]
["2058-12-01",31,504,null,null,503]
["2059-01-01",31,505,null,null,504]
["2059-02-01",28,506,null,null,505]
["2059-03-01",31,507,null,null,506]
["2059-04-01",30,508,null,null,507]
["2059-05-01",31,509,null,null,508]
["2059-06-01",30,510,null,null,509]
["2059-07-01",31,511,null,null,510]
["2059-08-01",31,512,null,null,511]
["2059-09-01",30,513,null,null,512]
["2059-10-01",31,514,null,null,513]
["2059-11-01",{"$f":"A517-A516","v":30},515,null,null,514]
["2059-12-01",31,516,null,null,515]
["2060-01-01",31,517,null,null,516]
["2060-02-01",29,518,null,null,517]
["2060-03-01",31,519,null,null,518]
["2060-04-01",30,520,null,null,519]
["2060-05-01",31,521,null,null,520]
["2060-06-01",30,522,null,null,521]
["2060-07-01",31,523,null,null,522]
["2060-08-01",31,524,null,null,523]
["2060-09-01",30,525,null,null,524]
["2060-10-01",31,526,null,null,525]
["2060-11-01",30,527,null,null,526]
["2060-12-01",31,528,null,null,527]
["2061-01-01",31,529,null,null,528]
["2061-02-01",28,530,null,null,529]
["2061-03-01",31,531,null,null,530]
["2061-04-01",30,532,null,null,531]
["2061-05-01",31,533,null,null,532]
["2061-06-01",30,534,null,null,533]
["2061-07-01",31,535,null,null,534]
["2061-08-01",31,536,null,null,535]
["2061-09-01",30,537,null,null,536]
["2061-10-01",31,538,null,null,537]
["2061-11-01",30,539,null,null,538]
["2061-12-01",31,540,null,null,539]
["2062-01-01",31,541,null,null,540]
["2062-02-01",28,542,null,null,541]
["2062-03-01",31,543,null,null,542]
["2062-04-01",30,544,null,null,543]
["2062-05-01",31,545,null,null,544]
["2062-06-01",30,546,null,null,545]
["2062-07-01",31,547,null,null,546]
["2062-08-01",31,548,null,null,547]
["2062-09-01",30,549,null,null,548]
["2062-10-01",31,550,null,null,549]
["2062-11-01",30,551,null,null,550]
["2062-12-01",31,552,null,null,551]
["2063-01-01",31,553,null,null,552]
["2063-02-01",28,554,null,null,553]
["2063-03-01",31,555,null,null,554]
["2063-04-01",30,556,null,null,555]
["2063-05-01",31,557,null,null,556]
["2063-06-01",30,558,null,null,557]
["2063-07-01",31,559,null,null,558]
["2063-08-01",31,560,null,null,559]
["2063-09-01",30,561,null,null,560]
["2063-10-01",31,562,null,null,561]
["2063-11-01",30,563,null,null,562]
["2063-12-01",31,564,null,null,563]
["2064-01-01",31,565,null,null,564]
["2064-02-01",29,566,null,null,565]
["2064-03-01",31,567,null,null,566]
["2064-04-01",30,568,null,null,567]
["2064-05-01",31,569,null,null,568]
["2064-06-01",30,570,null,null,569]
["2064-07-01",31,571,null,null,570]
["2064-08-01",31,572,null,null,571]
["2064-09-01",30,573,null,null,572]
["2064-10-01",31,574,null,null,573]
["2064-11-01",30,575,null,null,574]
["2064-12-01",31,576,null,null,575]
["2065-01-01",31,577,null,null,576]
["2065-02-01",28,578,null,null,577]
["2065-03-01",{"$f":"A581-A580","v":31},579,null,null,578]
["2065-04-01",30,580,null,null,579]
["2065-05-01",31,581,null,null,580]
["2065-06-01",30,582,null,null,581]
["2065-07-01",31,583,null,null,582]
["2065-08-01",31,584,null,null,583]
["2065-09-01",30,585,null,null,584]
["2065-10-01",31,586,null,null,585]
["2065-11-01",30,587,null,null,586]
["2065-12-01",31,588,null,null,587]
["2066-01-01",31,589,null,null,588]
["2066-02-01",28,590,null,null,589]
["2066-03-01",31,591,null,null,590]
["2066-04-01",30,592,null,null,591]
["2066-05-01",31,593,null,null,592]
["2066-06-01",30,594,null,null,593]
["2066-07-01",31,595,null,null,594]
["2066-08-01",31,596,null,null,595]
["2066-09-01",30,597,null,null,596]
["2066-10-01",31,598,null,null,597]
["2066-11-01",30,599,null,null,598]
["2066-12-01",31,600,null,null,599]
["2067-01-01",31,601,null,null,600]
["2067-02-01",28,602,null,null,601]
["2067-03-01",31,603,null,null,602]
["2067-04-01",30,604,null,null,603]
["2067-05-01",31,605,null,null,604]
["2067-06-01",30,606,null,null,605]
["2067-07-01",31,607,null,null,606]
["2067-08-01",31,608,null,null,607]
["2067-09-01",30,609,null,null,608]
["2067-10-01",31,610,null,null,609]
["2067-11-01",30,611,null,null,610]
["2067-12-01",31,612,null,null,611]
["2068-01-01",31,613,null,null,612]
["2068-02-01",29,614,null,null,613]
["2068-03-01",31,615,null,null,614]
["2068-04-01",30,616,null,null,615]
["2068-05-01",31,617,null,null,616]
["2068-06-01",30,618,null,null,617]
["2068-07-01",31,619,null,null,618]
["2068-08-01",31,620,null,null,619]
["2068-09-01",30,621,null,null,620]
["2068-10-01",31,622,null,null,621]
["2068-11-01",30,623,null,null,622]
["2068-12-01",31,624,null,null,623]
["2069-01-01",31,625,null,null,624]
["2069-02-01",28,626,null,null,625]
["2069-03-01",31,627,null,null,626]
["2069-04-01",30,628,null,null,627]
["2069-05-01",31,629,null,null,628]
["2069-06-01",30,630,null,null,629]
["2069-07-01",31,631,null,null,630]
["2069-08-01",31,632,null,null,631]
["2069-09-01",30,633,null,null,632]
["2069-10-01",31,634,null,null,633]
["2069-11-01",30,635,null,null,634]
["2069-12-01",31,636,null,null,635]
["2070-01-01",31,637,null,null,636]
["2070-02-01",28,638,null,null,637]
["2070-03-01",31,639,null,null,638]
["2070-04-01",30,640,null,null,639]
["2070-05-01",31,641,null,null,640]
["2070-06-01",30,642,null,null,641]
["2070-07-01",{"$f":"A645-A644","v":31},643,null,null,642]
["2070-08-01",31,644,null,null,643]
["2070-09-01",30,645,null,null,644]
["2070-10-01",31,646,null,null,645]
["2070-11-01",30,647,null,null,646]
["2070-12-01",31,648,null,null,647]
["2071-01-01",31,649,null,null,648]
["2071-02-01",28,650,null,null,649]
["2071-03-01",31,651,null,null,650]
["2071-04-01",30,652,null,null,651]
["2071-05-01",31,653,null,null,652]
["2071-06-01",30,654,null,null,653]
["2071-07-01",31,655,null,null,654]
["2071-08-01",31,656,null,null,655]
["2071-09-01",30,657,null,null,656]
["2071-10-01",31,658,null,null,657]
["2071-11-01",30,659,null,null,658]
["2071-12-01",31,660,null,null,659]
["2072-01-01",31,661,null,null,660]
["2072-02-01",29,662,null,null,661]
["2072-03-01",31,663,null,null,662]
["2072-04-01",30,664,null,null,663]
["2072-05-01",31,665,null,null,664]
["2072-06-01",30,666,null,null,665]
["2072-07-01",31,667,null,null,666]
["2072-08-01",31,668,null,null,667]
["2072-09-01",30,669,null,null,668]
["2072-10-01",31,670,null,null,669]
["2072-11-01",30,671,null,null,670]
["2072-12-01",31,672,null,null,671]
["2073-01-01",31,673,null,null,672]
["2073-02-01",28,674,null,null,673]
["2073-03-01",31,675,null,null,674]
["2073-04-01",30,676,null,null,675]
["2073-05-01",31,677,null,null,676]
["2073-06-01",30,678,null,null,677]
["2073-07-01",31,679,null,null,678]
["2073-08-01",31,680,null,null,679]
["2073-09-01",30,681,null,null,680]
["2073-10-01",31,682,null,null,681]
["2073-11-01",30,683,null,null,682]
["2073-12-01",31,684,null,null,683]
["2074-01-01",31,685,null,null,684]
["2074-02-01",28,686,null,null,685]
["2074-03-01",31,687,null,null,686]
["2074-04-01",30,688,null,null,687]
["2074-05-01",31,689,null,null,688]
["2074-06-01",30,690,null,null,689]
["2074-07-01",31,691,null,null,690]
["2074-08-01",31,692,null,null,691]
["2074-09-01",30,693,null,null,692]
["2074-10-01",31,694,null,null,693]
["2074-11-01",30,695,null,null,694]
["2074-12-01",31,696,null,null,695]
["2075-01-01",31,697,null,null,696]
["2075-02-01",28,698,null,null,697]
["2075-03-01",31,699,null,null,698]
["2075-04-01",30,700,null,null,699]
["2075-05-01",31,701,null,null,700]
["2075-06-01",30,702,null,null,701]
["2075-07-01",31,703,null,null,702]
["2075-08-01",31,704,null,null,703]
["2075-09-01",30,705,null,null,704]
["2075-10-01",31,706,null,null,705]
["2075-11-01",{"$f":"A709-A708","v":30},707,null,null,706]
["2075-12-01",31,708,null,null,707]
["2076-01-01",31,709,null,null,708]
["2076-02-01",29,710,null,null,709]
["2076-03-01",31,711,null,null,710]
["2076-04-01",30,712,null,null,711]
["2076-05-01",31,713,null,null,712]
["2076-06-01",30,714,null,null,713]
["2076-07-01",31,715,null,null,714]
["2076-08-01",31,716,null,null,715]
["2076-09-01",30,717,null,null,716]
["2076-10-01",31,718,null,null,717]
["2076-11-01",30,719,null,null,718]
["2076-12-01",31,720,null,null,719]
["2077-01-01",31,721,null,null,720]
["2077-02-01",28,722,null,null,721]
["2077-03-01",31,723,null,null,722]
["2077-04-01",30,724,null,null,723]
["2077-05-01",31,725,null,null,724]
["2077-06-01",30,726,null,null,725]
["2077-07-01",31,727,null,null,726]
["2077-08-01",31,728,null,null,727]
["2077-09-01",30,729,null,null,728]
["2077-10-01",31,730,null,null,729]
["2077-11-01",30,731,null,null,730]
["2077-12-01",31,732,null,null,731]
["2078-01-01",31,733,null,null,732]
["2078-02-01",28,734,null,null,733]
["2078-03-01",31,735,null,null,734]
["2078-04-01",30,736,null,null,735]
["2078-05-01",31,737,null,null,736]
["2078-06-01",30,738,null,null,737]
["2078-07-01",31,739,null,null,738]
["2078-08-01",31,740,null,null,739]
["2078-09-01",30,741,null,null,740]
["2078-10-01",31,742,null,null,741]
["2078-11-01",30,743,null,null,742]
["2078-12-01",31,744,null,null,743]
["2079-01-01",31,745,null,null,744]
["2079-02-01",28,746,null,null,745]
["2079-03-01",31,747,null,null,746]
["2079-04-01",30,748,null,null,747]
["2079-05-01",31,749,null,null,748]
["2079-06-01",30,750,null,null,749]
["2079-07-01",31,751,null,null,750]
["2079-08-01",31,752,null,null,751]
["2079-09-01",30,753,null,null,752]
["2079-10-01",31,754,null,null,753]
["2079-11-01",30,755,null,null,754]
["2079-12-01",31,756,null,null,755]
["2080-01-01",31,757,null,null,756]
["2080-02-01",29,758,null,null,757]
["2080-03-01",31,759,null,null,758]
["2080-04-01",30,760,null,null,759]
["2080-05-01",31,761,null,null,760]
["2080-06-01",30,762,null,null,761]
["2080-07-01",31,763,null,null,762]
["2080-08-01",31,764,null,null,763]
["2080-09-01",30,765,null,null,764]
["2080-10-01",31,766,null,null,765]
["2080-11-01",30,767,null,null,766]
["2080-12-01",31,768,null,null,767]
["2081-01-01",31,769,null,null,768]
["2081-02-01",28,770,null,null,769]
["2081-03-01",{"$f":"A773-A772","v":31},771,null,null,770]
["2081-04-01",30,772,null,null,771]
["2081-05-01",31,773,null,null,772]
["2081-06-01",30,774,null,null,773]
["2081-07-01",31,775,null,null,774]
["2081-08-01",31,776,null,null,775]
["2081-09-01",30,777,null,null,776]
["2081-10-01",31,778,null,null,777]
["2081-11-01",30,779,null,null,778]
["2081-12-01",31,780,null,null,779]
["2082-01-01",31,781,null,null,780]
["2082-02-01",28,782,null,null,781]
["2082-03-01",31,783,null,null,782]
["2082-04-01",30,784,null,null,783]
["2082-05-01",31,785,null,null,784]
["2082-06-01",30,786,null,null,785]
["2082-07-01",31,787,null,null,786]
["2082-08-01",31,788,null,null,787]
["2082-09-01",30,789,null,null,788]
["2082-10-01",31,790,null,null,789]
["2082-11-01",30,791,null,null,790]
["2082-12-01",31,792,null,null,791]
["2083-01-01",31,793,null,null,792]
["2083-02-01",28,794,null,null,793]
["2083-03-01",31,795,null,null,794]
["2083-04-01",30,796,null,null,795]
["2083-05-01",31,797,null,null,796]
["2083-06-01",30,798,null,null,797]
["2083-07-01",31,799,null,null,798]
["2083-08-01",31,800,null,null,799]
["2083-09-01",30,801,null,null,800]
["2083-10-01",31,802,null,null,801]
["2083-11-01",30,803,null,null,802]
["2083-12-01",31,804,null,null,803]
["2084-01-01",31,805,null,null,804]
["2084-02-01",29,806,null,null,805]
["2084-03-01",31,807,null,null,806]
["2084-04-01",30,808,null,null,807]
["2084-05-01",31,809,null,null,808]
["2084-06-01",30,810,null,null,809]
["2084-07-01",31,811,null,null,810]
["2084-08-01",31,812,null,null,811]
["2084-09-01",30,813,null,null,812]
["2084-10-01",31,814,null,null,813]
["2084-11-01",30,815,null,null,814]
["2084-12-01",31,816,null,null,815]
["2085-01-01",31,817,null,null,816]
["2085-02-01",28,818,null,null,817]
["2085-03-01",31,819,null,null,818]
["2085-04-01",30,820,null,null,819]
["2085-05-01",31,821,null,null,820]
["2085-06-01",30,822,null,null,821]
["2085-07-01",31,823,null,null,822]
["2085-08-01",31,824,null,null,823]
["2085-09-01",30,825,null,null,824]
["2085-10-01",31,826,null,null,825]
["2085-11-01",30,827,null,null,826]
["2085-12-01",31,828,null,null,827]
["2086-01-01",31,829,null,null,828]
["2086-02-01",28,830,null,null,829]
["2086-03-01",31,831,null,null,830]
["2086-04-01",30,832,null,null,831]
["2086-05-01",31,833,null,null,832]
["2086-06-01",30,834,null,null,833]
["2086-07-01",{"$f":"A837-A836","v":31},835,null,null,834]
["2086-08-01",31,836,null,null,835]
["2086-09-01",30,837,null,null,836]
["2086-10-01",31,838,null,null,837]
["2086-11-01",30,839,null,null,838]
["2086-12-01",31,840,null,null,839]
["2087-01-01",31,841,null,null,840]
["2087-02-01",28,842,null,null,841]
["2087-03-01",31,843,null,null,842]
["2087-04-01",30,844,null,null,843]
["2087-05-01",31,845,null,null,844]
["2087-06-01",30,846,null,null,845]
["2087-07-01",31,847,null,null,846]
["2087-08-01",31,848,null,null,847]
["2087-09-01",30,849,null,null,848]
["2087-10-01",31,850,null,null,849]
["2087-11-01",30,851,null,null,850]
["2087-12-01",31,852,null,null,851]
["2088-01-01",31,853,null,null,852]
["2088-02-01",29,854,null,null,853]
["2088-03-01",31,855,null,null,854]
["2088-04-01",30,856,null,null,855]
["2088-05-01",31,857,null,null,856]
["2088-06-01",30,858,null,null,857]
["2088-07-01",31,859,null,null,858]
["2088-08-01",31,860,null,null,859]
["2088-09-01",30,861,null,null,860]
["2088-10-01",31,862,null,null,861]
["2088-11-01",30,863,null,null,862]
["2088-12-01",31,864,null,null,863]
["2089-01-01",31,865,null,null,864]
["2089-02-01",28,866,null,null,865]
["2089-03-01",31,867,null,null,866]
["2089-04-01",30,868,null,null,867]
["2089-05-01",31,869,null,null,868]
["2089-06-01",30,870,null,null,869]
["2089-07-01",31,871,null,null,870]
["2089-08-01",31,872,null,null,871]
["2089-09-01",30,873,null,null,872]
["2089-10-01",31,874,null,null,873]
["2089-11-01",30,875,null,null,874]
["2089-12-01",31,876,null,null,875]
["2090-01-01",31,877,null,null,876]
["2090-02-01",28,878,null,null,877]
["2090-03-01",31,879,null,null,878]
["2090-04-01",30,880,null,null,879]
["2090-05-01",31,881,null,null,880]
["2090-06-01",30,882,null,null,881]
["2090-07-01",31,883,null,null,882]
["2090-08-01",31,884,null,null,883]
["2090-09-01",30,885,null,null,884]
["2090-10-01",31,886,null,null,885]
["2090-11-01",30,887,null,null,886]
["2090-12-01",31,888,null,null,887]
["2091-01-01",31,889,null,null,888]
["2091-02-01",28,890,null,null,889]
["2091-03-01",31,891,null,null,890]
["2091-04-01",30,892,null,null,891]
["2091-05-01",31,893,null,null,892]
["2091-06-01",30,894,null,null,893]
["2091-07-01",31,895,null,null,894]
["2091-08-01",31,896,null,null,895]
["2091-09-01",30,897,null,null,896]
["2091-10-01",31,898,null,null,897]
["2091-11-01",{"$f":"A901-A900","v":30},899,null,null,898]
["2091-12-01",31,900,null,null,899]
["2092-01-01",31,901,null,null,900]
["2092-02-01",29,902,null,null,901]
["2092-03-01",31,903,null,null,902]
["2092-04-01",30,904,null,null,903]
["2092-05-01",31,905,null,null,904]
["2092-06-01",30,906,null,null,905]
["2092-07-01",31,907,null,null,906]
["2092-08-01",31,908,null,null,907]
["2092-09-01",30,909,null,null,908]
["2092-10-01",31,910,null,null,909]
["2092-11-01",30,911,null,null,910]
["2092-12-01",31,912,null,null,911]
["2093-01-01",31,913,null,null,912]
["2093-02-01",28,914,null,null,913]
["2093-03-01",31,915,null,null,914]
["2093-04-01",30,916,null,null,915]
["2093-05-01",31,917,null,null,916]
["2093-06-01",30,918,null,null,917]
["2093-07-01",31,919,null,null,918]
["2093-08-01",31,920,null,null,919]
["2093-09-01",30,921,null,null,920]
["2093-10-01",31,922,null,null,921]
["2093-11-01",30,923,null,null,922]
["2093-12-01",31,924,null,null,923]
["2094-01-01",31,925,null,null,924]
["2094-02-01",28,926,null,null,925]
["2094-03-01",31,927,null,null,926]
["2094-04-01",30,928,null,null,927]
["2094-05-01",31,929,null,null,928]
["2094-06-01",30,930,null,null,929]
["2094-07-01",31,931,null,null,930]
["2094-08-01",31,932,null,null,931]
["2094-09-01",30,933,null,null,932]
["2094-10-01",31,934,null,null,933]
["2094-11-01",30,935,null,null,934]
["2094-12-01",31,936,null,null,935]
["2095-01-01",31,937,null,null,936]
["2095-02-01",28,938,null,null,937]
["2095-03-01",31,939,null,null,938]
["2095-04-01",30,940,null,null,939]
["2095-05-01",31,941,null,null,940]
["2095-06-01",30,942,null,null,941]
["2095-07-01",31,943,null,null,942]
["2095-08-01",31,944,null,null,943]
["2095-09-01",30,945,null,null,944]
["2095-10-01",31,946,null,null,945]
["2095-11-01",30,947,null,null,946]
["2095-12-01",31,948,null,null,947]
["2096-01-01",31,949,null,null,948]
["2096-02-01",29,950,null,null,949]
["2096-03-01",31,951,null,null,950]
["2096-04-01",30,952,null,null,951]
["2096-05-01",31,953,null,null,952]
["2096-06-01",30,954,null,null,953]
["2096-07-01",31,955,null,null,954]
["2096-08-01",31,956,null,null,955]
["2096-09-01",30,957,null,null,956]
["2096-10-01",31,958,null,null,957]
["2096-11-01",30,959,null,null,958]
["2096-12-01",31,960,null,null,959]
["2097-01-01",31,961,null,null,960]
["2097-02-01",28,962,null,null,961]
["2097-03-01",{"$f":"A965-A964","v":31},963,null,null,962]
["2097-04-01",30,964,null,null,963]
["2097-05-01",31,965,null,null,964]
["2097-06-01",30,966,null,null,965]
["2097-07-01",31,967,null,null,966]
["2097-08-01",31,968,null,null,967]
["2097-09-01",30,969,null,null,968]
["2097-10-01",31,970,null,null,969]
["2097-11-01",30,971,null,null,970]
["2097-12-01",31,972,null,null,971]
["2098-01-01",31,973,null,null,972]
["2098-02-01",28,974,null,null,973]
["2098-03-01",31,975,null,null,974]
["2098-04-01",30,976,null,null,975]
["2098-05-01",31,977,null,null,976]
["2098-06-01",30,978,null,null,977]
["2098-07-01",31,979,null,null,978]
["2098-08-01",31,980,null,null,979]
["2098-09-01",30,981,null,null,980]
["2098-10-01",31,982,null,null,981]
["2098-11-01",30,983,null,null,982]
["2098-12-01",31,984,null,null,983]
["2099-01-01",31,985,null,null,984]
["2099-02-01",28,986,null,null,985]
["2099-03-01",31,987,null,null,986]
["2099-04-01",30,988,null,null,987]
["2099-05-01",31,989,null,null,988]
["2099-06-01",30,990,null,null,989]
["2099-07-01",31,991,null,null,990]
["2099-08-01",31,992,null,null,991]
["2099-09-01",30,993,null,null,992]
["2099-10-01",31,994,null,null,993]
["2099-11-01",30,995,null,null,994]
["2099-12-01",31,996,null,null,995]
[null,null,null,null,null,996]